BEGIN:VCALENDAR
VERSION:2.0
PRODID:-//FRAVM - ECPv6.15.20//NONSGML v1.0//EN
CALSCALE:GREGORIAN
METHOD:PUBLISH
X-WR-CALNAME:FRAVM
X-ORIGINAL-URL:https://fravm.org
X-WR-CALDESC:Eventos para FRAVM
REFRESH-INTERVAL;VALUE=DURATION:PT1H
X-Robots-Tag:noindex
X-PUBLISHED-TTL:PT1H
BEGIN:VTIMEZONE
TZID:Europe/Madrid
BEGIN:DAYLIGHT
TZOFFSETFROM:+0100
TZOFFSETTO:+0200
TZNAME:CEST
DTSTART:20250330T010000
END:DAYLIGHT
BEGIN:STANDARD
TZOFFSETFROM:+0200
TZOFFSETTO:+0100
TZNAME:CET
DTSTART:20251026T010000
END:STANDARD
BEGIN:DAYLIGHT
TZOFFSETFROM:+0100
TZOFFSETTO:+0200
TZNAME:CEST
DTSTART:20260329T010000
END:DAYLIGHT
BEGIN:STANDARD
TZOFFSETFROM:+0200
TZOFFSETTO:+0100
TZNAME:CET
DTSTART:20261025T010000
END:STANDARD
BEGIN:DAYLIGHT
TZOFFSETFROM:+0100
TZOFFSETTO:+0200
TZNAME:CEST
DTSTART:20270328T010000
END:DAYLIGHT
BEGIN:STANDARD
TZOFFSETFROM:+0200
TZOFFSETTO:+0100
TZNAME:CET
DTSTART:20271031T010000
END:STANDARD
END:VTIMEZONE
BEGIN:VEVENT
DTSTART;TZID=Europe/Madrid:20260421T093000
DTEND;TZID=Europe/Madrid:20260421T103000
DTSTAMP:20260421T014155
CREATED:20260416T200330Z
LAST-MODIFIED:20260416T200330Z
UID:10048389-1776763800-1776767400@fravm.org
SUMMARY:Asistencia Comisión Permanente Ordinaria de Pleno de Cultura\, Turismo y Deporte
DESCRIPTION:
URL:https://fravm.org/evento/asistencia-comision-permanente-ordinaria-de-pleno-de-cultura-turismo-y-deporte/
CATEGORIES:Pública
END:VEVENT
BEGIN:VEVENT
DTSTART;TZID=Europe/Madrid:20260421T123000
DTEND;TZID=Europe/Madrid:20260421T133000
DTSTAMP:20260421T014155
CREATED:20260416T200331Z
LAST-MODIFIED:20260416T200331Z
UID:10048390-1776774600-1776778200@fravm.org
SUMMARY:Asistencia Comisión Permanente Ordinaria de Pleno Economía y Hacienda
DESCRIPTION:
URL:https://fravm.org/evento/asistencia-comision-permanente-ordinaria-de-pleno-economia-y-hacienda/
CATEGORIES:Pública
END:VEVENT
END:VCALENDAR