BEGIN:VCALENDAR
VERSION:2.0
PRODID:-//FRAVM - ECPv6.15.20//NONSGML v1.0//EN
CALSCALE:GREGORIAN
METHOD:PUBLISH
X-ORIGINAL-URL:https://fravm.org
X-WR-CALDESC:Eventos para FRAVM
REFRESH-INTERVAL;VALUE=DURATION:PT1H
X-Robots-Tag:noindex
X-PUBLISHED-TTL:PT1H
BEGIN:VTIMEZONE
TZID:Europe/Madrid
BEGIN:DAYLIGHT
TZOFFSETFROM:+0100
TZOFFSETTO:+0200
TZNAME:CEST
DTSTART:20250330T010000
END:DAYLIGHT
BEGIN:STANDARD
TZOFFSETFROM:+0200
TZOFFSETTO:+0100
TZNAME:CET
DTSTART:20251026T010000
END:STANDARD
BEGIN:DAYLIGHT
TZOFFSETFROM:+0100
TZOFFSETTO:+0200
TZNAME:CEST
DTSTART:20260329T010000
END:DAYLIGHT
BEGIN:STANDARD
TZOFFSETFROM:+0200
TZOFFSETTO:+0100
TZNAME:CET
DTSTART:20261025T010000
END:STANDARD
BEGIN:DAYLIGHT
TZOFFSETFROM:+0100
TZOFFSETTO:+0200
TZNAME:CEST
DTSTART:20270328T010000
END:DAYLIGHT
BEGIN:STANDARD
TZOFFSETFROM:+0200
TZOFFSETTO:+0100
TZNAME:CET
DTSTART:20271031T010000
END:STANDARD
END:VTIMEZONE
BEGIN:VEVENT
DTSTART;TZID=Europe/Madrid:20260417T103000
DTEND;TZID=Europe/Madrid:20260417T113000
DTSTAMP:20260419T152349
CREATED:20260415T200501Z
LAST-MODIFIED:20260415T200501Z
UID:10048387-1776421800-1776425400@fravm.org
SUMMARY:Asistencia Consejo para la promoción de la accesibilidad de barreras
DESCRIPTION:
URL:https://fravm.org/evento/asistencia-consejo-para-la-promocion-de-la-accesibilidad-de-barreras-2/
CATEGORIES:Pública
END:VEVENT
BEGIN:VEVENT
DTSTART;TZID=Europe/Madrid:20260414T180000
DTEND;TZID=Europe/Madrid:20260414T200000
DTSTAMP:20260419T152349
CREATED:20260414T074049Z
LAST-MODIFIED:20260414T074049Z
UID:10048384-1776189600-1776196800@fravm.org
SUMMARY:Asistencia al acto Un futuro de progreso para la Comunidad de Madrid
DESCRIPTION:
URL:https://fravm.org/evento/asistencia-al-acto-un-futuro-de-progreso-para-la-comunidad-de-madrid/
LOCATION:C. de Lope de Vega\, 38\, Centro\, 28014 Madrid\, España\, Calle de Lope de Vega 38\, Madrid\, Madrid\, 28014\, Spain
CATEGORIES:Pública
GEO:40.4134968;-3.6950122
X-APPLE-STRUCTURED-LOCATION;VALUE=URI;X-ADDRESS=C. de Lope de Vega 38 Centro 28014 Madrid España Calle de Lope de Vega 38 Madrid Madrid 28014 Spain;X-APPLE-RADIUS=500;X-TITLE=Calle de Lope de Vega 38:geo:-3.6950122,40.4134968
END:VEVENT
BEGIN:VEVENT
DTSTART;TZID=Europe/Madrid:20260414T103000
DTEND;TZID=Europe/Madrid:20260414T113000
DTSTAMP:20260419T152349
CREATED:20260414T074047Z
LAST-MODIFIED:20260414T074047Z
UID:10048382-1776162600-1776166200@fravm.org
SUMMARY:Asistencia a Comisión Calidad Paisaje Urbano
DESCRIPTION:
URL:https://fravm.org/evento/asistencia-a-comision-calidad-paisaje-urbano/
LOCATION:Palacio de Cibeles (sede del Ayuntamiento de Madrid)\, Pl. Cibeles\, 1\, Retiro\, 28014 Madrid\, España
CATEGORIES:Pública
END:VEVENT
BEGIN:VEVENT
DTSTART;TZID=Europe/Madrid:20260324T153000
DTEND;TZID=Europe/Madrid:20260324T163000
DTSTAMP:20260419T152349
CREATED:20260217T163343Z
LAST-MODIFIED:20260217T163343Z
UID:10048366-1774366200-1774369800@fravm.org
SUMMARY:Asistencia reunión seguimiento PIBA-Lucero y Puerta del Ángel
DESCRIPTION:
URL:https://fravm.org/evento/asistencia-reunion-seguimiento-piba-lucero-y-puerta-del-angel/
CATEGORIES:Pública
END:VEVENT
BEGIN:VEVENT
DTSTART;TZID=Europe/Madrid:20260319T120000
DTEND;TZID=Europe/Madrid:20260319T123000
DTSTAMP:20260419T152349
CREATED:20260225T170329Z
LAST-MODIFIED:20260225T170329Z
UID:10048371-1773921600-1773923400@fravm.org
SUMMARY:Reunión Área Gobierno de Urbanismo y Área Gobierno Obras
DESCRIPTION:
URL:https://fravm.org/evento/reunion-area-gobierno-de-urbanismo-y-area-gobierno-obras/
CATEGORIES:Pública
END:VEVENT
BEGIN:VEVENT
DTSTART;TZID=Europe/Madrid:20260318T100000
DTEND;TZID=Europe/Madrid:20260318T110000
DTSTAMP:20260419T152349
CREATED:20260226T131817Z
LAST-MODIFIED:20260226T131817Z
UID:10048380-1773828000-1773831600@fravm.org
SUMMARY:Reunión Área de Gobierno Políticas Sociales\, Familia e Igualdad
DESCRIPTION:
URL:https://fravm.org/evento/reunion-area-de-gobierno-politicas-sociales-familia-e-igualdad/
CATEGORIES:Pública
END:VEVENT
BEGIN:VEVENT
DTSTART;TZID=Europe/Madrid:20260318T100000
DTEND;TZID=Europe/Madrid:20260318T110000
DTSTAMP:20260419T152349
CREATED:20260225T091835Z
LAST-MODIFIED:20260225T091835Z
UID:10048370-1773828000-1773831600@fravm.org
SUMMARY:Reunión Dirección General de Accesibilidad
DESCRIPTION:
URL:https://fravm.org/evento/reunion-direccion-general-de-accesibilidad/
CATEGORIES:Pública
END:VEVENT
BEGIN:VEVENT
DTSTART;TZID=Europe/Madrid:20260317T093000
DTEND;TZID=Europe/Madrid:20260317T123000
DTSTAMP:20260419T152349
CREATED:20260226T111827Z
LAST-MODIFIED:20260226T111827Z
UID:10048375-1773739800-1773750600@fravm.org
SUMMARY:Asistencia evento Madrid en el centro de la conversación: "el talento universitario internacional como motor económico"
DESCRIPTION:
URL:https://fravm.org/evento/asistencia-evento-madrid-en-el-centro-de-la-conversacion-el-talento-universitario-internacional-como-motor-economico/
CATEGORIES:Pública
END:VEVENT
BEGIN:VEVENT
DTSTART;TZID=Europe/Madrid:20260316T153000
DTEND;TZID=Europe/Madrid:20260316T163000
DTSTAMP:20260419T152349
CREATED:20260205T152114Z
LAST-MODIFIED:20260205T152114Z
UID:10048350-1773675000-1773678600@fravm.org
SUMMARY:Reunión seguimiento PIBA-Puente de Vallecas
DESCRIPTION:
URL:https://fravm.org/evento/reunion-seguimiento-piba-puente-de-vallecas/
LOCATION:Online
CATEGORIES:Pública
END:VEVENT
BEGIN:VEVENT
DTSTART;TZID=Europe/Madrid:20260312T160000
DTEND;TZID=Europe/Madrid:20260312T170000
DTSTAMP:20260419T152349
CREATED:20260226T121836Z
LAST-MODIFIED:20260226T121836Z
UID:10048379-1773331200-1773334800@fravm.org
SUMMARY:Asistencia Consejo Sectorial de Asociaciones y otras Entidades Ciudadanas
DESCRIPTION:
URL:https://fravm.org/evento/asistencia-consejo-sectorial-de-asociaciones-y-otras-entidades-ciudadanas/
CATEGORIES:Pública
END:VEVENT
BEGIN:VEVENT
DTSTART;TZID=Europe/Madrid:20260311T190000
DTEND;TZID=Europe/Madrid:20260311T200000
DTSTAMP:20260419T152349
CREATED:20260226T121835Z
LAST-MODIFIED:20260226T121835Z
UID:10048378-1773255600-1773259200@fravm.org
SUMMARY:Asistencia acto 'In memoriam' 11M El Pozo
DESCRIPTION:
URL:https://fravm.org/evento/asistencia-acto-in-memoriam-11m-el-pozo/
CATEGORIES:Pública
END:VEVENT
BEGIN:VEVENT
DTSTART;TZID=Europe/Madrid:20260311T180000
DTEND;TZID=Europe/Madrid:20260311T190000
DTSTAMP:20260419T152349
CREATED:20260226T121835Z
LAST-MODIFIED:20260226T121835Z
UID:10048377-1773252000-1773255600@fravm.org
SUMMARY:Asistencia acto 'In memoriam' 11M Santa Eugenia
DESCRIPTION:
URL:https://fravm.org/evento/asistencia-acto-in-memoriam-11m-santa-eugenia/
CATEGORIES:Pública
END:VEVENT
BEGIN:VEVENT
DTSTART;TZID=Europe/Madrid:20260311T133000
DTEND;TZID=Europe/Madrid:20260311T143000
DTSTAMP:20260419T152349
CREATED:20260226T121835Z
LAST-MODIFIED:20260226T121835Z
UID:10048376-1773235800-1773239400@fravm.org
SUMMARY:Asistencia acto 'In memoriam' 11M calle Téllez
DESCRIPTION:
URL:https://fravm.org/evento/asistencia-acto-in-memoriam-11m-calle-tellez/
CATEGORIES:Pública
END:VEVENT
BEGIN:VEVENT
DTSTART;TZID=Europe/Madrid:20260311T103000
DTEND;TZID=Europe/Madrid:20260311T113000
DTSTAMP:20260419T152349
CREATED:20260226T111827Z
LAST-MODIFIED:20260226T111827Z
UID:10048374-1773225000-1773228600@fravm.org
SUMMARY:Asistencia acto homenaje 11M Estación de Atocha
DESCRIPTION:
URL:https://fravm.org/evento/asistencia-acto-homenaje-11m-estacion-de-atocha/
CATEGORIES:Pública
END:VEVENT
BEGIN:VEVENT
DTSTART;TZID=Europe/Madrid:20260310T170000
DTEND;TZID=Europe/Madrid:20260310T173000
DTSTAMP:20260419T152349
CREATED:20260203T135007Z
LAST-MODIFIED:20260203T135007Z
UID:10048340-1773162000-1773163800@fravm.org
SUMMARY:Reunión seguimiento PIBA-Pan Bendito
DESCRIPTION:
URL:https://fravm.org/evento/reunion-seguimiento-piba-pan-bendito/
CATEGORIES:Pública
END:VEVENT
BEGIN:VEVENT
DTSTART;TZID=Europe/Madrid:20260310T163000
DTEND;TZID=Europe/Madrid:20260310T170000
DTSTAMP:20260419T152349
CREATED:20260203T135007Z
LAST-MODIFIED:20260203T135007Z
UID:10048341-1773160200-1773162000@fravm.org
SUMMARY:Reunión seguimiento PIBA-Comillas
DESCRIPTION:
URL:https://fravm.org/evento/reunion-seguimiento-piba-comillas/
CATEGORIES:Pública
END:VEVENT
BEGIN:VEVENT
DTSTART;TZID=Europe/Madrid:20260310T160000
DTEND;TZID=Europe/Madrid:20260310T163000
DTSTAMP:20260419T152349
CREATED:20260203T135007Z
LAST-MODIFIED:20260203T135007Z
UID:10048342-1773158400-1773160200@fravm.org
SUMMARY:Reunión seguimiento PIBA-San Isidro
DESCRIPTION:
URL:https://fravm.org/evento/reunion-seguimiento-piba-san-isidro/
CATEGORIES:Pública
END:VEVENT
BEGIN:VEVENT
DTSTART;TZID=Europe/Madrid:20260310T153000
DTEND;TZID=Europe/Madrid:20260310T160000
DTSTAMP:20260419T152349
CREATED:20260203T135006Z
LAST-MODIFIED:20260203T135006Z
UID:10048339-1773156600-1773158400@fravm.org
SUMMARY:Reunión seguimiento PIBA-Alto San Isidro
DESCRIPTION:
URL:https://fravm.org/evento/reunion-seguimiento-piba-alto-san-isidro/
CATEGORIES:Pública
END:VEVENT
BEGIN:VEVENT
DTSTART;TZID=Europe/Madrid:20260310T104500
DTEND;TZID=Europe/Madrid:20260310T114500
DTSTAMP:20260419T152349
CREATED:20260129T133428Z
LAST-MODIFIED:20260129T133428Z
UID:10048334-1773139500-1773143100@fravm.org
SUMMARY:Asistencia reunión seguimiento PIBA-Manoteras
DESCRIPTION:
URL:https://fravm.org/evento/asistencia-reunion-seguimiento-piba-manoteras/
CATEGORIES:Pública
END:VEVENT
BEGIN:VEVENT
DTSTART;TZID=Europe/Madrid:20260309T163000
DTEND;TZID=Europe/Madrid:20260309T173000
DTSTAMP:20260419T152349
CREATED:20260217T163340Z
LAST-MODIFIED:20260217T163340Z
UID:10048365-1773073800-1773077400@fravm.org
SUMMARY:Asistencia reunión seguimiento PIBA-Campamento
DESCRIPTION:
URL:https://fravm.org/evento/asistencia-reunion-seguimiento-piba-campamento/
CATEGORIES:Pública
END:VEVENT
BEGIN:VEVENT
DTSTART;TZID=Europe/Madrid:20260309T153000
DTEND;TZID=Europe/Madrid:20260309T163000
DTSTAMP:20260419T152349
CREATED:20260217T163339Z
LAST-MODIFIED:20260217T163339Z
UID:10048364-1773070200-1773073800@fravm.org
SUMMARY:Asistencia reunión seguimiento PIBA-Caño Roto
DESCRIPTION:
URL:https://fravm.org/evento/asistencia-reunion-seguimiento-piba-cano-roto/
CATEGORIES:Pública
END:VEVENT
BEGIN:VEVENT
DTSTART;TZID=Europe/Madrid:20260304T160000
DTEND;TZID=Europe/Madrid:20260304T170000
DTSTAMP:20260419T152349
CREATED:20260218T150436Z
LAST-MODIFIED:20260218T150436Z
UID:10048367-1772640000-1772643600@fravm.org
SUMMARY:Asistencia grupo de trabajo Encuentro asociativo
DESCRIPTION:
URL:https://fravm.org/evento/asistencia-grupo-de-trabajo-encuentro-asociativo/
CATEGORIES:Pública
END:VEVENT
BEGIN:VEVENT
DTSTART;TZID=Europe/Madrid:20260302T163000
DTEND;TZID=Europe/Madrid:20260302T173000
DTSTAMP:20260419T152349
CREATED:20260226T111824Z
LAST-MODIFIED:20260226T111824Z
UID:10048373-1772469000-1772472600@fravm.org
SUMMARY:Reunión Seguimiento PIBAS Vicálvaro
DESCRIPTION:
URL:https://fravm.org/evento/reunion-seguimiento-pibas-vicalvaro/
CATEGORIES:Pública
END:VEVENT
BEGIN:VEVENT
DTSTART;TZID=Europe/Madrid:20260302T153000
DTEND;TZID=Europe/Madrid:20260302T163000
DTSTAMP:20260419T152349
CREATED:20260205T152112Z
LAST-MODIFIED:20260205T152112Z
UID:10048349-1772465400-1772469000@fravm.org
SUMMARY:Reunión seguimiento PIBA-Moratalaz
DESCRIPTION:
URL:https://fravm.org/evento/reunion-seguimiento-piba-moratalaz/
CATEGORIES:Pública
END:VEVENT
BEGIN:VEVENT
DTSTART;TZID=Europe/Madrid:20260226T173000
DTEND;TZID=Europe/Madrid:20260226T193000
DTSTAMP:20260419T152349
CREATED:20260226T091834Z
LAST-MODIFIED:20260226T091834Z
UID:10048372-1772127000-1772134200@fravm.org
SUMMARY:Reunión Alcaldía Ayuntamiento de Madrid
DESCRIPTION:
URL:https://fravm.org/evento/reunion-alcaldia-ayuntamiento-de-madrid/
CATEGORIES:Pública
END:VEVENT
BEGIN:VEVENT
DTSTART;TZID=Europe/Madrid:20260226T093000
DTEND;TZID=Europe/Madrid:20260226T110000
DTSTAMP:20260419T152349
CREATED:20260216T094941Z
LAST-MODIFIED:20260216T094941Z
UID:10048363-1772098200-1772103600@fravm.org
SUMMARY:Reunión Coordinación General ÁG Políticas de Vivienda
DESCRIPTION:
URL:https://fravm.org/evento/reunion-coordinacion-general-ag-politicas-de-vivienda/
CATEGORIES:Pública
END:VEVENT
BEGIN:VEVENT
DTSTART;TZID=Europe/Madrid:20260225T093000
DTEND;TZID=Europe/Madrid:20260225T103000
DTSTAMP:20260419T152349
CREATED:20260220T100414Z
LAST-MODIFIED:20260220T100414Z
UID:10048368-1772011800-1772015400@fravm.org
SUMMARY:Asistencia Mesa Técnica Sectorial Promoción social y desarrollo comunitario
DESCRIPTION:
URL:https://fravm.org/evento/asistencia-mesa-tecnica-sectorial-promocion-social-y-desarrollo-comunitario/
CATEGORIES:Pública
END:VEVENT
BEGIN:VEVENT
DTSTART;TZID=Europe/Madrid:20260224T130000
DTEND;TZID=Europe/Madrid:20260224T140000
DTSTAMP:20260419T152349
CREATED:20260204T120455Z
LAST-MODIFIED:20260204T120455Z
UID:10048347-1771938000-1771941600@fravm.org
SUMMARY:Reunión  Dirección General de Turismo
DESCRIPTION:
URL:https://fravm.org/evento/reunion-direccion-general-de-turismo/
CATEGORIES:Pública
END:VEVENT
BEGIN:VEVENT
DTSTART;TZID=Europe/Madrid:20260223T160000
DTEND;TZID=Europe/Madrid:20260223T170000
DTSTAMP:20260419T152349
CREATED:20260205T152111Z
LAST-MODIFIED:20260205T152111Z
UID:10048348-1771862400-1771866000@fravm.org
SUMMARY:Reunión seguimiento PIBA-Usera
DESCRIPTION:
URL:https://fravm.org/evento/reunion-seguimiento-piba-usera/
CATEGORIES:Pública
END:VEVENT
BEGIN:VEVENT
DTSTART;TZID=Europe/Madrid:20260223T130000
DTEND;TZID=Europe/Madrid:20260223T140000
DTSTAMP:20260419T152349
CREATED:20260206T110511Z
LAST-MODIFIED:20260206T110511Z
UID:10048353-1771851600-1771855200@fravm.org
SUMMARY:Reunión seguimiento PIBA-Ventilla-Almenara
DESCRIPTION:
URL:https://fravm.org/evento/reunion-seguimiento-piba-ventilla-almenara/
CATEGORIES:Pública
END:VEVENT
END:VCALENDAR