BEGIN:VCALENDAR
VERSION:2.0
PRODID:-//FRAVM - ECPv6.15.20//NONSGML v1.0//EN
CALSCALE:GREGORIAN
METHOD:PUBLISH
X-WR-CALNAME:FRAVM
X-ORIGINAL-URL:https://fravm.org
X-WR-CALDESC:Eventos para FRAVM
REFRESH-INTERVAL;VALUE=DURATION:PT1H
X-Robots-Tag:noindex
X-PUBLISHED-TTL:PT1H
BEGIN:VTIMEZONE
TZID:Europe/Madrid
BEGIN:DAYLIGHT
TZOFFSETFROM:+0100
TZOFFSETTO:+0200
TZNAME:CEST
DTSTART:20250330T010000
END:DAYLIGHT
BEGIN:STANDARD
TZOFFSETFROM:+0200
TZOFFSETTO:+0100
TZNAME:CET
DTSTART:20251026T010000
END:STANDARD
BEGIN:DAYLIGHT
TZOFFSETFROM:+0100
TZOFFSETTO:+0200
TZNAME:CEST
DTSTART:20260329T010000
END:DAYLIGHT
BEGIN:STANDARD
TZOFFSETFROM:+0200
TZOFFSETTO:+0100
TZNAME:CET
DTSTART:20261025T010000
END:STANDARD
BEGIN:DAYLIGHT
TZOFFSETFROM:+0100
TZOFFSETTO:+0200
TZNAME:CEST
DTSTART:20270328T010000
END:DAYLIGHT
BEGIN:STANDARD
TZOFFSETFROM:+0200
TZOFFSETTO:+0100
TZNAME:CET
DTSTART:20271031T010000
END:STANDARD
END:VTIMEZONE
BEGIN:VEVENT
DTSTART;TZID=Europe/Madrid:20260219T093000
DTEND;TZID=Europe/Madrid:20260219T103000
DTSTAMP:20260419T185220
CREATED:20260211T133428Z
LAST-MODIFIED:20260211T133428Z
UID:10048358-1771493400-1771497000@fravm.org
SUMMARY:Reunión Coordinación General de Urbanismo
DESCRIPTION:
URL:https://fravm.org/evento/reunion-coordinacion-general-de-urbanismo/
CATEGORIES:Pública
END:VEVENT
BEGIN:VEVENT
DTSTART;TZID=Europe/Madrid:20260218T163000
DTEND;TZID=Europe/Madrid:20260218T173000
DTSTAMP:20260419T185220
CREATED:20260216T094936Z
LAST-MODIFIED:20260216T094936Z
UID:10048362-1771432200-1771435800@fravm.org
SUMMARY:Asistencia acto de entrega medalla a la Promoción de los valores de Igualdad
DESCRIPTION:
URL:https://fravm.org/evento/asistencia-acto-de-entrega-medalla-a-la-promocion-de-los-valores-de-igualdad/
CATEGORIES:Pública
END:VEVENT
BEGIN:VEVENT
DTSTART;TZID=Europe/Madrid:20260218T130000
DTEND;TZID=Europe/Madrid:20260218T140000
DTSTAMP:20260419T185220
CREATED:20260212T093455Z
LAST-MODIFIED:20260212T093455Z
UID:10048360-1771419600-1771423200@fravm.org
SUMMARY:Reunión Secretaria de Estado Vivienda
DESCRIPTION:
URL:https://fravm.org/evento/reunion-secretaria-de-estado-vivienda/
CATEGORIES:Pública
END:VEVENT
BEGIN:VEVENT
DTSTART;TZID=Europe/Madrid:20260218T093000
DTEND;TZID=Europe/Madrid:20260218T103000
DTSTAMP:20260419T185220
CREATED:20260213T100322Z
LAST-MODIFIED:20260213T100322Z
UID:10048361-1771407000-1771410600@fravm.org
SUMMARY:Asistencia Mesa Técnica Sectorial Regeneración Ambiental
DESCRIPTION:
URL:https://fravm.org/evento/asistencia-mesa-tecnica-sectorial-regeneracion-ambiental/
LOCATION:Online
CATEGORIES:Pública
END:VEVENT
BEGIN:VEVENT
DTSTART;TZID=Europe/Madrid:20260217T170000
DTEND;TZID=Europe/Madrid:20260217T180000
DTSTAMP:20260419T185220
CREATED:20260212T081947Z
LAST-MODIFIED:20260212T081947Z
UID:10048359-1771347600-1771351200@fravm.org
SUMMARY:Reunión Área Delegada de Limpieza y Zonas verdes
DESCRIPTION:
URL:https://fravm.org/evento/reunion-area-delegada-de-limpieza-y-zonas-verdes/
CATEGORIES:Pública
END:VEVENT
BEGIN:VEVENT
DTSTART;TZID=Europe/Madrid:20260217T120000
DTEND;TZID=Europe/Madrid:20260217T130000
DTSTAMP:20260419T185220
CREATED:20260209T151934Z
LAST-MODIFIED:20260209T151934Z
UID:10048357-1771329600-1771333200@fravm.org
SUMMARY:Asistencia comisión permanente formación CSAyOEC
DESCRIPTION:
URL:https://fravm.org/evento/asistencia-comision-permanente-formacion-csayoec/
CATEGORIES:Pública
END:VEVENT
BEGIN:VEVENT
DTSTART;TZID=Europe/Madrid:20260216T163000
DTEND;TZID=Europe/Madrid:20260216T173000
DTSTAMP:20260419T185220
CREATED:20260204T110443Z
LAST-MODIFIED:20260204T110443Z
UID:10048345-1771259400-1771263000@fravm.org
SUMMARY:Reunión seguimiento PIBA-UVA de Vallecas
DESCRIPTION:
URL:https://fravm.org/evento/reunion-seguimiento-piba-uva-de-vallecas/
LOCATION:Online
CATEGORIES:Pública
END:VEVENT
BEGIN:VEVENT
DTSTART;TZID=Europe/Madrid:20260216T153000
DTEND;TZID=Europe/Madrid:20260216T163000
DTSTAMP:20260419T185220
CREATED:20260204T110443Z
LAST-MODIFIED:20260204T110443Z
UID:10048346-1771255800-1771259400@fravm.org
SUMMARY:Asistencia reunión seguimiento PIBA-Ensanche de Vallecas
DESCRIPTION:
URL:https://fravm.org/evento/asistencia-reunion-seguimiento-piba-ensanche-de-vallecas/
LOCATION:Online
CATEGORIES:Pública
END:VEVENT
BEGIN:VEVENT
DTSTART;TZID=Europe/Madrid:20260216T120000
DTEND;TZID=Europe/Madrid:20260216T140000
DTSTAMP:20260419T185220
CREATED:20260203T135004Z
LAST-MODIFIED:20260203T135004Z
UID:10048338-1771243200-1771250400@fravm.org
SUMMARY:Asistencia reunión seguimiento PIBA-Centro
DESCRIPTION:
URL:https://fravm.org/evento/asistencia-reunion-seguimiento-piba-centro/
CATEGORIES:Pública
END:VEVENT
BEGIN:VEVENT
DTSTART;TZID=Europe/Madrid:20260211T130000
DTEND;TZID=Europe/Madrid:20260211T143000
DTSTAMP:20260419T185220
CREATED:20260128T090449Z
LAST-MODIFIED:20260128T090449Z
UID:10048330-1770814800-1770820200@fravm.org
SUMMARY:Reunión Área Delegada Urbanismo\, Medio Ambiente y Movilidad
DESCRIPTION:
URL:https://fravm.org/evento/reunion-area-delegada-urbanismo-medio-ambiente-y-movilidad/
CATEGORIES:Pública
END:VEVENT
BEGIN:VEVENT
DTSTART;TZID=Europe/Madrid:20260211T120000
DTEND;TZID=Europe/Madrid:20260211T130000
DTSTAMP:20260419T185220
CREATED:20260121T095054Z
LAST-MODIFIED:20260121T095054Z
UID:10048323-1770811200-1770814800@fravm.org
SUMMARY:Asistencia reunión comisión permanente coordinación del Consejo Sectorial de Asociaciones y Otras Entidades Ciudadanas
DESCRIPTION:
URL:https://fravm.org/evento/asistencia-reunion-comision-permanente-coordinacion-del-consejo-sectorial-de-asociaciones-y-otras-entidades-ciudadanas/
CATEGORIES:Pública
END:VEVENT
BEGIN:VEVENT
DTSTART;TZID=Europe/Madrid:20260211T093000
DTEND;TZID=Europe/Madrid:20260211T103000
DTSTAMP:20260419T185220
CREATED:20260206T100507Z
LAST-MODIFIED:20260206T100507Z
UID:10048351-1770802200-1770805800@fravm.org
SUMMARY:Mesa Técnica Sectorial Cultura y Deporte SURES
DESCRIPTION:
URL:https://fravm.org/evento/mesa-tecnica-sectorial-cultura-y-deporte-sures-2/
LOCATION:Online
CATEGORIES:Pública
END:VEVENT
BEGIN:VEVENT
DTSTART;TZID=Europe/Madrid:20260210T104500
DTEND;TZID=Europe/Madrid:20260210T120000
DTSTAMP:20260419T185220
CREATED:20260203T135003Z
LAST-MODIFIED:20260203T135003Z
UID:10048337-1770720300-1770724800@fravm.org
SUMMARY:Asistencia Comisión de Control y Seguimiento del Ruido
DESCRIPTION:
URL:https://fravm.org/evento/asistencia-comision-de-control-y-seguimiento-del-ruido/
CATEGORIES:Pública
END:VEVENT
BEGIN:VEVENT
DTSTART;TZID=Europe/Madrid:20260206T120000
DTEND;TZID=Europe/Madrid:20260206T130000
DTSTAMP:20260419T185220
CREATED:20260122T130544Z
LAST-MODIFIED:20260122T130544Z
UID:10048325-1770379200-1770382800@fravm.org
SUMMARY:Asistencia Comisión Técnica de Vivienda
DESCRIPTION:
URL:https://fravm.org/evento/asistencia-comision-tecnica-de-vivienda/
CATEGORIES:Pública
END:VEVENT
BEGIN:VEVENT
DTSTART;TZID=Europe/Madrid:20260206T103000
DTEND;TZID=Europe/Madrid:20260206T113000
DTSTAMP:20260419T185220
CREATED:20260129T133425Z
LAST-MODIFIED:20260129T133425Z
UID:10048333-1770373800-1770377400@fravm.org
SUMMARY:Asistencia Comisión Técnica de Accesibilidad de Modos de Transporte
DESCRIPTION:
URL:https://fravm.org/evento/asistencia-comision-tecnica-de-accesibilidad-de-modos-de-transporte/
CATEGORIES:Pública
END:VEVENT
BEGIN:VEVENT
DTSTART;TZID=Europe/Madrid:20260205T103000
DTEND;TZID=Europe/Madrid:20260205T120000
DTSTAMP:20260419T185220
CREATED:20260203T184947Z
LAST-MODIFIED:20260203T184947Z
UID:10048344-1770287400-1770292800@fravm.org
SUMMARY:Rueda de prensa Manifestación Salvar la Sanidad
DESCRIPTION:
URL:https://fravm.org/evento/rueda-de-prensa-manifestacion-salvar-la-sanidad/
CATEGORIES:Pública
END:VEVENT
BEGIN:VEVENT
DTSTART;TZID=Europe/Madrid:20260204T100000
DTEND;TZID=Europe/Madrid:20260204T120000
DTSTAMP:20260419T185220
CREATED:20260128T140429Z
LAST-MODIFIED:20260128T140429Z
UID:10048332-1770199200-1770206400@fravm.org
SUMMARY:Reunión Dirección General de Regeneración Urbana
DESCRIPTION:
URL:https://fravm.org/evento/reunion-direccion-general-de-regeneracion-urbana-2/
CATEGORIES:Pública
END:VEVENT
BEGIN:VEVENT
DTSTART;TZID=Europe/Madrid:20260204T093000
DTEND;TZID=Europe/Madrid:20260204T113000
DTSTAMP:20260419T185220
CREATED:20260128T100451Z
LAST-MODIFIED:20260128T100451Z
UID:10048331-1770197400-1770204600@fravm.org
SUMMARY:Reunión Dirección General de Regeneración Urbana
DESCRIPTION:
URL:https://fravm.org/evento/reunion-direccion-general-de-regeneracion-urbana/
CATEGORIES:Pública
END:VEVENT
BEGIN:VEVENT
DTSTART;TZID=Europe/Madrid:20260203T183000
DTEND;TZID=Europe/Madrid:20260203T210000
DTSTAMP:20260419T185220
CREATED:20260203T184947Z
LAST-MODIFIED:20260203T184947Z
UID:10048343-1770143400-1770152400@fravm.org
SUMMARY:Reunión junta directiva FRAVM
DESCRIPTION:
URL:https://fravm.org/evento/reunion-junta-directiva-fravm-2/
CATEGORIES:Pública
END:VEVENT
BEGIN:VEVENT
DTSTART;TZID=Europe/Madrid:20260202T100000
DTEND;TZID=Europe/Madrid:20260202T110000
DTSTAMP:20260419T185220
CREATED:20260120T112013Z
LAST-MODIFIED:20260120T112013Z
UID:10048321-1770026400-1770030000@fravm.org
SUMMARY:Asistencia a la Comisión Técnica Innovación del Consejo Social de la ciudad
DESCRIPTION:
URL:https://fravm.org/evento/asistencia-a-la-comision-tecnica-innovacion-del-consejo-social-de-la-ciudad/
CATEGORIES:Pública
END:VEVENT
BEGIN:VEVENT
DTSTART;TZID=Europe/Madrid:20260130T103000
DTEND;TZID=Europe/Madrid:20260130T113000
DTSTAMP:20260419T185220
CREATED:20260128T090447Z
LAST-MODIFIED:20260128T090447Z
UID:10048329-1769769000-1769772600@fravm.org
SUMMARY:Asistencia Consejo para la promoción de la accesibilidad de barreras
DESCRIPTION:
URL:https://fravm.org/evento/asistencia-consejo-para-la-promocion-de-la-accesibilidad-de-barreras/
CATEGORIES:Pública
END:VEVENT
BEGIN:VEVENT
DTSTART;TZID=Europe/Madrid:20260129T120000
DTEND;TZID=Europe/Madrid:20260129T133000
DTSTAMP:20260419T185220
CREATED:20260112T134949Z
LAST-MODIFIED:20260112T134949Z
UID:10048316-1769688000-1769693400@fravm.org
SUMMARY:Visita Cuarta exclusa
DESCRIPTION:
URL:https://fravm.org/evento/visita-cuarta-exclusa/
CATEGORIES:Pública
END:VEVENT
BEGIN:VEVENT
DTSTART;TZID=Europe/Madrid:20260129T103000
DTEND;TZID=Europe/Madrid:20260129T113000
DTSTAMP:20260419T185220
CREATED:20260120T133524Z
LAST-MODIFIED:20260120T133524Z
UID:10048322-1769682600-1769686200@fravm.org
SUMMARY:Reunión Dirección General de Comercio
DESCRIPTION:
URL:https://fravm.org/evento/reunion-direccion-general-de-comercio/
CATEGORIES:Pública
END:VEVENT
BEGIN:VEVENT
DTSTART;TZID=Europe/Madrid:20260128T160000
DTEND;TZID=Europe/Madrid:20260128T170000
DTSTAMP:20260419T185220
CREATED:20260115T133455Z
LAST-MODIFIED:20260115T133455Z
UID:10048319-1769616000-1769619600@fravm.org
SUMMARY:Consejo de Cultura
DESCRIPTION:
URL:https://fravm.org/evento/consejo-de-cultura-2/
CATEGORIES:Pública
END:VEVENT
BEGIN:VEVENT
DTSTART;TZID=Europe/Madrid:20260128T093000
DTEND;TZID=Europe/Madrid:20260128T103000
DTSTAMP:20260419T185220
CREATED:20260122T110525Z
LAST-MODIFIED:20260122T110525Z
UID:10048324-1769592600-1769596200@fravm.org
SUMMARY:Asistencia reunión Mesa técnica sectorial de Recuperación espacio público\, promoción y rehabilitación de vivienda
DESCRIPTION:
URL:https://fravm.org/evento/asistencia-reunion-mesa-tecnica-sectorial-de-recuperacion-espacio-publico-promocion-y-rehabilitacion-de-vivienda/
LOCATION:Online
CATEGORIES:Pública
END:VEVENT
BEGIN:VEVENT
DTSTART;TZID=Europe/Madrid:20260127T170000
DTEND;TZID=Europe/Madrid:20260127T180000
DTSTAMP:20260419T185220
CREATED:20260115T164941Z
LAST-MODIFIED:20260115T164941Z
UID:10048320-1769533200-1769536800@fravm.org
SUMMARY:Acto homenaje abogados de Atocha en San Fernando
DESCRIPTION:
URL:https://fravm.org/evento/acto-homenaje-abogados-de-atocha-en-san-fernando/
CATEGORIES:Pública
END:VEVENT
BEGIN:VEVENT
DTSTART;TZID=Europe/Madrid:20260120T093000
DTEND;TZID=Europe/Madrid:20260120T103000
DTSTAMP:20260419T185220
CREATED:20260115T133454Z
LAST-MODIFIED:20260115T133454Z
UID:10048318-1768901400-1768905000@fravm.org
SUMMARY:CPO Cultura\, Turismo y Deporte
DESCRIPTION:
URL:https://fravm.org/evento/cpo-cultura-turismo-y-deporte/
CATEGORIES:Pública
END:VEVENT
BEGIN:VEVENT
DTSTART;TZID=Europe/Madrid:20260119T170000
DTEND;TZID=Europe/Madrid:20260119T200000
DTSTAMP:20260419T185220
CREATED:20260115T113431Z
LAST-MODIFIED:20260115T113431Z
UID:10048317-1768842000-1768852800@fravm.org
SUMMARY:Reunión Diversidad Funcional y Accesibilidad
DESCRIPTION:
URL:https://fravm.org/evento/reunion-diversidad-funcional-y-accesibilidad/
LOCATION:Online
CATEGORIES:Pública
END:VEVENT
BEGIN:VEVENT
DTSTART;TZID=Europe/Madrid:20260113T103000
DTEND;TZID=Europe/Madrid:20260113T113000
DTSTAMP:20260419T185220
CREATED:20260108T090430Z
LAST-MODIFIED:20260108T090430Z
UID:10048314-1768300200-1768303800@fravm.org
SUMMARY:Reunión con Gerencia EMVS
DESCRIPTION:
URL:https://fravm.org/evento/reunion-con-gerencia-emvs/
LOCATION:Empresa Municipal de la Vivienda y Suelo (EMVS Madrid)\, C. de Palos de la Frontera\, 13\, Arganzuela\, 28012 Madrid\, España\, Calle de Palos de la Frontera\, Madrid\, Madrid\, 28012\, Spain
CATEGORIES:Pública
GEO:40.403554;-3.6975243
X-APPLE-STRUCTURED-LOCATION;VALUE=URI;X-ADDRESS=Empresa Municipal de la Vivienda y Suelo (EMVS Madrid) C. de Palos de la Frontera 13 Arganzuela 28012 Madrid España Calle de Palos de la Frontera Madrid Madrid 28012 Spain;X-APPLE-RADIUS=500;X-TITLE=Calle de Palos de la Frontera:geo:-3.6975243,40.403554
END:VEVENT
BEGIN:VEVENT
DTSTART;TZID=Europe/Madrid:20260112T130000
DTEND;TZID=Europe/Madrid:20260112T140000
DTSTAMP:20260419T185220
CREATED:20260108T090429Z
LAST-MODIFIED:20260108T090429Z
UID:10048313-1768222800-1768226400@fravm.org
SUMMARY:Reunión con Área de Gobierno de Urbanismo\, Medio Ambiente y Movilidad
DESCRIPTION:
URL:https://fravm.org/evento/reunion-con-area-de-gobierno-de-urbanismo-medio-ambiente-y-movilidad-2/
LOCATION:C. de Montalbán\, 1\, Retiro\, 28014 Madrid\, España\, Calle de Montalbán 1\, Madrid\, Madrid\, 28014\, Spain
CATEGORIES:Pública
GEO:40.418366;-3.6920229
X-APPLE-STRUCTURED-LOCATION;VALUE=URI;X-ADDRESS=C. de Montalbán 1 Retiro 28014 Madrid España Calle de Montalbán 1 Madrid Madrid 28014 Spain;X-APPLE-RADIUS=500;X-TITLE=Calle de Montalbán 1:geo:-3.6920229,40.418366
END:VEVENT
END:VCALENDAR