BEGIN:VCALENDAR
VERSION:2.0
PRODID:-//FRAVM - ECPv6.15.20//NONSGML v1.0//EN
CALSCALE:GREGORIAN
METHOD:PUBLISH
X-ORIGINAL-URL:https://fravm.org
X-WR-CALDESC:Eventos para FRAVM
REFRESH-INTERVAL;VALUE=DURATION:PT1H
X-Robots-Tag:noindex
X-PUBLISHED-TTL:PT1H
BEGIN:VTIMEZONE
TZID:Europe/Madrid
BEGIN:DAYLIGHT
TZOFFSETFROM:+0100
TZOFFSETTO:+0200
TZNAME:CEST
DTSTART:20230326T010000
END:DAYLIGHT
BEGIN:STANDARD
TZOFFSETFROM:+0200
TZOFFSETTO:+0100
TZNAME:CET
DTSTART:20231029T010000
END:STANDARD
BEGIN:DAYLIGHT
TZOFFSETFROM:+0100
TZOFFSETTO:+0200
TZNAME:CEST
DTSTART:20240331T010000
END:DAYLIGHT
BEGIN:STANDARD
TZOFFSETFROM:+0200
TZOFFSETTO:+0100
TZNAME:CET
DTSTART:20241027T010000
END:STANDARD
BEGIN:DAYLIGHT
TZOFFSETFROM:+0100
TZOFFSETTO:+0200
TZNAME:CEST
DTSTART:20250330T010000
END:DAYLIGHT
BEGIN:STANDARD
TZOFFSETFROM:+0200
TZOFFSETTO:+0100
TZNAME:CET
DTSTART:20251026T010000
END:STANDARD
END:VTIMEZONE
BEGIN:VEVENT
DTSTART;TZID=Europe/Madrid:20240415T100000
DTEND;TZID=Europe/Madrid:20240415T110000
DTSTAMP:20260422T082921
CREATED:20240410T143827Z
LAST-MODIFIED:20240410T143827Z
UID:10047673-1713175200-1713178800@fravm.org
SUMMARY:Asistencia a la presentación del Plan Adapta
DESCRIPTION:
URL:https://fravm.org/evento/asistencia-a-la-presentacion-del-plan-adapta/
LOCATION:P.º de la Chopera\, 10
CATEGORIES:Pública
END:VEVENT
BEGIN:VEVENT
DTSTART;TZID=Europe/Madrid:20240412T103000
DTEND;TZID=Europe/Madrid:20240412T113000
DTSTAMP:20260422T082921
CREATED:20240409T142327Z
LAST-MODIFIED:20240409T142327Z
UID:10047669-1712917800-1712921400@fravm.org
SUMMARY:Asistencia a la Comisión Técnica de Accesibilidad de Nodos de Transporte
DESCRIPTION:
URL:https://fravm.org/evento/asistencia-a-la-comision-tecnica-de-accesibilidad-de-nodos-de-transporte/
LOCATION:Online
CATEGORIES:Pública
END:VEVENT
BEGIN:VEVENT
DTSTART;TZID=Europe/Madrid:20240412T100000
DTEND;TZID=Europe/Madrid:20240412T113000
DTSTAMP:20260422T082921
CREATED:20240409T142327Z
LAST-MODIFIED:20240409T142327Z
UID:10047670-1712916000-1712921400@fravm.org
SUMMARY:Firma Convenio colaboración FS1º Mayo
DESCRIPTION:
URL:https://fravm.org/evento/firma-convenio-colaboracion-fs1o-mayo/
LOCATION:Sede CCOO
CATEGORIES:Pública
END:VEVENT
BEGIN:VEVENT
DTSTART;TZID=Europe/Madrid:20240412T093000
DTEND;TZID=Europe/Madrid:20240412T103000
DTSTAMP:20260422T082921
CREATED:20240403T140827Z
LAST-MODIFIED:20240403T140827Z
UID:10047664-1712914200-1712917800@fravm.org
SUMMARY:Concertación PIBA 2024 Ensanche de Vallecas
DESCRIPTION:
URL:https://fravm.org/evento/concertacion-piba-2024-ensanche-de-vallecas/
LOCATION:Online
CATEGORIES:Pública
END:VEVENT
BEGIN:VEVENT
DTSTART;TZID=Europe/Madrid:20240411T120000
DTEND;TZID=Europe/Madrid:20240411T130000
DTSTAMP:20260422T082921
CREATED:20240410T143826Z
LAST-MODIFIED:20240410T143826Z
UID:10047672-1712836800-1712840400@fravm.org
SUMMARY:Asistencia a la Celebración del Día de la Sanidad pública
DESCRIPTION:
URL:https://fravm.org/evento/asistencia-a-la-celebracion-del-dia-de-la-sanidad-publica/
LOCATION:Ministerio de Sanidad\, Paseo del Prado\, 18-20\, Madrid\, Madrid\, España
CATEGORIES:Pública
GEO:40.4133967;-3.694118
X-APPLE-STRUCTURED-LOCATION;VALUE=URI;X-ADDRESS=Ministerio de Sanidad Paseo del Prado 18-20 Madrid Madrid España;X-APPLE-RADIUS=500;X-TITLE=Paseo del Prado\, 18-20:geo:-3.694118,40.4133967
END:VEVENT
BEGIN:VEVENT
DTSTART;TZID=Europe/Madrid:20240411T100000
DTEND;TZID=Europe/Madrid:20240411T110000
DTSTAMP:20260422T082921
CREATED:20240409T142327Z
LAST-MODIFIED:20240409T142327Z
UID:10047668-1712829600-1712833200@fravm.org
SUMMARY:Reunión con Grupo motor gobierno abierto
DESCRIPTION:
URL:https://fravm.org/evento/reunion-con-grupo-motor-gobierno-abierto/
LOCATION:Online
CATEGORIES:Pública
END:VEVENT
BEGIN:VEVENT
DTSTART;TZID=Europe/Madrid:20240411T090000
DTEND;TZID=Europe/Madrid:20240411T140000
DTSTAMP:20260422T082921
CREATED:20240326T135325Z
LAST-MODIFIED:20240326T135325Z
UID:10047660-1712826000-1712844000@fravm.org
SUMMARY:Asistencia a las vistas de las juntas arbitrales de consumo de la Comunidad de Madrid
DESCRIPTION:
URL:https://fravm.org/evento/asistencia-a-las-vistas-de-las-juntas-arbitrales-de-consumo-de-la-comunidad-de-madrid-32/
CATEGORIES:Pública
END:VEVENT
BEGIN:VEVENT
DTSTART;TZID=Europe/Madrid:20240410T190000
DTEND;TZID=Europe/Madrid:20240410T200000
DTSTAMP:20260422T082921
CREATED:20240326T135325Z
LAST-MODIFIED:20240326T135325Z
UID:10047659-1712775600-1712779200@fravm.org
SUMMARY:Asistencia a la mesa redonda “Los pisos turísticos vs\, alquiler. La controversia no cesa”. UAM
DESCRIPTION:
URL:https://fravm.org/evento/asistencia-a-la-mesa-redonda-los-pisos-turisticos-vs-alquiler-la-controversia-no-cesa-uam/
LOCATION:Instituto Geográfico Nacional\, Calle del Gral. Ibáñez de Ibero\, 3\, Chamberí\, 28003 Madrid\, España
CATEGORIES:Pública
END:VEVENT
BEGIN:VEVENT
DTSTART;TZID=Europe/Madrid:20240410T160000
DTEND;TZID=Europe/Madrid:20240410T180000
DTSTAMP:20260422T082921
CREATED:20240409T142326Z
LAST-MODIFIED:20240409T142326Z
UID:10047667-1712764800-1712772000@fravm.org
SUMMARY:Reunión GM Mayores
DESCRIPTION:
URL:https://fravm.org/evento/reunion-gm-mayores-2/
LOCATION:Online
CATEGORIES:Pública
END:VEVENT
BEGIN:VEVENT
DTSTART;TZID=Europe/Madrid:20240410T110000
DTEND;TZID=Europe/Madrid:20240410T120000
DTSTAMP:20260422T082921
CREATED:20240401T140827Z
LAST-MODIFIED:20240401T140827Z
UID:10047662-1712746800-1712750400@fravm.org
SUMMARY:Reunión con AVS La Uva de Hortaleza
DESCRIPTION:
URL:https://fravm.org/evento/reunion-con-avs-la-uva-de-hortaleza/
LOCATION:Agencia de Vivienda Social C/ Basilica\, 23
CATEGORIES:Pública
END:VEVENT
BEGIN:VEVENT
DTSTART;TZID=Europe/Madrid:20240409T190000
DTEND;TZID=Europe/Madrid:20240409T203000
DTSTAMP:20260422T082921
CREATED:20240409T142326Z
LAST-MODIFIED:20240409T142326Z
UID:10047666-1712689200-1712694600@fravm.org
SUMMARY:Reunión PGOUM con AAVV de Ciudad Lineal
DESCRIPTION:
URL:https://fravm.org/evento/reunion-pgoum-con-aavv-de-ciudad-lineal/
CATEGORIES:Pública
END:VEVENT
BEGIN:VEVENT
DTSTART;TZID=Europe/Madrid:20240409T160000
DTEND;TZID=Europe/Madrid:20240409T163000
DTSTAMP:20260422T082921
CREATED:20240404T140825Z
LAST-MODIFIED:20240404T140825Z
UID:10047665-1712678400-1712680200@fravm.org
SUMMARY:Reunión Concertación PIBA Vicálvaro
DESCRIPTION:
URL:https://fravm.org/evento/reunion-concertacion-piba-vicalvaro/
LOCATION:Online
CATEGORIES:Pública
END:VEVENT
BEGIN:VEVENT
DTSTART;TZID=Europe/Madrid:20240405T103000
DTEND;TZID=Europe/Madrid:20240405T113000
DTSTAMP:20260422T082921
CREATED:20240403T140827Z
LAST-MODIFIED:20240403T140827Z
UID:10047663-1712313000-1712316600@fravm.org
SUMMARY:Asistencia al Consejo para la promoción de la accesibilidad de barreras
DESCRIPTION:
URL:https://fravm.org/evento/asistencia-al-consejo-para-la-promocion-de-la-accesibilidad-de-barreras/
LOCATION:Online
CATEGORIES:Pública
END:VEVENT
BEGIN:VEVENT
DTSTART;TZID=Europe/Madrid:20240404T163000
DTEND;TZID=Europe/Madrid:20240404T173000
DTSTAMP:20260422T082921
CREATED:20240325T135349Z
LAST-MODIFIED:20240325T135349Z
UID:10047658-1712248200-1712251800@fravm.org
SUMMARY:Reunión con coordinación comisiones-Comisión DFyA
DESCRIPTION:
URL:https://fravm.org/evento/reunion-con-coordinacion-comisiones-comision-dfya/
LOCATION:Online
CATEGORIES:Pública
END:VEVENT
BEGIN:VEVENT
DTSTART;TZID=Europe/Madrid:20240404T110000
DTEND;TZID=Europe/Madrid:20240404T120000
DTSTAMP:20260422T082921
CREATED:20240327T135348Z
LAST-MODIFIED:20240327T135348Z
UID:10047661-1712228400-1712232000@fravm.org
SUMMARY:Asistencia a la Jornada sobre Inteligencia Artificial Parlamento
DESCRIPTION:
URL:https://fravm.org/evento/asistencia-a-la-jornada-sobre-inteligencia-artificial-parlamento/
CATEGORIES:Pública
END:VEVENT
BEGIN:VEVENT
DTSTART;TZID=Europe/Madrid:20240325T100000
DTEND;TZID=Europe/Madrid:20240325T110000
DTSTAMP:20260422T082921
CREATED:20240322T133826Z
LAST-MODIFIED:20240322T133826Z
UID:10047657-1711360800-1711364400@fravm.org
SUMMARY:Asistencia Red ONDD
DESCRIPTION:
URL:https://fravm.org/evento/asistencia-red-ondd/
CATEGORIES:Pública
END:VEVENT
BEGIN:VEVENT
DTSTART;TZID=Europe/Madrid:20240321T123000
DTEND;TZID=Europe/Madrid:20240321T140000
DTSTAMP:20260422T082921
CREATED:20240320T133829Z
LAST-MODIFIED:20240320T133829Z
UID:10047656-1711024200-1711029600@fravm.org
SUMMARY:Reunión con la asociación Carabanchel Distrito Cultural
DESCRIPTION:
URL:https://fravm.org/evento/reunion-con-la-asociacion-carabanchel-distrito-cultural/
CATEGORIES:Pública
END:VEVENT
BEGIN:VEVENT
DTSTART;TZID=Europe/Madrid:20240321T090000
DTEND;TZID=Europe/Madrid:20240321T140000
DTSTAMP:20260422T082921
CREATED:20240307T123830Z
LAST-MODIFIED:20240307T123830Z
UID:10047643-1711011600-1711029600@fravm.org
SUMMARY:Asistencia a las vistas de las juntas arbitrales de consumo de la Comunidad de Madrid
DESCRIPTION:
URL:https://fravm.org/evento/asistencia-a-las-vistas-de-las-juntas-arbitrales-de-consumo-de-la-comunidad-de-madrid-31/
CATEGORIES:Pública
END:VEVENT
BEGIN:VEVENT
DTSTART;TZID=Europe/Madrid:20240320T190000
DTEND;TZID=Europe/Madrid:20240320T200000
DTSTAMP:20260422T082921
CREATED:20240304T122328Z
LAST-MODIFIED:20240304T122328Z
UID:10047637-1710961200-1710964800@fravm.org
SUMMARY:Reunión sobre PGOUM con AAVV distrito Villaverde
DESCRIPTION:
URL:https://fravm.org/evento/reunion-sobre-pgoum-con-aavv-distrito-villaverde/
LOCATION:La Incolora asociación Vecinal\, C. Acebes\, Villaverde\, 28021 Madrid\, España
CATEGORIES:Pública
END:VEVENT
BEGIN:VEVENT
DTSTART;TZID=Europe/Madrid:20240319T190000
DTEND;TZID=Europe/Madrid:20240319T200000
DTSTAMP:20260422T082921
CREATED:20240319T133826Z
LAST-MODIFIED:20240319T133826Z
UID:10047655-1710874800-1710878400@fravm.org
SUMMARY:Reunión con asociaciones Grandes Eventos
DESCRIPTION:
URL:https://fravm.org/evento/reunion-con-asociaciones-grandes-eventos/
LOCATION:Espacio Vecinal Paco Caño\, Calle San Cosme y San Damián\, 24\, 1º dcha.\, Madrid\, Madrid\, España
CATEGORIES:Pública
GEO:40.4088411;-3.6987862
X-APPLE-STRUCTURED-LOCATION;VALUE=URI;X-ADDRESS=Espacio Vecinal Paco Caño Calle San Cosme y San Damián 24 1º dcha. Madrid Madrid España;X-APPLE-RADIUS=500;X-TITLE=Calle San Cosme y San Damián\, 24\, 1º dcha.:geo:-3.6987862,40.4088411
END:VEVENT
BEGIN:VEVENT
DTSTART;TZID=Europe/Madrid:20240318T190000
DTEND;TZID=Europe/Madrid:20240318T201500
DTSTAMP:20260422T082921
CREATED:20240304T122328Z
LAST-MODIFIED:20240304T122328Z
UID:10047636-1710788400-1710792900@fravm.org
SUMMARY:Reunión sobre PGOUM con AAVV distrito Fuencarral
DESCRIPTION:
URL:https://fravm.org/evento/reunion-sobre-pgoum-con-aavv-distrito-fuencarral/
LOCATION:Centro Social Guatemala C/ Celanova\, 2
CATEGORIES:Pública
END:VEVENT
BEGIN:VEVENT
DTSTART;TZID=Europe/Madrid:20240318T100000
DTEND;TZID=Europe/Madrid:20240318T110000
DTSTAMP:20260422T082921
CREATED:20240311T125328Z
LAST-MODIFIED:20240311T125328Z
UID:10047650-1710756000-1710759600@fravm.org
SUMMARY:Reunión con asociaciones-Consejo cívico
DESCRIPTION:
URL:https://fravm.org/evento/reunion-con-asociaciones-consejo-civico/
LOCATION:Online
CATEGORIES:Pública
END:VEVENT
BEGIN:VEVENT
DTSTART;TZID=Europe/Madrid:20240315T120000
DTEND;TZID=Europe/Madrid:20240315T130000
DTSTAMP:20260422T082921
CREATED:20240314T130827Z
LAST-MODIFIED:20240314T130827Z
UID:10047654-1710504000-1710507600@fravm.org
SUMMARY:Asistencia a la Comisión de Pleno de Vicealcaldía\, Portavoz\, Seguridad y Emergencias
DESCRIPTION:
URL:https://fravm.org/evento/asistencia-a-la-comision-de-pleno-de-vicealcaldia-portavoz-seguridad-y-emergencias/
LOCATION:Casa de Cisneros\, Pl. de la Villa\, 4\, Centro\, 28005 Madrid\, España
CATEGORIES:Pública
END:VEVENT
BEGIN:VEVENT
DTSTART;TZID=Europe/Madrid:20240315T103000
DTEND;TZID=Europe/Madrid:20240315T120000
DTSTAMP:20260422T082921
CREATED:20240313T130827Z
LAST-MODIFIED:20240313T130827Z
UID:10047652-1710498600-1710504000@fravm.org
SUMMARY:Reunión con CLESA
DESCRIPTION:
URL:https://fravm.org/evento/reunion-con-clesa-3/
LOCATION:Online
CATEGORIES:Pública
END:VEVENT
BEGIN:VEVENT
DTSTART;TZID=Europe/Madrid:20240315T103000
DTEND;TZID=Europe/Madrid:20240315T120000
DTSTAMP:20260422T082921
CREATED:20240305T123827Z
LAST-MODIFIED:20240305T123827Z
UID:10047640-1710498600-1710504000@fravm.org
SUMMARY:Reunión con CLESA
DESCRIPTION:
URL:https://fravm.org/evento/reunion-con-clesa-2/
LOCATION:Online
CATEGORIES:Pública
END:VEVENT
BEGIN:VEVENT
DTSTART;TZID=Europe/Madrid:20240315T100000
DTEND;TZID=Europe/Madrid:20240315T113000
DTSTAMP:20260422T082921
CREATED:20240313T130827Z
LAST-MODIFIED:20240313T130827Z
UID:10047651-1710496800-1710502200@fravm.org
SUMMARY:Reunión seguimiento PIBA Tetuán
DESCRIPTION:
URL:https://fravm.org/evento/reunion-seguimiento-piba-tetuan/
LOCATION:Online
CATEGORIES:Pública
END:VEVENT
BEGIN:VEVENT
DTSTART;TZID=Europe/Madrid:20240315T093000
DTEND;TZID=Europe/Madrid:20240315T103000
DTSTAMP:20260422T082921
CREATED:20240314T130827Z
LAST-MODIFIED:20240314T130827Z
UID:10047653-1710495000-1710498600@fravm.org
SUMMARY:Reunión con GMS Tabacalera
DESCRIPTION:
URL:https://fravm.org/evento/reunion-con-gms-tabacalera/
LOCATION:C/ Mayor\, 71
CATEGORIES:Pública
END:VEVENT
BEGIN:VEVENT
DTSTART;TZID=Europe/Madrid:20240314T103000
DTEND;TZID=Europe/Madrid:20240314T113000
DTSTAMP:20260422T082921
CREATED:20240311T125328Z
LAST-MODIFIED:20240311T125328Z
UID:10047649-1710412200-1710415800@fravm.org
SUMMARY:Asistencia a Acto de presentación informe de vivienda: “Madrid\, ciudad tensionada. Análisis y diagnóstico para la formulación de políticas". Más Madrid
DESCRIPTION:
URL:https://fravm.org/evento/asistencia-a-acto-de-presentacion-informe-de-vivienda-madrid-ciudad-tensionada-analisis-y-diagnostico-para-la-formulacion-de-politicas-mas-madrid/
LOCATION:Calle de Larra\, 14\, Centro\, 28004 Madrid\, España
CATEGORIES:Pública
END:VEVENT
BEGIN:VEVENT
DTSTART;TZID=Europe/Madrid:20240313T180000
DTEND;TZID=Europe/Madrid:20240313T200000
DTSTAMP:20260422T082921
CREATED:20240304T122328Z
LAST-MODIFIED:20240304T122328Z
UID:10047635-1710352800-1710360000@fravm.org
SUMMARY:Reunión sobre PGOUM con AAVV distritos Hortaleza y Barajas
DESCRIPTION:
URL:https://fravm.org/evento/reunion-sobre-pgoum-con-aavv-distritos-hortaleza-y-barajas/
LOCATION:Asociación Vecinal Villa Rosa\, C. de El Provencio\, 37\, Hortaleza\, 28043 Madrid\, España
CATEGORIES:Pública
END:VEVENT
BEGIN:VEVENT
DTSTART;TZID=Europe/Madrid:20240313T160000
DTEND;TZID=Europe/Madrid:20240313T170000
DTSTAMP:20260422T082921
CREATED:20240311T125327Z
LAST-MODIFIED:20240311T125327Z
UID:10047648-1710345600-1710349200@fravm.org
SUMMARY:Reunión con Delegación de Gobierno en Madrid
DESCRIPTION:
URL:https://fravm.org/evento/reunion-con-delegacion-de-gobierno-en-madrid-3/
LOCATION:Delegación del Gobierno en Madrid\, C. de Miguel Ángel\, 25\, Chamberí\, 28010 Madrid\, España
CATEGORIES:Pública
END:VEVENT
END:VCALENDAR