BEGIN:VCALENDAR
VERSION:2.0
PRODID:-//FRAVM - ECPv6.15.20//NONSGML v1.0//EN
CALSCALE:GREGORIAN
METHOD:PUBLISH
X-WR-CALNAME:FRAVM
X-ORIGINAL-URL:https://fravm.org
X-WR-CALDESC:Eventos para FRAVM
REFRESH-INTERVAL;VALUE=DURATION:PT1H
X-Robots-Tag:noindex
X-PUBLISHED-TTL:PT1H
BEGIN:VTIMEZONE
TZID:Europe/Madrid
BEGIN:DAYLIGHT
TZOFFSETFROM:+0100
TZOFFSETTO:+0200
TZNAME:CEST
DTSTART:20230326T010000
END:DAYLIGHT
BEGIN:STANDARD
TZOFFSETFROM:+0200
TZOFFSETTO:+0100
TZNAME:CET
DTSTART:20231029T010000
END:STANDARD
BEGIN:DAYLIGHT
TZOFFSETFROM:+0100
TZOFFSETTO:+0200
TZNAME:CEST
DTSTART:20240331T010000
END:DAYLIGHT
BEGIN:STANDARD
TZOFFSETFROM:+0200
TZOFFSETTO:+0100
TZNAME:CET
DTSTART:20241027T010000
END:STANDARD
BEGIN:DAYLIGHT
TZOFFSETFROM:+0100
TZOFFSETTO:+0200
TZNAME:CEST
DTSTART:20250330T010000
END:DAYLIGHT
BEGIN:STANDARD
TZOFFSETFROM:+0200
TZOFFSETTO:+0100
TZNAME:CET
DTSTART:20251026T010000
END:STANDARD
END:VTIMEZONE
BEGIN:VEVENT
DTSTART;TZID=Europe/Madrid:20240311T180000
DTEND;TZID=Europe/Madrid:20240311T200000
DTSTAMP:20260422T130521
CREATED:20240304T122327Z
LAST-MODIFIED:20240304T122327Z
UID:10047632-1710180000-1710187200@fravm.org
SUMMARY:Asistencia a los actos homenaje a las víctimas del 11M
DESCRIPTION:
URL:https://fravm.org/evento/asistencia-a-los-actos-homenaje-a-las-victimas-del-11m-2/
LOCATION:Santa Eugenia y El Pozo
CATEGORIES:Pública
END:VEVENT
BEGIN:VEVENT
DTSTART;TZID=Europe/Madrid:20240311T103000
DTEND;TZID=Europe/Madrid:20240311T140000
DTSTAMP:20260422T130521
CREATED:20240304T122326Z
LAST-MODIFIED:20240304T122326Z
UID:10047631-1710153000-1710165600@fravm.org
SUMMARY:Asistencia a los actos Homenaje a las víctimas del 11M
DESCRIPTION:
URL:https://fravm.org/evento/asistencia-a-los-actos-homenaje-a-las-victimas-del-11m/
LOCATION:Estación de Atocha y C/ Téllez
CATEGORIES:Pública
END:VEVENT
BEGIN:VEVENT
DTSTART;TZID=Europe/Madrid:20240311T103000
DTEND;TZID=Europe/Madrid:20240311T120000
DTSTAMP:20260422T130521
CREATED:20240305T123827Z
LAST-MODIFIED:20240305T123827Z
UID:10047638-1710153000-1710158400@fravm.org
SUMMARY:Reunión con Clesa
DESCRIPTION:
URL:https://fravm.org/evento/reunion-con-clesa/
LOCATION:Online
CATEGORIES:Pública
END:VEVENT
BEGIN:VEVENT
DTSTART;TZID=Europe/Madrid:20240308T103000
DTEND;TZID=Europe/Madrid:20240308T113000
DTSTAMP:20260422T130521
CREATED:20240304T122326Z
LAST-MODIFIED:20240304T122326Z
UID:10047630-1709893800-1709897400@fravm.org
SUMMARY:Asistencia a la comisión técnica de accesibilidad de modos de transporte
DESCRIPTION:
URL:https://fravm.org/evento/asistencia-a-la-comision-tecnica-de-accesibilidad-de-modos-de-transporte/
CATEGORIES:Pública
END:VEVENT
BEGIN:VEVENT
DTSTART;TZID=Europe/Madrid:20240308T100000
DTEND;TZID=Europe/Madrid:20240308T120000
DTSTAMP:20260422T130521
CREATED:20240307T123830Z
LAST-MODIFIED:20240307T123830Z
UID:10047641-1709892000-1709899200@fravm.org
SUMMARY:Asistencia al acto de entrega de la I edición de los “Reconocimientos 8M. 8 Mujeres\, 8 Motivos” organizada por la Delegación del Gobierno en Madrid
DESCRIPTION:
URL:https://fravm.org/evento/asistencia-al-acto-de-entrega-de-la-i-edicion-de-los-reconocimientos-8m-8-mujeres-8-motivos-organizada-por-la-delegacion-del-gobierno-en-madrid/
LOCATION:C. de Miguel Ángel\, 25\, Chamberí\, 28010 Madrid\, España
CATEGORIES:Pública
END:VEVENT
BEGIN:VEVENT
DTSTART;TZID=Europe/Madrid:20240308T093000
DTEND;TZID=Europe/Madrid:20240308T103000
DTSTAMP:20260422T130521
CREATED:20240226T122329Z
LAST-MODIFIED:20240226T122329Z
UID:10047626-1709890200-1709893800@fravm.org
SUMMARY:Asistencia al Desayuno Informativo con el consejero de Vivienda\, Transportes e Infraestructuras de la Comunidad de Madrid
DESCRIPTION:
URL:https://fravm.org/evento/asistencia-al-desayuno-informativo-con-el-consejero-de-vivienda-transportes-e-infraestructuras-de-la-comunidad-de-madrid/
LOCATION:Hotel Westin Palace (Pl. de las Cortes\, 7\, 28014\, Madrid)
CATEGORIES:Pública
END:VEVENT
BEGIN:VEVENT
DTSTART;TZID=Europe/Madrid:20240307T090000
DTEND;TZID=Europe/Madrid:20240307T140000
DTSTAMP:20260422T130521
CREATED:20240226T122329Z
LAST-MODIFIED:20240226T122329Z
UID:10047625-1709802000-1709820000@fravm.org
SUMMARY:Asistencia a las vistas de las juntas arbitrales de consumo de la Comunidad de Madrid
DESCRIPTION:
URL:https://fravm.org/evento/asistencia-a-las-vistas-de-las-juntas-arbitrales-de-consumo-de-la-comunidad-de-madrid-30/
CATEGORIES:Pública
END:VEVENT
BEGIN:VEVENT
DTSTART;TZID=Europe/Madrid:20240306T190000
DTEND;TZID=Europe/Madrid:20240306T200000
DTSTAMP:20260422T130521
CREATED:20240227T122326Z
LAST-MODIFIED:20240227T122326Z
UID:10047627-1709751600-1709755200@fravm.org
SUMMARY:Asistencia a asamblea Informativa sobre Viviendas de Uso Turístico
DESCRIPTION:
URL:https://fravm.org/evento/asistencia-a-asamblea-informativa-sobre-viviendas-de-uso-turistico/
LOCATION:Asociacion de Vecinos la Corrala Latina-Rastro-Lavapies\, C. de Lavapiés\, 38\, Centro\, 28012 Madrid\, España
CATEGORIES:Pública
END:VEVENT
BEGIN:VEVENT
DTSTART;TZID=Europe/Madrid:20240306T183000
DTEND;TZID=Europe/Madrid:20240306T203000
DTSTAMP:20260422T130521
CREATED:20240226T122328Z
LAST-MODIFIED:20240226T122328Z
UID:10047624-1709749800-1709757000@fravm.org
SUMMARY:Reunión de la Junta Directiva de la FRAVM
DESCRIPTION:
URL:https://fravm.org/evento/reunion-de-la-junta-directiva-de-la-fravm-45/
LOCATION:Espacio Vecinal Paco Caño\, Calle San Cosme y San Damián\, 24\, 1º dcha.\, Madrid\, Madrid\, España
CATEGORIES:Pública
GEO:40.4088411;-3.6987862
X-APPLE-STRUCTURED-LOCATION;VALUE=URI;X-ADDRESS=Espacio Vecinal Paco Caño Calle San Cosme y San Damián 24 1º dcha. Madrid Madrid España;X-APPLE-RADIUS=500;X-TITLE=Calle San Cosme y San Damián\, 24\, 1º dcha.:geo:-3.6987862,40.4088411
END:VEVENT
BEGIN:VEVENT
DTSTART;TZID=Europe/Madrid:20240306T093000
DTEND;TZID=Europe/Madrid:20240306T103000
DTSTAMP:20260422T130521
CREATED:20240304T122326Z
LAST-MODIFIED:20240304T122326Z
UID:10047629-1709717400-1709721000@fravm.org
SUMMARY:Asistencia a Mesa técnica sectorial Cultura y Deporte
DESCRIPTION:
URL:https://fravm.org/evento/asistencia-a-mesa-tecnica-sectorial-cultura-y-deporte/
LOCATION:Online
CATEGORIES:Pública
END:VEVENT
BEGIN:VEVENT
DTSTART;TZID=Europe/Madrid:20240305T180000
DTEND;TZID=Europe/Madrid:20240305T200000
DTSTAMP:20260422T130521
CREATED:20240226T122328Z
LAST-MODIFIED:20240226T122328Z
UID:10047623-1709661600-1709668800@fravm.org
SUMMARY:Reunión sobre PGOUM con AAVV de Almendra Central
DESCRIPTION:
URL:https://fravm.org/evento/reunion-sobre-pgoum-con-aavv-de-almendra-central/
LOCATION:Asociacion de Vecinos la Corrala Latina-Rastro-Lavapies\, C. de Lavapiés\, 38\, Centro\, 28012 Madrid\, España
CATEGORIES:Pública
END:VEVENT
BEGIN:VEVENT
DTSTART;TZID=Europe/Madrid:20240305T163000
DTEND;TZID=Europe/Madrid:20240305T190000
DTSTAMP:20260422T130521
CREATED:20240304T122326Z
LAST-MODIFIED:20240304T122326Z
UID:10047628-1709656200-1709665200@fravm.org
SUMMARY:Reunión GM Mayores
DESCRIPTION:
URL:https://fravm.org/evento/reunion-gm-mayores/
LOCATION:Online
CATEGORIES:Pública
END:VEVENT
BEGIN:VEVENT
DTSTART;TZID=Europe/Madrid:20240305T160000
DTEND;TZID=Europe/Madrid:20240305T170000
DTSTAMP:20260422T130521
CREATED:20240226T122328Z
LAST-MODIFIED:20240226T122328Z
UID:10047622-1709654400-1709658000@fravm.org
SUMMARY:Intervención en Comparecencia en la Asamblea de Madrid sobre Economía Circular
DESCRIPTION:
URL:https://fravm.org/evento/intervencion-en-comparecencia-en-la-asamblea-de-madrid-sobre-economia-circular/
LOCATION:Asamblea de Madrid\, Av. de Pablo Neruda\, 142\, Puente de Vallecas\, 28018 Madrid\, España
CATEGORIES:Pública
END:VEVENT
BEGIN:VEVENT
DTSTART;TZID=Europe/Madrid:20240304T183000
DTEND;TZID=Europe/Madrid:20240304T203000
DTSTAMP:20260422T130521
CREATED:20240226T122327Z
LAST-MODIFIED:20240226T122327Z
UID:10047621-1709577000-1709584200@fravm.org
SUMMARY:Reunión sobre PGOUM con AAVV  Arganzuela
DESCRIPTION:
URL:https://fravm.org/evento/reunion-sobre-pgoum-con-aavv-arganzuela/
LOCATION:Espacio Vecinal Paco Caño\, Calle San Cosme y San Damián\, 24\, 1º dcha.\, Madrid\, Madrid\, España
CATEGORIES:Pública
GEO:40.4088411;-3.6987862
X-APPLE-STRUCTURED-LOCATION;VALUE=URI;X-ADDRESS=Espacio Vecinal Paco Caño Calle San Cosme y San Damián 24 1º dcha. Madrid Madrid España;X-APPLE-RADIUS=500;X-TITLE=Calle San Cosme y San Damián\, 24\, 1º dcha.:geo:-3.6987862,40.4088411
END:VEVENT
BEGIN:VEVENT
DTSTART;TZID=Europe/Madrid:20240302T113000
DTEND;TZID=Europe/Madrid:20240302T140000
DTSTAMP:20260422T130521
CREATED:20240223T122329Z
LAST-MODIFIED:20240223T122329Z
UID:10047613-1709379000-1709388000@fravm.org
SUMMARY:Intervención en encuentro ‘La ciudad de la precarieAPP’
DESCRIPTION:
URL:https://fravm.org/evento/intervencion-en-encuentro-la-ciudad-de-la-precarieapp/
LOCATION:Centro de Creación Contemporánea Quinta del Sordo\, C. del Rosario\, 15\, Centro\, 28005 Madrid\, España
CATEGORIES:Pública
END:VEVENT
BEGIN:VEVENT
DTSTART;TZID=Europe/Madrid:20240301T110000
DTEND;TZID=Europe/Madrid:20240301T120000
DTSTAMP:20260422T130521
CREATED:20240226T122327Z
LAST-MODIFIED:20240226T122327Z
UID:10047620-1709290800-1709294400@fravm.org
SUMMARY:Asistencia a Reunión del Foro Nesi
DESCRIPTION:
URL:https://fravm.org/evento/asistencia-a-reunion-del-foro-nesi/
LOCATION:Online
CATEGORIES:Pública
END:VEVENT
BEGIN:VEVENT
DTSTART;TZID=Europe/Madrid:20240301T103000
DTEND;TZID=Europe/Madrid:20240301T113000
DTSTAMP:20260422T130521
CREATED:20240223T122329Z
LAST-MODIFIED:20240223T122329Z
UID:10047612-1709289000-1709292600@fravm.org
SUMMARY:Comisión Técnica de Accesibilidad de Urbanismo y Edificación
DESCRIPTION:
URL:https://fravm.org/evento/comision-tecnica-de-accesibilidad-de-urbanismo-y-edificacion-2/
CATEGORIES:Pública
END:VEVENT
BEGIN:VEVENT
DTSTART;TZID=Europe/Madrid:20240229T203000
DTEND;TZID=Europe/Madrid:20240229T213000
DTSTAMP:20260422T130522
CREATED:20240226T122327Z
LAST-MODIFIED:20240226T122327Z
UID:10047619-1709238600-1709242200@fravm.org
SUMMARY:Encuentro de la Cultura con Gaza
DESCRIPTION:
URL:https://fravm.org/evento/encuentro-de-la-cultura-con-gaza/
LOCATION:C. de Valencia\, 4\, Centro\, 28012 Madrid\, España
CATEGORIES:Pública
END:VEVENT
BEGIN:VEVENT
DTSTART;TZID=Europe/Madrid:20240229T183000
DTEND;TZID=Europe/Madrid:20240229T203000
DTSTAMP:20260422T130522
CREATED:20240226T122327Z
LAST-MODIFIED:20240226T122327Z
UID:10047618-1709231400-1709238600@fravm.org
SUMMARY:Intervención en Mesa Redonda sobre la normativa de los vehículos de movilidad personal organizada por Mas Madrid
DESCRIPTION:
URL:https://fravm.org/evento/intervencion-en-mesa-redonda-sobre-la-normativa-de-los-vehiculos-de-movilidad-personal-organizada-por-mas-madrid/
LOCATION:P.º de las Acacias\, 52\, Arganzuela\, 28005 Madrid\, España
CATEGORIES:Pública
END:VEVENT
BEGIN:VEVENT
DTSTART;TZID=Europe/Madrid:20240229T183000
DTEND;TZID=Europe/Madrid:20240229T203000
DTSTAMP:20260422T130522
CREATED:20240223T122329Z
LAST-MODIFIED:20240223T122329Z
UID:10047611-1709231400-1709238600@fravm.org
SUMMARY:Reunión sobre PGOUM de AAVV del distrito de Usera
DESCRIPTION:
URL:https://fravm.org/evento/reunion-sobre-pgoum-de-aavv-del-distrito-de-usera/
CATEGORIES:Pública
END:VEVENT
BEGIN:VEVENT
DTSTART;TZID=Europe/Madrid:20240229T090000
DTEND;TZID=Europe/Madrid:20240229T140000
DTSTAMP:20260422T130522
CREATED:20240222T122325Z
LAST-MODIFIED:20240222T122325Z
UID:10047598-1709197200-1709215200@fravm.org
SUMMARY:Asistencia a las vistas de las juntas arbitrales de consumo de la Comunidad de Madrid
DESCRIPTION:
URL:https://fravm.org/evento/asistencia-a-las-vistas-de-las-juntas-arbitrales-de-consumo-de-la-comunidad-de-madrid-29/
CATEGORIES:Pública
END:VEVENT
BEGIN:VEVENT
DTSTART;TZID=Europe/Madrid:20240228T190000
DTEND;TZID=Europe/Madrid:20240228T200000
DTSTAMP:20260422T130522
CREATED:20240226T122327Z
LAST-MODIFIED:20240226T122327Z
UID:10047617-1709146800-1709150400@fravm.org
SUMMARY:Acto Informativo sobre Viviendas de Uso Turístico en Retiro
DESCRIPTION:
URL:https://fravm.org/evento/acto-informativo-sobre-viviendas-de-uso-turistico-en-retiro/
CATEGORIES:Pública
END:VEVENT
BEGIN:VEVENT
DTSTART;TZID=Europe/Madrid:20240228T190000
DTEND;TZID=Europe/Madrid:20240228T200000
DTSTAMP:20260422T130522
CREATED:20240223T122329Z
LAST-MODIFIED:20240223T122329Z
UID:10047610-1709146800-1709150400@fravm.org
SUMMARY:Intervención en el acto sobre placas solares de AV Mejorada del Campo
DESCRIPTION:
URL:https://fravm.org/evento/intervencion-en-el-acto-sobre-placas-solares-de-av-mejorada-del-campo/
CATEGORIES:Pública
END:VEVENT
BEGIN:VEVENT
DTSTART;TZID=Europe/Madrid:20240228T170000
DTEND;TZID=Europe/Madrid:20240228T180000
DTSTAMP:20260422T130522
CREATED:20240223T122329Z
LAST-MODIFIED:20240223T122329Z
UID:10047609-1709139600-1709143200@fravm.org
SUMMARY:Visita con el Concejal JMD Centro al parque de la Cornisa
DESCRIPTION:
URL:https://fravm.org/evento/visita-con-el-concejal-jmd-centro-al-parque-de-la-cornisa/
CATEGORIES:Pública
END:VEVENT
BEGIN:VEVENT
DTSTART;TZID=Europe/Madrid:20240228T110000
DTEND;TZID=Europe/Madrid:20240228T120000
DTSTAMP:20260422T130522
CREATED:20240224T122326Z
LAST-MODIFIED:20240224T122326Z
UID:10047616-1709118000-1709121600@fravm.org
SUMMARY:Asistencia a reunión de la MERP con la presidenta del Pacto de Toledo sobre Pensiones
DESCRIPTION:
URL:https://fravm.org/evento/asistencia-a-reunion-de-la-merp-con-la-presidenta-del-pacto-de-toledo-sobre-pensiones/
CATEGORIES:Pública
END:VEVENT
BEGIN:VEVENT
DTSTART;TZID=Europe/Madrid:20240228T110000
DTEND;TZID=Europe/Madrid:20240228T113000
DTSTAMP:20260422T130522
CREATED:20240224T122326Z
LAST-MODIFIED:20240224T122326Z
UID:10047614-1709118000-1709119800@fravm.org
SUMMARY:Reunión con el Grupo Parlamentario Popular de la Asamblea de Madrid - VUT
DESCRIPTION:
URL:https://fravm.org/evento/reunion-con-el-grupo-parlamentario-popular-de-la-asamblea-de-madrid-vut/
LOCATION:Asamblea de Madrid\, Av. de Pablo Neruda\, 142\, Puente de Vallecas\, 28018 Madrid\, España
CATEGORIES:Pública
END:VEVENT
BEGIN:VEVENT
DTSTART;TZID=Europe/Madrid:20240228T100000
DTEND;TZID=Europe/Madrid:20240228T110000
DTSTAMP:20260422T130522
CREATED:20240224T122326Z
LAST-MODIFIED:20240224T122326Z
UID:10047615-1709114400-1709118000@fravm.org
SUMMARY:Reunión con Grupo Parlamentario Socialista de la Asamblea de Madrid - Medioambiente
DESCRIPTION:
URL:https://fravm.org/evento/reunion-con-grupo-parlamentario-socialista-de-la-asamblea-de-madrid-medioambiente/
LOCATION:Asamblea de Madrid\, Av. de Pablo Neruda\, 142\, Puente de Vallecas\, 28018 Madrid\, España
CATEGORIES:Pública
END:VEVENT
BEGIN:VEVENT
DTSTART;TZID=Europe/Madrid:20240228T090000
DTEND;TZID=Europe/Madrid:20240228T140000
DTSTAMP:20260422T130522
CREATED:20240220T120828Z
LAST-MODIFIED:20240220T120828Z
UID:10047595-1709110800-1709128800@fravm.org
SUMMARY:Asistencia a las vistas de las juntas arbitrales de consumo de la Comunidad de Madrid
DESCRIPTION:
URL:https://fravm.org/evento/asistencia-a-las-vistas-de-las-juntas-arbitrales-de-consumo-de-la-comunidad-de-madrid-28/
CATEGORIES:Pública
END:VEVENT
BEGIN:VEVENT
DTSTART;TZID=Europe/Madrid:20240228T090000
DTEND;TZID=Europe/Madrid:20240228T100000
DTSTAMP:20260422T130522
CREATED:20240223T122328Z
LAST-MODIFIED:20240223T122328Z
UID:10047608-1709110800-1709114400@fravm.org
SUMMARY:Mesa Técnica Sectorial Movilidad y Transporte Público SURES
DESCRIPTION:
URL:https://fravm.org/evento/mesa-tecnica-sectorial-movilidad-y-transporte-publico-sures-2/
LOCATION:Online
CATEGORIES:Pública
END:VEVENT
BEGIN:VEVENT
DTSTART;TZID=Europe/Madrid:20240227T190000
DTEND;TZID=Europe/Madrid:20240227T210000
DTSTAMP:20260422T130522
CREATED:20240223T122328Z
LAST-MODIFIED:20240223T122328Z
UID:10047607-1709060400-1709067600@fravm.org
SUMMARY:Reunión sobre PGOUM de las AAVV de Puente y Villa de Vallecas
DESCRIPTION:
URL:https://fravm.org/evento/reunion-sobre-pgoum-de-las-aavv-de-puente-y-villa-de-vallecas/
CATEGORIES:Pública
END:VEVENT
END:VCALENDAR