BEGIN:VCALENDAR
VERSION:2.0
PRODID:-//FRAVM - ECPv6.15.20//NONSGML v1.0//EN
CALSCALE:GREGORIAN
METHOD:PUBLISH
X-WR-CALNAME:FRAVM
X-ORIGINAL-URL:https://fravm.org
X-WR-CALDESC:Eventos para FRAVM
REFRESH-INTERVAL;VALUE=DURATION:PT1H
X-Robots-Tag:noindex
X-PUBLISHED-TTL:PT1H
BEGIN:VTIMEZONE
TZID:Europe/Madrid
BEGIN:DAYLIGHT
TZOFFSETFROM:+0100
TZOFFSETTO:+0200
TZNAME:CEST
DTSTART:20230326T010000
END:DAYLIGHT
BEGIN:STANDARD
TZOFFSETFROM:+0200
TZOFFSETTO:+0100
TZNAME:CET
DTSTART:20231029T010000
END:STANDARD
BEGIN:DAYLIGHT
TZOFFSETFROM:+0100
TZOFFSETTO:+0200
TZNAME:CEST
DTSTART:20240331T010000
END:DAYLIGHT
BEGIN:STANDARD
TZOFFSETFROM:+0200
TZOFFSETTO:+0100
TZNAME:CET
DTSTART:20241027T010000
END:STANDARD
BEGIN:DAYLIGHT
TZOFFSETFROM:+0100
TZOFFSETTO:+0200
TZNAME:CEST
DTSTART:20250330T010000
END:DAYLIGHT
BEGIN:STANDARD
TZOFFSETFROM:+0200
TZOFFSETTO:+0100
TZNAME:CET
DTSTART:20251026T010000
END:STANDARD
END:VTIMEZONE
BEGIN:VEVENT
DTSTART;TZID=Europe/Madrid:20240229T183000
DTEND;TZID=Europe/Madrid:20240229T203000
DTSTAMP:20260422T143535
CREATED:20240223T122329Z
LAST-MODIFIED:20240223T122329Z
UID:10047611-1709231400-1709238600@fravm.org
SUMMARY:Reunión sobre PGOUM de AAVV del distrito de Usera
DESCRIPTION:
URL:https://fravm.org/evento/reunion-sobre-pgoum-de-aavv-del-distrito-de-usera/
CATEGORIES:Pública
END:VEVENT
BEGIN:VEVENT
DTSTART;TZID=Europe/Madrid:20240229T090000
DTEND;TZID=Europe/Madrid:20240229T140000
DTSTAMP:20260422T143535
CREATED:20240222T122325Z
LAST-MODIFIED:20240222T122325Z
UID:10047598-1709197200-1709215200@fravm.org
SUMMARY:Asistencia a las vistas de las juntas arbitrales de consumo de la Comunidad de Madrid
DESCRIPTION:
URL:https://fravm.org/evento/asistencia-a-las-vistas-de-las-juntas-arbitrales-de-consumo-de-la-comunidad-de-madrid-29/
CATEGORIES:Pública
END:VEVENT
BEGIN:VEVENT
DTSTART;TZID=Europe/Madrid:20240228T190000
DTEND;TZID=Europe/Madrid:20240228T200000
DTSTAMP:20260422T143535
CREATED:20240226T122327Z
LAST-MODIFIED:20240226T122327Z
UID:10047617-1709146800-1709150400@fravm.org
SUMMARY:Acto Informativo sobre Viviendas de Uso Turístico en Retiro
DESCRIPTION:
URL:https://fravm.org/evento/acto-informativo-sobre-viviendas-de-uso-turistico-en-retiro/
CATEGORIES:Pública
END:VEVENT
BEGIN:VEVENT
DTSTART;TZID=Europe/Madrid:20240228T190000
DTEND;TZID=Europe/Madrid:20240228T200000
DTSTAMP:20260422T143535
CREATED:20240223T122329Z
LAST-MODIFIED:20240223T122329Z
UID:10047610-1709146800-1709150400@fravm.org
SUMMARY:Intervención en el acto sobre placas solares de AV Mejorada del Campo
DESCRIPTION:
URL:https://fravm.org/evento/intervencion-en-el-acto-sobre-placas-solares-de-av-mejorada-del-campo/
CATEGORIES:Pública
END:VEVENT
BEGIN:VEVENT
DTSTART;TZID=Europe/Madrid:20240228T170000
DTEND;TZID=Europe/Madrid:20240228T180000
DTSTAMP:20260422T143535
CREATED:20240223T122329Z
LAST-MODIFIED:20240223T122329Z
UID:10047609-1709139600-1709143200@fravm.org
SUMMARY:Visita con el Concejal JMD Centro al parque de la Cornisa
DESCRIPTION:
URL:https://fravm.org/evento/visita-con-el-concejal-jmd-centro-al-parque-de-la-cornisa/
CATEGORIES:Pública
END:VEVENT
BEGIN:VEVENT
DTSTART;TZID=Europe/Madrid:20240228T110000
DTEND;TZID=Europe/Madrid:20240228T120000
DTSTAMP:20260422T143535
CREATED:20240224T122326Z
LAST-MODIFIED:20240224T122326Z
UID:10047616-1709118000-1709121600@fravm.org
SUMMARY:Asistencia a reunión de la MERP con la presidenta del Pacto de Toledo sobre Pensiones
DESCRIPTION:
URL:https://fravm.org/evento/asistencia-a-reunion-de-la-merp-con-la-presidenta-del-pacto-de-toledo-sobre-pensiones/
CATEGORIES:Pública
END:VEVENT
BEGIN:VEVENT
DTSTART;TZID=Europe/Madrid:20240228T110000
DTEND;TZID=Europe/Madrid:20240228T113000
DTSTAMP:20260422T143535
CREATED:20240224T122326Z
LAST-MODIFIED:20240224T122326Z
UID:10047614-1709118000-1709119800@fravm.org
SUMMARY:Reunión con el Grupo Parlamentario Popular de la Asamblea de Madrid - VUT
DESCRIPTION:
URL:https://fravm.org/evento/reunion-con-el-grupo-parlamentario-popular-de-la-asamblea-de-madrid-vut/
LOCATION:Asamblea de Madrid\, Av. de Pablo Neruda\, 142\, Puente de Vallecas\, 28018 Madrid\, España
CATEGORIES:Pública
END:VEVENT
BEGIN:VEVENT
DTSTART;TZID=Europe/Madrid:20240228T100000
DTEND;TZID=Europe/Madrid:20240228T110000
DTSTAMP:20260422T143535
CREATED:20240224T122326Z
LAST-MODIFIED:20240224T122326Z
UID:10047615-1709114400-1709118000@fravm.org
SUMMARY:Reunión con Grupo Parlamentario Socialista de la Asamblea de Madrid - Medioambiente
DESCRIPTION:
URL:https://fravm.org/evento/reunion-con-grupo-parlamentario-socialista-de-la-asamblea-de-madrid-medioambiente/
LOCATION:Asamblea de Madrid\, Av. de Pablo Neruda\, 142\, Puente de Vallecas\, 28018 Madrid\, España
CATEGORIES:Pública
END:VEVENT
BEGIN:VEVENT
DTSTART;TZID=Europe/Madrid:20240228T090000
DTEND;TZID=Europe/Madrid:20240228T140000
DTSTAMP:20260422T143535
CREATED:20240220T120828Z
LAST-MODIFIED:20240220T120828Z
UID:10047595-1709110800-1709128800@fravm.org
SUMMARY:Asistencia a las vistas de las juntas arbitrales de consumo de la Comunidad de Madrid
DESCRIPTION:
URL:https://fravm.org/evento/asistencia-a-las-vistas-de-las-juntas-arbitrales-de-consumo-de-la-comunidad-de-madrid-28/
CATEGORIES:Pública
END:VEVENT
BEGIN:VEVENT
DTSTART;TZID=Europe/Madrid:20240228T090000
DTEND;TZID=Europe/Madrid:20240228T100000
DTSTAMP:20260422T143535
CREATED:20240223T122328Z
LAST-MODIFIED:20240223T122328Z
UID:10047608-1709110800-1709114400@fravm.org
SUMMARY:Mesa Técnica Sectorial Movilidad y Transporte Público SURES
DESCRIPTION:
URL:https://fravm.org/evento/mesa-tecnica-sectorial-movilidad-y-transporte-publico-sures-2/
LOCATION:Online
CATEGORIES:Pública
END:VEVENT
BEGIN:VEVENT
DTSTART;TZID=Europe/Madrid:20240227T190000
DTEND;TZID=Europe/Madrid:20240227T210000
DTSTAMP:20260422T143535
CREATED:20240223T122328Z
LAST-MODIFIED:20240223T122328Z
UID:10047607-1709060400-1709067600@fravm.org
SUMMARY:Reunión sobre PGOUM de las AAVV de Puente y Villa de Vallecas
DESCRIPTION:
URL:https://fravm.org/evento/reunion-sobre-pgoum-de-las-aavv-de-puente-y-villa-de-vallecas/
CATEGORIES:Pública
END:VEVENT
BEGIN:VEVENT
DTSTART;TZID=Europe/Madrid:20240227T160000
DTEND;TZID=Europe/Madrid:20240227T170000
DTSTAMP:20260422T143535
CREATED:20240223T122328Z
LAST-MODIFIED:20240223T122328Z
UID:10047606-1709049600-1709053200@fravm.org
SUMMARY:Reunión con FAPA
DESCRIPTION:
URL:https://fravm.org/evento/reunion-con-fapa/
CATEGORIES:Pública
END:VEVENT
BEGIN:VEVENT
DTSTART;TZID=Europe/Madrid:20240227T123000
DTEND;TZID=Europe/Madrid:20240227T133000
DTSTAMP:20260422T143535
CREATED:20240223T122328Z
LAST-MODIFIED:20240223T122328Z
UID:10047605-1709037000-1709040600@fravm.org
SUMMARY:Reunión con Delegación de Gobierno en Madrid
DESCRIPTION:
URL:https://fravm.org/evento/reunion-con-delegacion-de-gobierno-en-madrid-2/
CATEGORIES:Pública
END:VEVENT
BEGIN:VEVENT
DTSTART;TZID=Europe/Madrid:20240226T190000
DTEND;TZID=Europe/Madrid:20240226T210000
DTSTAMP:20260422T143535
CREATED:20240223T122328Z
LAST-MODIFIED:20240223T122328Z
UID:10047604-1708974000-1708981200@fravm.org
SUMMARY:Reunión PGOUM con AAVV del distrito de San BLas
DESCRIPTION:
URL:https://fravm.org/evento/reunion-pgoum-con-aavv-del-distrito-de-san-blas/
CATEGORIES:Pública
END:VEVENT
BEGIN:VEVENT
DTSTART;TZID=Europe/Madrid:20240226T170000
DTEND;TZID=Europe/Madrid:20240226T180000
DTSTAMP:20260422T143535
CREATED:20240223T122328Z
LAST-MODIFIED:20240223T122328Z
UID:10047603-1708966800-1708970400@fravm.org
SUMMARY:Asistencia a la reunión de la Plataforma Justa Freire
DESCRIPTION:
URL:https://fravm.org/evento/asistencia-a-la-reunion-de-la-plataforma-justa-freire-5/
CATEGORIES:Pública
END:VEVENT
BEGIN:VEVENT
DTSTART;TZID=Europe/Madrid:20240226T123000
DTEND;TZID=Europe/Madrid:20240226T133000
DTSTAMP:20260422T143535
CREATED:20240223T122328Z
LAST-MODIFIED:20240223T122328Z
UID:10047602-1708950600-1708954200@fravm.org
SUMMARY:Asistencia a reunión  elaboración del Cuarto Plan de Gobierno Abierto del Ayuntamiento de Madrid
DESCRIPTION:
URL:https://fravm.org/evento/asistencia-a-reunion-elaboracion-del-cuarto-plan-de-gobierno-abierto-del-ayuntamiento-de-madrid/
CATEGORIES:Pública
END:VEVENT
BEGIN:VEVENT
DTSTART;TZID=Europe/Madrid:20240226T110000
DTEND;TZID=Europe/Madrid:20240226T120000
DTSTAMP:20260422T143535
CREATED:20240223T122328Z
LAST-MODIFIED:20240223T122328Z
UID:10047601-1708945200-1708948800@fravm.org
SUMMARY:Reunión con Subdirección General de Ordenación y Desarrollo Normativo.  DG de Turismo y Hostelería
DESCRIPTION:
URL:https://fravm.org/evento/reunion-con-subdireccion-general-de-ordenacion-y-desarrollo-normativo-dg-de-turismo-y-hosteleria/
CATEGORIES:Pública
END:VEVENT
BEGIN:VEVENT
DTSTART;TZID=Europe/Madrid:20240226T100000
DTEND;TZID=Europe/Madrid:20240226T110000
DTSTAMP:20260422T143535
CREATED:20240223T122328Z
LAST-MODIFIED:20240223T122328Z
UID:10047600-1708941600-1708945200@fravm.org
SUMMARY:Reunión con FACUA
DESCRIPTION:
URL:https://fravm.org/evento/reunion-con-facua-6/
CATEGORIES:Pública
END:VEVENT
BEGIN:VEVENT
DTSTART;VALUE=DATE:20240224
DTEND;VALUE=DATE:20240226
DTSTAMP:20260422T143535
CREATED:20240223T122328Z
LAST-MODIFIED:20240223T122328Z
UID:10047599-1708732800-1708905599@fravm.org
SUMMARY:Consejo Confederal de CEAV
DESCRIPTION:
URL:https://fravm.org/evento/consejo-confederal-de-ceav-4/
LOCATION:Vigo\, Pontevedra\, España
CATEGORIES:Pública
END:VEVENT
BEGIN:VEVENT
DTSTART;TZID=Europe/Madrid:20240223T190000
DTEND;TZID=Europe/Madrid:20240223T200000
DTSTAMP:20260422T143535
CREATED:20240221T120826Z
LAST-MODIFIED:20240221T120826Z
UID:10047597-1708714800-1708718400@fravm.org
SUMMARY:Asistencia al Homenaje a Carlos Vega
DESCRIPTION:
URL:https://fravm.org/evento/asistencia-al-homenaje-a-carlos-vega/
LOCATION:Centro Municipal de Cultura Federico García Lorca\, Av. de Eibar\, s/n\, 28830 San Fernando de Henares\, Madrid\, España
CATEGORIES:Pública
END:VEVENT
BEGIN:VEVENT
DTSTART;TZID=Europe/Madrid:20240222T180000
DTEND;TZID=Europe/Madrid:20240222T200000
DTSTAMP:20260422T143535
CREATED:20240220T120828Z
LAST-MODIFIED:20240220T120828Z
UID:10047594-1708624800-1708632000@fravm.org
SUMMARY:Reunión sobre PGOUM con AAVV distrito Latina
DESCRIPTION:
URL:https://fravm.org/evento/reunion-sobre-pgoum-con-aavv-distrito-latina/
LOCATION:Centro Cultural de la Mujer C/ Cayetano Pando\, 19 (local)
CATEGORIES:Pública
END:VEVENT
BEGIN:VEVENT
DTSTART;TZID=Europe/Madrid:20240222T110000
DTEND;TZID=Europe/Madrid:20240222T120000
DTSTAMP:20260422T143535
CREATED:20240220T120827Z
LAST-MODIFIED:20240220T120827Z
UID:10047593-1708599600-1708603200@fravm.org
SUMMARY:Reunión con FACUA Madrid
DESCRIPTION:
URL:https://fravm.org/evento/reunion-con-facua-madrid-2/
LOCATION:Calle de las Peñuelas\, 52\, Arganzuela\, 28005 Madrid\, España
CATEGORIES:Pública
END:VEVENT
BEGIN:VEVENT
DTSTART;TZID=Europe/Madrid:20240222T100000
DTEND;TZID=Europe/Madrid:20240222T110000
DTSTAMP:20260422T143535
CREATED:20240221T120826Z
LAST-MODIFIED:20240221T120826Z
UID:10047596-1708596000-1708599600@fravm.org
SUMMARY:Reunión con DG Regeneración Urbana. Ayuntamiento de Madrid
DESCRIPTION:
URL:https://fravm.org/evento/reunion-con-dg-regeneracion-urbana-ayuntamiento-de-madrid/
LOCATION:APOT\, C. de la Ribera del Sena\, 21\, Barajas\, 28042 Madrid\, España
CATEGORIES:Pública
END:VEVENT
BEGIN:VEVENT
DTSTART;TZID=Europe/Madrid:20240221T183000
DTEND;TZID=Europe/Madrid:20240221T203000
DTSTAMP:20260422T143535
CREATED:20240220T120827Z
LAST-MODIFIED:20240220T120827Z
UID:10047592-1708540200-1708547400@fravm.org
SUMMARY:Mesa Redonda sobre la Ampliación del Aeropuerto
DESCRIPTION:
URL:https://fravm.org/evento/mesa-redonda-sobre-la-ampliacion-del-aeropuerto/
LOCATION:Espacio Vecinal Paco Caño\, Calle San Cosme y San Damián\, 24\, 1º dcha.\, Madrid\, Madrid\, España
CATEGORIES:Pública
GEO:40.4088411;-3.6987862
X-APPLE-STRUCTURED-LOCATION;VALUE=URI;X-ADDRESS=Espacio Vecinal Paco Caño Calle San Cosme y San Damián 24 1º dcha. Madrid Madrid España;X-APPLE-RADIUS=500;X-TITLE=Calle San Cosme y San Damián\, 24\, 1º dcha.:geo:-3.6987862,40.4088411
END:VEVENT
BEGIN:VEVENT
DTSTART;TZID=Europe/Madrid:20240221T123000
DTEND;TZID=Europe/Madrid:20240221T133000
DTSTAMP:20260422T143535
CREATED:20240220T120827Z
LAST-MODIFIED:20240220T120827Z
UID:10047591-1708518600-1708522200@fravm.org
SUMMARY:Asistencia e intervención en la Comisión de Pleno de Vicealcaldía\, Portavoz\, Seguridad y Emergencias
DESCRIPTION:
URL:https://fravm.org/evento/asistencia-e-intervencion-en-la-comision-de-pleno-de-vicealcaldia-portavoz-seguridad-y-emergencias/
LOCATION:Casa de Cisneros\, Pl. de la Villa\, 4\, Centro\, 28005 Madrid\, España
CATEGORIES:Pública
END:VEVENT
BEGIN:VEVENT
DTSTART;TZID=Europe/Madrid:20240221T100000
DTEND;TZID=Europe/Madrid:20240221T110000
DTSTAMP:20260422T143535
CREATED:20240220T120827Z
LAST-MODIFIED:20240220T120827Z
UID:10047590-1708509600-1708513200@fravm.org
SUMMARY:Asistencia al Pleno del Consejo Social de la Ciudad
DESCRIPTION:
URL:https://fravm.org/evento/asistencia-al-pleno-del-consejo-social-de-la-ciudad/
LOCATION:Pabellón de los Jardines de Cecilio Rodríguez\, P.º del Uruguay\, 5\, Retiro\, 28009 Madrid\, España
CATEGORIES:Pública
END:VEVENT
BEGIN:VEVENT
DTSTART;TZID=Europe/Madrid:20240220T190000
DTEND;TZID=Europe/Madrid:20240220T210000
DTSTAMP:20260422T143535
CREATED:20240220T120827Z
LAST-MODIFIED:20240220T120827Z
UID:10047589-1708455600-1708462800@fravm.org
SUMMARY:Reunión con AAVV sobre Tala
DESCRIPTION:
URL:https://fravm.org/evento/reunion-con-aavv-sobre-tala/
LOCATION:Espacio Vecinal Paco Caño\, Calle San Cosme y San Damián\, 24\, 1º dcha.\, Madrid\, Madrid\, España
CATEGORIES:Pública
GEO:40.4088411;-3.6987862
X-APPLE-STRUCTURED-LOCATION;VALUE=URI;X-ADDRESS=Espacio Vecinal Paco Caño Calle San Cosme y San Damián 24 1º dcha. Madrid Madrid España;X-APPLE-RADIUS=500;X-TITLE=Calle San Cosme y San Damián\, 24\, 1º dcha.:geo:-3.6987862,40.4088411
END:VEVENT
BEGIN:VEVENT
DTSTART;TZID=Europe/Madrid:20240219T123000
DTEND;TZID=Europe/Madrid:20240219T133000
DTSTAMP:20260422T143535
CREATED:20240219T120825Z
LAST-MODIFIED:20240219T120825Z
UID:10047588-1708345800-1708349400@fravm.org
SUMMARY:Asistencia a la Comisión de pleno de Urbanismo\, Medio Ambiente Y Movilidad
DESCRIPTION:
URL:https://fravm.org/evento/asistencia-a-la-comision-de-pleno-de-urbanismo-medio-ambiente-y-movilidad/
LOCATION:Casa de Cisneros\, Pl. de la Villa\, 4\, Centro\, 28005 Madrid\, España
CATEGORIES:Pública
END:VEVENT
BEGIN:VEVENT
DTSTART;TZID=Europe/Madrid:20240217T120000
DTEND;TZID=Europe/Madrid:20240217T140000
DTSTAMP:20260422T143535
CREATED:20240217T120826Z
LAST-MODIFIED:20240217T120826Z
UID:10047587-1708171200-1708178400@fravm.org
SUMMARY:Asistencia Manifestación Libertad para Palestina
DESCRIPTION:
URL:https://fravm.org/evento/asistencia-manifestacion-libertad-para-palestina/
CATEGORIES:Pública
END:VEVENT
BEGIN:VEVENT
DTSTART;TZID=Europe/Madrid:20240215T180000
DTEND;TZID=Europe/Madrid:20240215T200000
DTSTAMP:20260422T143535
CREATED:20240215T120848Z
LAST-MODIFIED:20240215T120848Z
UID:10047586-1708020000-1708027200@fravm.org
SUMMARY:Taller Gratuidad del transporte público a debate
DESCRIPTION:Espacio Vecinal Paco Caño
URL:https://fravm.org/evento/taller-gratuidad-del-transporte-publico-a-debate/
CATEGORIES:Pública
END:VEVENT
END:VCALENDAR