BEGIN:VCALENDAR
VERSION:2.0
PRODID:-//FRAVM - ECPv6.15.20//NONSGML v1.0//EN
CALSCALE:GREGORIAN
METHOD:PUBLISH
X-ORIGINAL-URL:https://fravm.org
X-WR-CALDESC:Eventos para FRAVM
REFRESH-INTERVAL;VALUE=DURATION:PT1H
X-Robots-Tag:noindex
X-PUBLISHED-TTL:PT1H
BEGIN:VTIMEZONE
TZID:Europe/Madrid
BEGIN:DAYLIGHT
TZOFFSETFROM:+0100
TZOFFSETTO:+0200
TZNAME:CEST
DTSTART:20220327T010000
END:DAYLIGHT
BEGIN:STANDARD
TZOFFSETFROM:+0200
TZOFFSETTO:+0100
TZNAME:CET
DTSTART:20221030T010000
END:STANDARD
BEGIN:DAYLIGHT
TZOFFSETFROM:+0100
TZOFFSETTO:+0200
TZNAME:CEST
DTSTART:20230326T010000
END:DAYLIGHT
BEGIN:STANDARD
TZOFFSETFROM:+0200
TZOFFSETTO:+0100
TZNAME:CET
DTSTART:20231029T010000
END:STANDARD
BEGIN:DAYLIGHT
TZOFFSETFROM:+0100
TZOFFSETTO:+0200
TZNAME:CEST
DTSTART:20240331T010000
END:DAYLIGHT
BEGIN:STANDARD
TZOFFSETFROM:+0200
TZOFFSETTO:+0100
TZNAME:CET
DTSTART:20241027T010000
END:STANDARD
END:VTIMEZONE
BEGIN:VEVENT
DTSTART;TZID=Europe/Madrid:20230608T103000
DTEND;TZID=Europe/Madrid:20230608T113000
DTSTAMP:20260423T121511
CREATED:20230607T103828Z
LAST-MODIFIED:20230607T103828Z
UID:10047397-1686220200-1686223800@fravm.org
SUMMARY:Reunión del Grupo Motor de Mayores de la FRAVM
DESCRIPTION:
URL:https://fravm.org/evento/reunion-del-grupo-motor-de-mayores-de-la-fravm-2/
LOCATION:Online
CATEGORIES:Pública
END:VEVENT
BEGIN:VEVENT
DTSTART;TZID=Europe/Madrid:20230607T093000
DTEND;TZID=Europe/Madrid:20230607T143000
DTSTAMP:20260423T121511
CREATED:20230525T100825Z
LAST-MODIFIED:20230525T100825Z
UID:10047387-1686130200-1686148200@fravm.org
SUMMARY:Asistencia Juntas Arbitrales Ayuntamiento de Madrid
DESCRIPTION:
URL:https://fravm.org/evento/asistencia-juntas-arbitrales-ayuntamiento-de-madrid/
CATEGORIES:Pública
END:VEVENT
BEGIN:VEVENT
DTSTART;TZID=Europe/Madrid:20230606T120000
DTEND;TZID=Europe/Madrid:20230606T130000
DTSTAMP:20260423T121511
CREATED:20230530T103827Z
LAST-MODIFIED:20230530T103827Z
UID:10047394-1686052800-1686056400@fravm.org
SUMMARY:Reunión con DG Dirección General de Infancia\, Familia y Fomento de la Natalidad por Batán
DESCRIPTION:
URL:https://fravm.org/evento/reunion-con-dg-direccion-general-de-infancia-familia-y-fomento-de-la-natalidad-por-batan/
LOCATION:Calle Manuel de Falla\,7 1ª planta.
CATEGORIES:Pública
END:VEVENT
BEGIN:VEVENT
DTSTART;TZID=Europe/Madrid:20230606T093000
DTEND;TZID=Europe/Madrid:20230606T140000
DTSTAMP:20260423T121511
CREATED:20230530T103827Z
LAST-MODIFIED:20230530T103827Z
UID:10047395-1686043800-1686060000@fravm.org
SUMMARY:Intervención en jornada organizada por CCOO: Ante la presidencia de España del semestre europeo. La nueva gobernanza europea y la fiscalidad en España
DESCRIPTION:
URL:https://fravm.org/evento/intervencion-en-jornada-organizada-por-ccoo-ante-la-presidencia-de-espana-del-semestre-europeo-la-nueva-gobernanza-europea-y-la-fiscalidad-en-espana/
LOCATION:Caixa Forum (Aula 1). Paseo del Prado 38. Madrid.
CATEGORIES:Pública
END:VEVENT
BEGIN:VEVENT
DTSTART;TZID=Europe/Madrid:20230606T090000
DTEND;TZID=Europe/Madrid:20230606T140000
DTSTAMP:20260423T121511
CREATED:20230525T100825Z
LAST-MODIFIED:20230525T100825Z
UID:10047386-1686042000-1686060000@fravm.org
SUMMARY:Asistencia a las vistas de las juntas arbitrales de consumo de la Comunidad de Madrid
DESCRIPTION:
URL:https://fravm.org/evento/asistencia-a-las-vistas-de-las-juntas-arbitrales-de-consumo-de-la-comunidad-de-madrid-15/
CATEGORIES:Pública
END:VEVENT
BEGIN:VEVENT
DTSTART;TZID=Europe/Madrid:20230603T100000
DTEND;TZID=Europe/Madrid:20230603T110000
DTSTAMP:20260423T121511
CREATED:20230602T103827Z
LAST-MODIFIED:20230602T103827Z
UID:10047396-1685786400-1685790000@fravm.org
SUMMARY:Asistencia al XIII congreso de la FAPA Francisco Giner de los Ríos
DESCRIPTION:
URL:https://fravm.org/evento/asistencia-al-xiii-congreso-de-la-fapa-francisco-giner-de-los-rios/
LOCATION:IES Villaverde\, C. de la Alianza\, 20\, 28041 Madrid\, España
CATEGORIES:Pública
END:VEVENT
BEGIN:VEVENT
DTSTART;TZID=Europe/Madrid:20230601T190000
DTEND;TZID=Europe/Madrid:20230601T200000
DTSTAMP:20260423T121511
CREATED:20230530T103827Z
LAST-MODIFIED:20230530T103827Z
UID:10047392-1685646000-1685649600@fravm.org
SUMMARY:Reunión con AAVV sobre Lote 4 del Bosque Metropolitano
DESCRIPTION:
URL:https://fravm.org/evento/reunion-con-aavv-sobre-lote-4-del-bosque-metropolitano/
LOCATION:Online
CATEGORIES:Pública
END:VEVENT
BEGIN:VEVENT
DTSTART;TZID=Europe/Madrid:20230601T183000
DTEND;TZID=Europe/Madrid:20230601T193000
DTSTAMP:20260423T121511
CREATED:20230530T103827Z
LAST-MODIFIED:20230530T103827Z
UID:10047393-1685644200-1685647800@fravm.org
SUMMARY:Reunión de la Unión de Carreras de Barrio
DESCRIPTION:
URL:https://fravm.org/evento/reunion-de-la-union-de-carreras-de-barrio-6/
LOCATION:Online
CATEGORIES:Pública
END:VEVENT
BEGIN:VEVENT
DTSTART;TZID=Europe/Madrid:20230601T110000
DTEND;TZID=Europe/Madrid:20230601T120000
DTSTAMP:20260423T121511
CREATED:20230530T103827Z
LAST-MODIFIED:20230530T103827Z
UID:10047391-1685617200-1685620800@fravm.org
SUMMARY:Reunión con Gerencia Agencia de Vivienda Social sobre vivienda del barrio Caño Roto
DESCRIPTION:
URL:https://fravm.org/evento/reunion-con-gerencia-agencia-de-vivienda-social-sobre-vivienda-del-barrio-cano-roto/
LOCATION:Agencia de Vivienda Social\, C. de la Basílica\, 23\, 28020 Madrid\, España
CATEGORIES:Pública
END:VEVENT
BEGIN:VEVENT
DTSTART;TZID=Europe/Madrid:20230531T183000
DTEND;TZID=Europe/Madrid:20230531T193000
DTSTAMP:20260423T121511
CREATED:20230530T103827Z
LAST-MODIFIED:20230530T103827Z
UID:10047390-1685557800-1685561400@fravm.org
SUMMARY:Reunión de la Junta Directiva de la FRAVM
DESCRIPTION:
URL:https://fravm.org/evento/reunion-de-la-junta-directiva-de-la-fravm-40/
LOCATION:Espacios Vecinal Paco Caño
CATEGORIES:Pública
END:VEVENT
BEGIN:VEVENT
DTSTART;TZID=Europe/Madrid:20230531T093000
DTEND;TZID=Europe/Madrid:20230531T103000
DTSTAMP:20260423T121511
CREATED:20230526T100830Z
LAST-MODIFIED:20230526T100830Z
UID:10047389-1685525400-1685529000@fravm.org
SUMMARY:Asistencia a Reunión Mesa Técnica Sectorial Regeneración Ambiental SURES
DESCRIPTION:
URL:https://fravm.org/evento/asistencia-a-reunion-mesa-tecnica-sectorial-regeneracion-ambiental-sures/
LOCATION:Online
CATEGORIES:Pública
END:VEVENT
BEGIN:VEVENT
DTSTART;TZID=Europe/Madrid:20230525T190000
DTEND;TZID=Europe/Madrid:20230525T210000
DTSTAMP:20260423T121511
CREATED:20230524T100840Z
LAST-MODIFIED:20230524T100840Z
UID:10047383-1685041200-1685048400@fravm.org
SUMMARY:Reunión Comisión Barrios Antirracistas
DESCRIPTION:
URL:https://fravm.org/evento/reunion-comision-barrios-antirracistas/
LOCATION:Online
CATEGORIES:Pública
END:VEVENT
BEGIN:VEVENT
DTSTART;TZID=Europe/Madrid:20230525T183000
DTEND;TZID=Europe/Madrid:20230525T203000
DTSTAMP:20260423T121511
CREATED:20230525T100825Z
LAST-MODIFIED:20230525T100825Z
UID:10047385-1685039400-1685046600@fravm.org
SUMMARY:Taller Aparcamientos disuasorios por qué no tiene que ser una buena idea
DESCRIPTION:
URL:https://fravm.org/evento/taller-aparcamientos-disuasorios-por-que-no-tiene-que-ser-una-buena-idea/
LOCATION:Espacio Vecinal Paco Caño\, Calle San Cosme y San Damián\, 24\, 1º dcha.\, Madrid\, Madrid\, España
CATEGORIES:Pública
GEO:40.4088411;-3.6987862
X-APPLE-STRUCTURED-LOCATION;VALUE=URI;X-ADDRESS=Espacio Vecinal Paco Caño Calle San Cosme y San Damián 24 1º dcha. Madrid Madrid España;X-APPLE-RADIUS=500;X-TITLE=Calle San Cosme y San Damián\, 24\, 1º dcha.:geo:-3.6987862,40.4088411
END:VEVENT
BEGIN:VEVENT
DTSTART;TZID=Europe/Madrid:20230525T090000
DTEND;TZID=Europe/Madrid:20230525T140000
DTSTAMP:20260423T121511
CREATED:20230525T100824Z
LAST-MODIFIED:20230525T100824Z
UID:10047384-1685005200-1685023200@fravm.org
SUMMARY:Asistencia a las vistas de las juntas arbitrales de consumo de la Comunidad de Madrid
DESCRIPTION:
URL:https://fravm.org/evento/asistencia-a-las-vistas-de-las-juntas-arbitrales-de-consumo-de-la-comunidad-de-madrid-14/
CATEGORIES:Pública
END:VEVENT
BEGIN:VEVENT
DTSTART;TZID=Europe/Madrid:20230524T120000
DTEND;TZID=Europe/Madrid:20230524T133000
DTSTAMP:20260423T121511
CREATED:20230520T095325Z
LAST-MODIFIED:20230520T095325Z
UID:10047382-1684929600-1684935000@fravm.org
SUMMARY:Reuniones de concertación PIBA Distrito Usera
DESCRIPTION:
URL:https://fravm.org/evento/reuniones-de-concertacion-piba-distrito-usera/
LOCATION:Online
CATEGORIES:Pública
END:VEVENT
BEGIN:VEVENT
DTSTART;TZID=Europe/Madrid:20230523T120000
DTEND;TZID=Europe/Madrid:20230523T131500
DTSTAMP:20260423T121511
CREATED:20230520T095325Z
LAST-MODIFIED:20230520T095325Z
UID:10047381-1684843200-1684847700@fravm.org
SUMMARY:Reuniones de concertación PIBAS Distrito Usera
DESCRIPTION:
URL:https://fravm.org/evento/reuniones-de-concertacion-pibas-distrito-usera/
LOCATION:Online
CATEGORIES:Pública
END:VEVENT
BEGIN:VEVENT
DTSTART;TZID=Europe/Madrid:20230522T110000
DTEND;TZID=Europe/Madrid:20230522T120000
DTSTAMP:20260423T121511
CREATED:20230519T095325Z
LAST-MODIFIED:20230519T095325Z
UID:10047379-1684753200-1684756800@fravm.org
SUMMARY:Asistencia a Mesa técnica de espectáculos públicos de mesa técnica de espectáculos públicos
DESCRIPTION:
URL:https://fravm.org/evento/asistencia-a-mesa-tecnica-de-espectaculos-publicos-de-mesa-tecnica-de-espectaculos-publicos/
LOCATION:Viceconsejería de Interior y Dirección de la Agencia de Seguridad y Emergencias Madrid 112 Paseo del Río\, 1 Pozuelo de Alarcón
CATEGORIES:Pública
END:VEVENT
BEGIN:VEVENT
DTSTART;TZID=Europe/Madrid:20230520T120000
DTEND;TZID=Europe/Madrid:20230520T130000
DTSTAMP:20260423T121511
CREATED:20230520T095325Z
LAST-MODIFIED:20230520T095325Z
UID:10047380-1684584000-1684587600@fravm.org
SUMMARY:Asistencia a Concentración en La Elipa contra el Cantón
DESCRIPTION:
URL:https://fravm.org/evento/asistencia-a-concentracion-en-la-elipa-contra-el-canton/
CATEGORIES:Pública
END:VEVENT
BEGIN:VEVENT
DTSTART;TZID=Europe/Madrid:20230519T113000
DTEND;TZID=Europe/Madrid:20230519T133000
DTSTAMP:20260423T121511
CREATED:20230519T095325Z
LAST-MODIFIED:20230519T095325Z
UID:10047378-1684495800-1684503000@fravm.org
SUMMARY:Debate cn candidaturas Ayuntamiento de Madrid sobre diversidad y accesibilidad
DESCRIPTION:
URL:https://fravm.org/evento/debate-cn-candidaturas-ayuntamiento-de-madrid-sobre-diversidad-y-accesibilidad/
LOCATION:c/ Farmacia\, 4
CATEGORIES:Pública
END:VEVENT
BEGIN:VEVENT
DTSTART;TZID=Europe/Madrid:20230518T113000
DTEND;TZID=Europe/Madrid:20230518T123000
DTSTAMP:20260423T121511
CREATED:20230517T095326Z
LAST-MODIFIED:20230517T095326Z
UID:10047376-1684409400-1684413000@fravm.org
SUMMARY:Reunión con FACUA sobre Cantones de Limpieza
DESCRIPTION:
URL:https://fravm.org/evento/reunion-con-facua-sobre-cantones-de-limpieza/
LOCATION:Online
CATEGORIES:Pública
END:VEVENT
BEGIN:VEVENT
DTSTART;TZID=Europe/Madrid:20230518T110000
DTEND;TZID=Europe/Madrid:20230518T120000
DTSTAMP:20260423T121511
CREATED:20230518T095326Z
LAST-MODIFIED:20230518T095326Z
UID:10047377-1684407600-1684411200@fravm.org
SUMMARY:Reunión con candidaturas municipal y autonómica de Más Madrid
DESCRIPTION:
URL:https://fravm.org/evento/reunion-con-candidaturas-municipal-y-autonomica-de-mas-madrid/
LOCATION:Espacio Vecinal Paco Caño\, Calle San Cosme y San Damián\, 24\, 1º dcha.\, Madrid\, Madrid\, España
CATEGORIES:Pública
GEO:40.4088411;-3.6987862
X-APPLE-STRUCTURED-LOCATION;VALUE=URI;X-ADDRESS=Espacio Vecinal Paco Caño Calle San Cosme y San Damián 24 1º dcha. Madrid Madrid España;X-APPLE-RADIUS=500;X-TITLE=Calle San Cosme y San Damián\, 24\, 1º dcha.:geo:-3.6987862,40.4088411
END:VEVENT
BEGIN:VEVENT
DTSTART;TZID=Europe/Madrid:20230517T190000
DTEND;TZID=Europe/Madrid:20230517T200000
DTSTAMP:20260423T121511
CREATED:20230517T095326Z
LAST-MODIFIED:20230517T095326Z
UID:10047375-1684350000-1684353600@fravm.org
SUMMARY:Asistencia a manifestación en San Fernando de Henares
DESCRIPTION:
URL:https://fravm.org/evento/asistencia-a-manifestacion-en-san-fernando-de-henares/
CATEGORIES:Pública
END:VEVENT
BEGIN:VEVENT
DTSTART;TZID=Europe/Madrid:20230517T180000
DTEND;TZID=Europe/Madrid:20230517T190000
DTSTAMP:20260423T121511
CREATED:20230517T095326Z
LAST-MODIFIED:20230517T095326Z
UID:10047374-1684346400-1684350000@fravm.org
SUMMARY:Reunión Grupo Motor de Mayores
DESCRIPTION:
URL:https://fravm.org/evento/reunion-grupo-motor-de-mayores/
LOCATION:Online
CATEGORIES:Pública
END:VEVENT
BEGIN:VEVENT
DTSTART;TZID=Europe/Madrid:20230517T110000
DTEND;TZID=Europe/Madrid:20230517T120000
DTSTAMP:20260423T121511
CREATED:20230517T095326Z
LAST-MODIFIED:20230517T095326Z
UID:10047373-1684321200-1684324800@fravm.org
SUMMARY:Reunión con candidatura municipal Recupera Madrid
DESCRIPTION:
URL:https://fravm.org/evento/reunion-con-candidatura-municipal-recupera-madrid/
LOCATION:Espacio Vecinal Paco Caño\, Calle San Cosme y San Damián\, 24\, 1º dcha.\, Madrid\, Madrid\, España
CATEGORIES:Pública
GEO:40.4088411;-3.6987862
X-APPLE-STRUCTURED-LOCATION;VALUE=URI;X-ADDRESS=Espacio Vecinal Paco Caño Calle San Cosme y San Damián 24 1º dcha. Madrid Madrid España;X-APPLE-RADIUS=500;X-TITLE=Calle San Cosme y San Damián\, 24\, 1º dcha.:geo:-3.6987862,40.4088411
END:VEVENT
BEGIN:VEVENT
DTSTART;TZID=Europe/Madrid:20230515T120000
DTEND;TZID=Europe/Madrid:20230515T130000
DTSTAMP:20260423T121511
CREATED:20230510T090826Z
LAST-MODIFIED:20230510T090826Z
UID:10047371-1684152000-1684155600@fravm.org
SUMMARY:Asistencia al Acto Entrega de Medallas de la Ciudad
DESCRIPTION:
URL:https://fravm.org/evento/asistencia-al-acto-entrega-de-medallas-de-la-ciudad/
LOCATION:Palacios de Cibeles
CATEGORIES:Pública
END:VEVENT
BEGIN:VEVENT
DTSTART;TZID=Europe/Madrid:20230511T180000
DTEND;TZID=Europe/Madrid:20230511T203000
DTSTAMP:20260423T121511
CREATED:20230504T085329Z
LAST-MODIFIED:20230504T085329Z
UID:10047365-1683828000-1683837000@fravm.org
SUMMARY:Intervención en Ciclo de Jornadas para la Mejora de la Salud en la Comunidad de Madrid
DESCRIPTION:Organiza Socisalud
URL:https://fravm.org/evento/intervencion-en-ciclo-de-jornadas-para-la-mejora-de-la-salud-en-la-comunidad-de-madrid-2/
LOCATION:Fundación ONCE C/Sebastián Herrera\, 15
CATEGORIES:Pública
END:VEVENT
BEGIN:VEVENT
DTSTART;TZID=Europe/Madrid:20230511T103000
DTEND;TZID=Europe/Madrid:20230511T113000
DTSTAMP:20260423T121511
CREATED:20230511T092328Z
LAST-MODIFIED:20230511T092328Z
UID:10047372-1683801000-1683804600@fravm.org
SUMMARY:Entrega de firmas Contra Tala de árboles
DESCRIPTION:
URL:https://fravm.org/evento/entrega-de-firmas-contra-tala-de-arboles/
CATEGORIES:Pública
END:VEVENT
BEGIN:VEVENT
DTSTART;TZID=Europe/Madrid:20230511T100000
DTEND;TZID=Europe/Madrid:20230511T110000
DTSTAMP:20260423T121511
CREATED:20230510T090826Z
LAST-MODIFIED:20230510T090826Z
UID:10047370-1683799200-1683802800@fravm.org
SUMMARY:Asistencia a Presentación Programa Electoral Podemos-Izquierda Unida-Alianza Verde
DESCRIPTION:
URL:https://fravm.org/evento/asistencia-a-presentacion-programa-electoral-podemos-izquierda-unida-alianza-verde/
LOCATION:calle Francisco Villaespesa 18\, a las 10:00 horas
CATEGORIES:Pública
END:VEVENT
BEGIN:VEVENT
DTSTART;TZID=Europe/Madrid:20230510T190000
DTEND;TZID=Europe/Madrid:20230510T200000
DTSTAMP:20260423T121511
CREATED:20230510T090825Z
LAST-MODIFIED:20230510T090825Z
UID:10047369-1683745200-1683748800@fravm.org
SUMMARY:Reunión del Grupo de Trabajo de Viviendas de Uso Turístico
DESCRIPTION:
URL:https://fravm.org/evento/reunion-del-grupo-de-trabajo-de-viviendas-de-uso-turistico/
LOCATION:Espacio Vecinal Paco Caño\, Calle San Cosme y San Damián\, 24\, 1º dcha.\, Madrid\, Madrid\, España
CATEGORIES:Pública
GEO:40.4088411;-3.6987862
X-APPLE-STRUCTURED-LOCATION;VALUE=URI;X-ADDRESS=Espacio Vecinal Paco Caño Calle San Cosme y San Damián 24 1º dcha. Madrid Madrid España;X-APPLE-RADIUS=500;X-TITLE=Calle San Cosme y San Damián\, 24\, 1º dcha.:geo:-3.6987862,40.4088411
END:VEVENT
BEGIN:VEVENT
DTSTART;TZID=Europe/Madrid:20230510T130000
DTEND;TZID=Europe/Madrid:20230510T140000
DTSTAMP:20260423T121511
CREATED:20230510T090825Z
LAST-MODIFIED:20230510T090825Z
UID:10047368-1683723600-1683727200@fravm.org
SUMMARY:Participación VI Encuentro de Economía Senior: Los seniors\, sus propósitos y sus demandas
DESCRIPTION:
URL:https://fravm.org/evento/participacion-vi-encuentro-de-economia-senior-los-seniors-sus-propositos-y-sus-demandas/
LOCATION:Online
CATEGORIES:Pública
END:VEVENT
END:VCALENDAR