BEGIN:VCALENDAR
VERSION:2.0
PRODID:-//FRAVM - ECPv6.15.20//NONSGML v1.0//EN
CALSCALE:GREGORIAN
METHOD:PUBLISH
X-ORIGINAL-URL:https://fravm.org
X-WR-CALDESC:Eventos para FRAVM
REFRESH-INTERVAL;VALUE=DURATION:PT1H
X-Robots-Tag:noindex
X-PUBLISHED-TTL:PT1H
BEGIN:VTIMEZONE
TZID:Europe/Madrid
BEGIN:DAYLIGHT
TZOFFSETFROM:+0100
TZOFFSETTO:+0200
TZNAME:CEST
DTSTART:20210328T010000
END:DAYLIGHT
BEGIN:STANDARD
TZOFFSETFROM:+0200
TZOFFSETTO:+0100
TZNAME:CET
DTSTART:20211031T010000
END:STANDARD
BEGIN:DAYLIGHT
TZOFFSETFROM:+0100
TZOFFSETTO:+0200
TZNAME:CEST
DTSTART:20220327T010000
END:DAYLIGHT
BEGIN:STANDARD
TZOFFSETFROM:+0200
TZOFFSETTO:+0100
TZNAME:CET
DTSTART:20221030T010000
END:STANDARD
BEGIN:DAYLIGHT
TZOFFSETFROM:+0100
TZOFFSETTO:+0200
TZNAME:CEST
DTSTART:20230326T010000
END:DAYLIGHT
BEGIN:STANDARD
TZOFFSETFROM:+0200
TZOFFSETTO:+0100
TZNAME:CET
DTSTART:20231029T010000
END:STANDARD
BEGIN:DAYLIGHT
TZOFFSETFROM:+0100
TZOFFSETTO:+0200
TZNAME:CEST
DTSTART:20240331T010000
END:DAYLIGHT
BEGIN:STANDARD
TZOFFSETFROM:+0200
TZOFFSETTO:+0100
TZNAME:CET
DTSTART:20241027T010000
END:STANDARD
END:VTIMEZONE
BEGIN:VEVENT
DTSTART;TZID=Europe/Madrid:20230503T123000
DTEND;TZID=Europe/Madrid:20230503T133000
DTSTAMP:20260423T152946
CREATED:20230427T082820Z
LAST-MODIFIED:20230427T082820Z
UID:10047355-1683117000-1683120600@fravm.org
SUMMARY:Reunión con candidatura PSOE al Ayuntamiento de Madrid
DESCRIPTION:
URL:https://fravm.org/evento/reunion-con-candidatura-psoe-al-ayuntamiento-de-madrid/
CATEGORIES:Pública
END:VEVENT
BEGIN:VEVENT
DTSTART;TZID=Europe/Madrid:20230503T100000
DTEND;TZID=Europe/Madrid:20230503T110000
DTSTAMP:20260423T152946
CREATED:20230428T083850Z
LAST-MODIFIED:20230428T083850Z
UID:10047357-1683108000-1683111600@fravm.org
SUMMARY:Asistencia a la Asamblea Congresual  de la FAPA Giner de los Ríos
DESCRIPTION:
URL:https://fravm.org/evento/asistencia-a-la-asamblea-congresual-de-la-fapa-giner-de-los-rios/
CATEGORIES:Pública
END:VEVENT
BEGIN:VEVENT
DTSTART;TZID=Europe/Madrid:20230427T180000
DTEND;TZID=Europe/Madrid:20230427T200000
DTSTAMP:20260423T152946
CREATED:20230427T082819Z
LAST-MODIFIED:20230427T082819Z
UID:10047354-1682618400-1682625600@fravm.org
SUMMARY:Debate sobre propuestas participación con candidaturas municipales partidos
DESCRIPTION:
URL:https://fravm.org/evento/debate-sobre-propuestas-participacion-con-candidaturas-municipales-partidos/
LOCATION:Albergue San Fermín Avenida de los Fueros\, 36
CATEGORIES:Pública
END:VEVENT
BEGIN:VEVENT
DTSTART;TZID=Europe/Madrid:20220927T090000
DTEND;TZID=Europe/Madrid:20220927T140000
DTSTAMP:20260423T152946
CREATED:20220926T103102Z
LAST-MODIFIED:20220926T103102Z
UID:10032210-1664269200-1664287200@fravm.org
SUMMARY:Asistencia a las vistas de las Juntas Arbitrales de Consumo de la Comunidad de Madrid
DESCRIPTION:
URL:https://fravm.org/evento/asistencia-a-las-vistas-de-las-juntas-arbitrales-de-consumo-de-la-comunidad-de-madrid-129/
LOCATION:Junta Arbitral de Consumo de la Comunidad Autónoma de Madrid\, C. de Ramírez de Prado\, 5 bis\, 28045 Madrid\, España
CATEGORIES:Pública
END:VEVENT
BEGIN:VEVENT
DTSTART;TZID=Europe/Madrid:20220926T190000
DTEND;TZID=Europe/Madrid:20220926T200000
DTSTAMP:20260423T152946
CREATED:20220926T101035Z
LAST-MODIFIED:20220926T101035Z
UID:10032071-1664218800-1664222400@fravm.org
SUMMARY:Reunión del Grupo de Trabajo cocinas industriales FRAVM
DESCRIPTION:
URL:https://fravm.org/evento/reunion-del-grupo-de-trabajo-cocinas-industriales-fravm/
LOCATION:Online
CATEGORIES:Pública
END:VEVENT
BEGIN:VEVENT
DTSTART;TZID=Europe/Madrid:20220926T183000
DTEND;TZID=Europe/Madrid:20220926T193000
DTSTAMP:20260423T152946
CREATED:20220926T101036Z
LAST-MODIFIED:20220926T101036Z
UID:10032076-1664217000-1664220600@fravm.org
SUMMARY:Reunión con representantes de la Embajada República Dominicana
DESCRIPTION:
URL:https://fravm.org/evento/reunion-con-representantes-de-la-embajada-republica-dominicana/
LOCATION:Espacio Vecinal Paco Caño\, Calle San Cosme y San Damián\, 24\, 1º dcha.\, Madrid\, Madrid\, España
CATEGORIES:Pública
GEO:40.4088411;-3.6987862
X-APPLE-STRUCTURED-LOCATION;VALUE=URI;X-ADDRESS=Espacio Vecinal Paco Caño Calle San Cosme y San Damián 24 1º dcha. Madrid Madrid España;X-APPLE-RADIUS=500;X-TITLE=Calle San Cosme y San Damián\, 24\, 1º dcha.:geo:-3.6987862,40.4088411
END:VEVENT
BEGIN:VEVENT
DTSTART;TZID=Europe/Madrid:20220926T180000
DTEND;TZID=Europe/Madrid:20220926T210000
DTSTAMP:20260423T152946
CREATED:20220926T101036Z
LAST-MODIFIED:20220926T101036Z
UID:10032074-1664215200-1664226000@fravm.org
SUMMARY:Escuela Vecinal. Comunicación eficaz: taller de portavocía 1
DESCRIPTION:
URL:https://fravm.org/evento/escuela-vecinal-comunicacion-eficaz-taller-de-portavocia-1/
LOCATION:Espacio Vecinal Paco Caño\, Calle San Cosme y San Damián\, 24\, 1º dcha.\, Madrid\, Madrid\, España
CATEGORIES:Pública
GEO:40.4088411;-3.6987862
X-APPLE-STRUCTURED-LOCATION;VALUE=URI;X-ADDRESS=Espacio Vecinal Paco Caño Calle San Cosme y San Damián 24 1º dcha. Madrid Madrid España;X-APPLE-RADIUS=500;X-TITLE=Calle San Cosme y San Damián\, 24\, 1º dcha.:geo:-3.6987862,40.4088411
END:VEVENT
BEGIN:VEVENT
DTSTART;TZID=Europe/Madrid:20220926T110000
DTEND;TZID=Europe/Madrid:20220926T120000
DTSTAMP:20260423T152946
CREATED:20220926T074031Z
LAST-MODIFIED:20220926T074031Z
UID:10031115-1664190000-1664193600@fravm.org
SUMMARY:Asistencia a reunión de Observatorio de vivienda. GT2.  Mejoras en la Habitabilidad: Accesibilidad del Observatorio de Vivienda y Rehabilitación de la ciudad de Madrid
DESCRIPTION:
URL:https://fravm.org/evento/asistencia-a-reunion-de-observatorio-de-vivienda-gt2-mejoras-en-la-habitabilidad-accesibilidad-del-observatorio-de-vivienda-y-rehabilitacion-de-la-ciudad-de-madrid/
LOCATION:La Nave\, aula 7 (C/ Cifuentes nº 5. 28021 Madrid)
CATEGORIES:Pública
END:VEVENT
BEGIN:VEVENT
DTSTART;TZID=Europe/Madrid:20220926T093000
DTEND;TZID=Europe/Madrid:20220926T103000
DTSTAMP:20260423T152946
CREATED:20220926T074031Z
LAST-MODIFIED:20220926T074031Z
UID:10031114-1664184600-1664188200@fravm.org
SUMMARY:Asistencia a reunión del Observatorio de Vivienda. GT1.  Acceso a la Vivienda. Parámetros comunes de análisis del Observatorio de Vivienda y Rehabilitación de la ciudad de Madrid
DESCRIPTION:
URL:https://fravm.org/evento/asistencia-a-reunion-del-observatorio-de-vivienda-gt1-acceso-a-la-vivienda-parametros-comunes-de-analisis-del-observatorio-de-vivienda-y-rehabilitacion-de-la-ciudad-de-madrid/
LOCATION:La Nave\, aula 7 (C/ Cifuentes nº 5. 28021 Madrid)
CATEGORIES:Pública
END:VEVENT
BEGIN:VEVENT
DTSTART;TZID=Europe/Madrid:20220923T170000
DTEND;TZID=Europe/Madrid:20220923T180000
DTSTAMP:20260423T152946
CREATED:20220922T143011Z
LAST-MODIFIED:20220922T143011Z
UID:10039354-1663952400-1663956000@fravm.org
SUMMARY:Reunión de la Comisión diversidad funcional y accesibilidad de la FRAVM
DESCRIPTION:
URL:https://fravm.org/evento/reunion-de-la-comision-diversidad-funcional-y-accesibilidad-de-la-fravm/
LOCATION:Online
CATEGORIES:Pública
END:VEVENT
BEGIN:VEVENT
DTSTART;TZID=Europe/Madrid:20220923T103000
DTEND;TZID=Europe/Madrid:20220923T120000
DTSTAMP:20260423T152946
CREATED:20220922T145011Z
LAST-MODIFIED:20220922T145011Z
UID:10039355-1663929000-1663934400@fravm.org
SUMMARY:Asistencia a Jornada sobre comedores escolares Organiza Mas Madrid
DESCRIPTION:
URL:https://fravm.org/evento/asistencia-a-jornada-sobre-comedores-escolares-organiza-mas-madrid/
LOCATION:C. de la Escuadra\, 11\, 28012 Madrid\, España
CATEGORIES:Pública
END:VEVENT
BEGIN:VEVENT
DTSTART;TZID=Europe/Madrid:20220922T190000
DTEND;TZID=Europe/Madrid:20220922T200000
DTSTAMP:20260423T152946
CREATED:20220922T143011Z
LAST-MODIFIED:20220922T143011Z
UID:10039353-1663873200-1663876800@fravm.org
SUMMARY:Reunión con AAVV sobre Rehabilitacion
DESCRIPTION:
URL:https://fravm.org/evento/reunion-con-aavv-sobre-rehabilitacion-2/
LOCATION:Espacio Vecinal Paco Caño\, Calle San Cosme y San Damián\, 24\, 1º dcha.\, Madrid\, Madrid\, España
CATEGORIES:Pública
GEO:40.4088411;-3.6987862
X-APPLE-STRUCTURED-LOCATION;VALUE=URI;X-ADDRESS=Espacio Vecinal Paco Caño Calle San Cosme y San Damián 24 1º dcha. Madrid Madrid España;X-APPLE-RADIUS=500;X-TITLE=Calle San Cosme y San Damián\, 24\, 1º dcha.:geo:-3.6987862,40.4088411
END:VEVENT
BEGIN:VEVENT
DTSTART;TZID=Europe/Madrid:20220922T183000
DTEND;TZID=Europe/Madrid:20220922T193000
DTSTAMP:20260423T152946
CREATED:20220922T143010Z
LAST-MODIFIED:20220922T143010Z
UID:10030363-1663871400-1663875000@fravm.org
SUMMARY:Asistencia a la Reunión Junta Ejecutiva CEAV
DESCRIPTION:
URL:https://fravm.org/evento/asistencia-a-la-reunion-junta-ejecutiva-ceav/
LOCATION:Online
CATEGORIES:Pública
END:VEVENT
BEGIN:VEVENT
DTSTART;TZID=Europe/Madrid:20220922T180000
DTEND;TZID=Europe/Madrid:20220922T190000
DTSTAMP:20260423T152946
CREATED:20220922T143010Z
LAST-MODIFIED:20220922T143010Z
UID:10039352-1663869600-1663873200@fravm.org
SUMMARY:Asistencia a presentación propuesta Más Madrid "Red Bus de Alta Velocidad"
DESCRIPTION:
URL:https://fravm.org/evento/asistencia-a-presentacion-propuesta-mas-madrid-red-bus-de-alta-velocidad/
LOCATION:Ecooo\, C. de la Escuadra\, 11\, 28012 Madrid\, España
CATEGORIES:Pública
END:VEVENT
BEGIN:VEVENT
DTSTART;TZID=Europe/Madrid:20220921T190000
DTEND;TZID=Europe/Madrid:20220921T200000
DTSTAMP:20260423T152946
CREATED:20220920T115010Z
LAST-MODIFIED:20220920T115010Z
UID:10030360-1663786800-1663790400@fravm.org
SUMMARY:Reunión del Grupo de Trabajo sobre el entorno del río Manzanares
DESCRIPTION:
URL:https://fravm.org/evento/reunion-del-grupo-de-trabajo-sobre-el-entorno-del-rio-manzanares-2/
LOCATION:Albergue san fermín. Avenida de los fueros\, 36
CATEGORIES:Pública
END:VEVENT
BEGIN:VEVENT
DTSTART;TZID=Europe/Madrid:20220921T180000
DTEND;TZID=Europe/Madrid:20220921T200000
DTSTAMP:20260423T152946
CREATED:20220920T115010Z
LAST-MODIFIED:20220920T115010Z
UID:10030359-1663783200-1663790400@fravm.org
SUMMARY:Asistencia a Reunión de la Mesa contra el hambre
DESCRIPTION:
URL:https://fravm.org/evento/asistencia-a-reunion-de-la-mesa-contra-el-hambre/
LOCATION:Espacio Vecinal Paco Caño\, Calle San Cosme y San Damián\, 24\, 1º dcha.\, Madrid\, Madrid\, España
CATEGORIES:Pública
GEO:40.4088411;-3.6987862
X-APPLE-STRUCTURED-LOCATION;VALUE=URI;X-ADDRESS=Espacio Vecinal Paco Caño Calle San Cosme y San Damián 24 1º dcha. Madrid Madrid España;X-APPLE-RADIUS=500;X-TITLE=Calle San Cosme y San Damián\, 24\, 1º dcha.:geo:-3.6987862,40.4088411
END:VEVENT
BEGIN:VEVENT
DTSTART;TZID=Europe/Madrid:20220921T163000
DTEND;TZID=Europe/Madrid:20220921T173000
DTSTAMP:20260423T152946
CREATED:20220920T115010Z
LAST-MODIFIED:20220920T115010Z
UID:10030358-1663777800-1663781400@fravm.org
SUMMARY:Asistencia a Reunión de la Mesa Contra la Incineradora
DESCRIPTION:
URL:https://fravm.org/evento/asistencia-a-reunion-de-la-mesa-contra-la-incineradora/
LOCATION:Online
CATEGORIES:Pública
END:VEVENT
BEGIN:VEVENT
DTSTART;TZID=Europe/Madrid:20220921T130000
DTEND;TZID=Europe/Madrid:20220921T140000
DTSTAMP:20260423T152946
CREATED:20220920T104011Z
LAST-MODIFIED:20220920T104011Z
UID:10030356-1663765200-1663768800@fravm.org
SUMMARY:Asistencia a Reunión de la Comisión Sectorial de Formación y Fomento del Asociacionismo
DESCRIPTION:
URL:https://fravm.org/evento/asistencia-a-reunion-de-la-comision-sectorial-de-formacion-y-fomento-del-asociacionismo/
LOCATION:Online
CATEGORIES:Pública
END:VEVENT
BEGIN:VEVENT
DTSTART;TZID=Europe/Madrid:20220921T110000
DTEND;TZID=Europe/Madrid:20220921T120000
DTSTAMP:20260423T152946
CREATED:20220920T104010Z
LAST-MODIFIED:20220920T104010Z
UID:10030355-1663758000-1663761600@fravm.org
SUMMARY:Reunión con Asociación RESPACE
DESCRIPTION:
URL:https://fravm.org/evento/reunion-con-asociacion-respace/
LOCATION:Espacio Vecinal Paco Caño\, Calle San Cosme y San Damián\, 24\, 1º dcha.\, Madrid\, Madrid\, España
CATEGORIES:Pública
GEO:40.4088411;-3.6987862
X-APPLE-STRUCTURED-LOCATION;VALUE=URI;X-ADDRESS=Espacio Vecinal Paco Caño Calle San Cosme y San Damián 24 1º dcha. Madrid Madrid España;X-APPLE-RADIUS=500;X-TITLE=Calle San Cosme y San Damián\, 24\, 1º dcha.:geo:-3.6987862,40.4088411
END:VEVENT
BEGIN:VEVENT
DTSTART;TZID=Europe/Madrid:20220921T093000
DTEND;TZID=Europe/Madrid:20220921T103000
DTSTAMP:20260423T152946
CREATED:20220920T104010Z
LAST-MODIFIED:20220920T104010Z
UID:10030354-1663752600-1663756200@fravm.org
SUMMARY:Asistencia a Reunión de la Mesa Técnica Sectorial Enseñanza pública y vinculación con las universidades
DESCRIPTION:
URL:https://fravm.org/evento/asistencia-a-reunion-de-la-mesa-tecnica-sectorial-ensenanza-publica-y-vinculacion-con-las-universidades/
LOCATION:Online
CATEGORIES:Pública
END:VEVENT
BEGIN:VEVENT
DTSTART;TZID=Europe/Madrid:20220920T190000
DTEND;TZID=Europe/Madrid:20220920T200000
DTSTAMP:20260423T152946
CREATED:20220920T114009Z
LAST-MODIFIED:20220920T114009Z
UID:10030357-1663700400-1663704000@fravm.org
SUMMARY:Asistencia a Concentración en apoyo a vecinas afectadas por Metro San Fernando de Henares
DESCRIPTION:
URL:https://fravm.org/evento/asistencia-a-concentracion-en-apoyo-a-vecinas-afectadas-por-metro-san-fernando-de-henares/
LOCATION:San Fernando de Henares\, Madrid\, España
CATEGORIES:Pública
END:VEVENT
BEGIN:VEVENT
DTSTART;TZID=Europe/Madrid:20220920T120000
DTEND;TZID=Europe/Madrid:20220920T130000
DTSTAMP:20260423T152946
CREATED:20220920T104010Z
LAST-MODIFIED:20220920T104010Z
UID:10030353-1663675200-1663678800@fravm.org
SUMMARY:Reunión con Agencia de Vivienda Social sobre UVA Hortaleza
DESCRIPTION:Asiste Av Unión de Hortaleza
URL:https://fravm.org/evento/reunion-con-agencia-de-vivienda-social-sobre-uva-hortaleza/
LOCATION:Agencia de Vivienda Social (C/ Basílica\, 23)
CATEGORIES:Pública
END:VEVENT
BEGIN:VEVENT
DTSTART;TZID=Europe/Madrid:20220920T100000
DTEND;TZID=Europe/Madrid:20220920T110000
DTSTAMP:20260423T152946
CREATED:20220920T104010Z
LAST-MODIFIED:20220920T104010Z
UID:10039351-1663668000-1663671600@fravm.org
SUMMARY:Asistencia a Reunión de la Comisión Técnica de Servicios Sociales de la Consejo Social de la Ciudad
DESCRIPTION:
URL:https://fravm.org/evento/asistencia-a-reunion-de-la-comision-tecnica-de-servicios-sociales-de-la-consejo-social-de-la-ciudad/
CATEGORIES:Pública
END:VEVENT
BEGIN:VEVENT
DTSTART;TZID=Europe/Madrid:20220919T123000
DTEND;TZID=Europe/Madrid:20220919T133000
DTSTAMP:20260423T152946
CREATED:20220919T084009Z
LAST-MODIFIED:20220919T084009Z
UID:10039350-1663590600-1663594200@fravm.org
SUMMARY:Asistencia a Reunión de la Comisión Permanente Ordinaria de Hacienda y Personal y de Economía\, Innovación y Empleo
DESCRIPTION:
URL:https://fravm.org/evento/asistencia-a-reunion-de-la-comision-permanente-ordinaria-de-hacienda-y-personal-y-de-economia-innovacion-y-empleo/
LOCATION:Online
CATEGORIES:Pública
END:VEVENT
BEGIN:VEVENT
DTSTART;TZID=Europe/Madrid:20220919T100000
DTEND;TZID=Europe/Madrid:20220919T110000
DTSTAMP:20260423T152946
CREATED:20220919T084009Z
LAST-MODIFIED:20220919T084009Z
UID:10039349-1663581600-1663585200@fravm.org
SUMMARY:Asistencia a Reunión del Grupo de Trabajo sobre Soledad no Deseada del Consejo Sectorial de Personas Mayores de la Ciudad de Madrid
DESCRIPTION:
URL:https://fravm.org/evento/asistencia-a-reunion-del-grupo-de-trabajo-sobre-soledad-no-deseada-del-consejo-sectorial-de-personas-mayores-de-la-ciudad-de-madrid/
LOCATION:Online
CATEGORIES:Pública
END:VEVENT
BEGIN:VEVENT
DTSTART;TZID=Europe/Madrid:20220918T110000
DTEND;TZID=Europe/Madrid:20220918T140000
DTSTAMP:20260423T152946
CREATED:20220915T150012Z
LAST-MODIFIED:20220915T150012Z
UID:10039348-1663498800-1663509600@fravm.org
SUMMARY:Concentraciones y bicicletada Madrid se Mueve Mejor
DESCRIPTION:
URL:https://fravm.org/evento/concentraciones-y-bicicletada-madrid-se-mueve-mejor/
CATEGORIES:Pública
END:VEVENT
BEGIN:VEVENT
DTSTART;TZID=Europe/Madrid:20220917T123000
DTEND;TZID=Europe/Madrid:20220917T133000
DTSTAMP:20260423T152946
CREATED:20220915T150011Z
LAST-MODIFIED:20220915T150011Z
UID:10039347-1663417800-1663421400@fravm.org
SUMMARY:Asistencia e Intervención a VI Congreso de Verdes Equo Madrid
DESCRIPTION:
URL:https://fravm.org/evento/asistencia-e-intervencion-a-vi-congreso-de-verdes-equo-madrid/
LOCATION:Casa de Vacas\, 28009 Madrid\, España
CATEGORIES:Pública
END:VEVENT
BEGIN:VEVENT
DTSTART;TZID=Europe/Madrid:20220916T110000
DTEND;TZID=Europe/Madrid:20220916T120000
DTSTAMP:20260423T152946
CREATED:20220915T150011Z
LAST-MODIFIED:20220915T150011Z
UID:10039346-1663326000-1663329600@fravm.org
SUMMARY:Asistencia a reunión sobre Planes de Acción Local de la Agenda Urbana\, en el Ministerio de  Transportes\, Movilidad y Agenda Urbana
DESCRIPTION:
URL:https://fravm.org/evento/asistencia-a-reunion-sobre-planes-de-accion-local-de-la-agenda-urbana-en-el-ministerio-de-transportes-movilidad-y-agenda-urbana/
LOCATION:Pº Castellana 67\, de  Madrid
CATEGORIES:Pública
END:VEVENT
BEGIN:VEVENT
DTSTART;TZID=Europe/Madrid:20220915T203000
DTEND;TZID=Europe/Madrid:20220915T220000
DTSTAMP:20260423T152946
CREATED:20220915T150011Z
LAST-MODIFIED:20220915T150011Z
UID:10039345-1663273800-1663279200@fravm.org
SUMMARY:Asistencia a Reunión Red Estatal de Mujeres Vecinales
DESCRIPTION:
URL:https://fravm.org/evento/asistencia-a-reunion-red-estatal-de-mujeres-vecinales/
LOCATION:Online
CATEGORIES:Pública
END:VEVENT
BEGIN:VEVENT
DTSTART;TZID=Europe/Madrid:20220915T180000
DTEND;TZID=Europe/Madrid:20220915T190000
DTSTAMP:20260423T152946
CREATED:20220915T150010Z
LAST-MODIFIED:20220915T150010Z
UID:10039344-1663264800-1663268400@fravm.org
SUMMARY:Asistencia a la Reunión del Grupo de Acción de la Manifestación por el Clima
DESCRIPTION:Online
URL:https://fravm.org/evento/asistencia-a-la-reunion-del-grupo-de-accion-de-la-manifestacion-por-el-clima/
LOCATION:Online
CATEGORIES:Pública
END:VEVENT
END:VCALENDAR