BEGIN:VCALENDAR
VERSION:2.0
PRODID:-//FRAVM - ECPv6.15.20//NONSGML v1.0//EN
CALSCALE:GREGORIAN
METHOD:PUBLISH
X-WR-CALNAME:FRAVM
X-ORIGINAL-URL:https://fravm.org
X-WR-CALDESC:Eventos para FRAVM
REFRESH-INTERVAL;VALUE=DURATION:PT1H
X-Robots-Tag:noindex
X-PUBLISHED-TTL:PT1H
BEGIN:VTIMEZONE
TZID:Europe/Madrid
BEGIN:DAYLIGHT
TZOFFSETFROM:+0100
TZOFFSETTO:+0200
TZNAME:CEST
DTSTART:20210328T010000
END:DAYLIGHT
BEGIN:STANDARD
TZOFFSETFROM:+0200
TZOFFSETTO:+0100
TZNAME:CET
DTSTART:20211031T010000
END:STANDARD
BEGIN:DAYLIGHT
TZOFFSETFROM:+0100
TZOFFSETTO:+0200
TZNAME:CEST
DTSTART:20220327T010000
END:DAYLIGHT
BEGIN:STANDARD
TZOFFSETFROM:+0200
TZOFFSETTO:+0100
TZNAME:CET
DTSTART:20221030T010000
END:STANDARD
BEGIN:DAYLIGHT
TZOFFSETFROM:+0100
TZOFFSETTO:+0200
TZNAME:CEST
DTSTART:20230326T010000
END:DAYLIGHT
BEGIN:STANDARD
TZOFFSETFROM:+0200
TZOFFSETTO:+0100
TZNAME:CET
DTSTART:20231029T010000
END:STANDARD
END:VTIMEZONE
BEGIN:VEVENT
DTSTART;TZID=Europe/Madrid:20220721T130000
DTEND;TZID=Europe/Madrid:20220721T140000
DTSTAMP:20260423T201839
CREATED:20220718T121011Z
LAST-MODIFIED:20220718T121011Z
UID:10039263-1658408400-1658412000@fravm.org
SUMMARY:Asistencia a Reunión de la Mesa del Árbol del Ayuntamiento de Madrid
DESCRIPTION:
URL:https://fravm.org/evento/asistencia-a-reunion-de-la-mesa-del-arbol-del-ayuntamiento-de-madrid/
LOCATION:Online
CATEGORIES:Pública
END:VEVENT
BEGIN:VEVENT
DTSTART;TZID=Europe/Madrid:20220720T103000
DTEND;TZID=Europe/Madrid:20220720T113000
DTSTAMP:20260423T201839
CREATED:20220718T073012Z
LAST-MODIFIED:20220718T073012Z
UID:10039261-1658313000-1658316600@fravm.org
SUMMARY:Asistencia a reunión de la Comisión de Entidades Locales y Entidades sin ánimo de lucro del Consejo de Cultura de la CM
DESCRIPTION:
URL:https://fravm.org/evento/asistencia-a-reunion-de-la-comision-de-entidades-locales-y-entidades-sin-animo-de-lucro-del-consejo-de-cultura-de-la-cm/
LOCATION:Consejería de Cultura\, Turismo y Deporte\, C. de Alcalá\, 31\, 28014 Madrid\, España
CATEGORIES:Pública
END:VEVENT
BEGIN:VEVENT
DTSTART;TZID=Europe/Madrid:20220719T183000
DTEND;TZID=Europe/Madrid:20220719T193000
DTSTAMP:20260423T201839
CREATED:20220718T073011Z
LAST-MODIFIED:20220718T073011Z
UID:10039260-1658255400-1658259000@fravm.org
SUMMARY:Reunión con AV La Unión de Hortaleza
DESCRIPTION:
URL:https://fravm.org/evento/reunion-con-av-la-union-de-hortaleza/
LOCATION:C/ Abárzuza\, bloque 31 bajos
CATEGORIES:Pública
END:VEVENT
BEGIN:VEVENT
DTSTART;TZID=Europe/Madrid:20220719T173000
DTEND;TZID=Europe/Madrid:20220719T183000
DTSTAMP:20260423T201839
CREATED:20220718T121011Z
LAST-MODIFIED:20220718T121011Z
UID:10039262-1658251800-1658255400@fravm.org
SUMMARY:Asistencia a reunión con entidades y plataformas para organizar una movilización en la semana de la movilidad
DESCRIPTION:
URL:https://fravm.org/evento/asistencia-a-reunion-con-entidades-y-plataformas-para-organizar-una-movilizacion-en-la-semana-de-la-movilidad/
LOCATION:Online
CATEGORIES:Pública
END:VEVENT
BEGIN:VEVENT
DTSTART;TZID=Europe/Madrid:20220719T100000
DTEND;TZID=Europe/Madrid:20220719T120000
DTSTAMP:20260423T201839
CREATED:20220718T073011Z
LAST-MODIFIED:20220718T073011Z
UID:10039259-1658224800-1658232000@fravm.org
SUMMARY:Asistencia a la Reunión de la Comisión Permanente de SURES
DESCRIPTION:
URL:https://fravm.org/evento/asistencia-a-la-reunion-de-la-comision-permanente-de-sures/
LOCATION:La Nave\, C. Cifuentes\, 5\, 28021 Madrid\, España
CATEGORIES:Pública
END:VEVENT
BEGIN:VEVENT
DTSTART;TZID=Europe/Madrid:20220718T130000
DTEND;TZID=Europe/Madrid:20220718T140000
DTSTAMP:20260423T201839
CREATED:20220713T091011Z
LAST-MODIFIED:20220713T091011Z
UID:10039258-1658149200-1658152800@fravm.org
SUMMARY:Asistencia a Reunión Mesa de Trabajo para la eliminación del Scalextric de Puente de Vallecas
DESCRIPTION:Antes de imprimir este e-mail piense bie
URL:https://fravm.org/evento/asistencia-a-reunion-mesa-de-trabajo-para-la-eliminacion-del-scalextric-de-puente-de-vallecas/
LOCATION:Salón de Plenos
CATEGORIES:Pública
END:VEVENT
BEGIN:VEVENT
DTSTART;TZID=Europe/Madrid:20220713T130000
DTEND;TZID=Europe/Madrid:20220713T140000
DTSTAMP:20260423T201839
CREATED:20220713T091010Z
LAST-MODIFIED:20220713T091010Z
UID:10030272-1657717200-1657720800@fravm.org
SUMMARY:Reunión con Área Delegada de Participación ciudadana del Ayuntamiento de Madrid
DESCRIPTION:Sala 403 de la 4.ª Planta. \nPalacio de Cibeles (acceso por la C/ Montalbán\, 1)
URL:https://fravm.org/evento/reunion-con-area-delegada-de-participacion-ciudadana-del-ayuntamiento-de-madrid/
CATEGORIES:Pública
END:VEVENT
BEGIN:VEVENT
DTSTART;TZID=Europe/Madrid:20220713T093000
DTEND;TZID=Europe/Madrid:20220713T103000
DTSTAMP:20260423T201839
CREATED:20220708T085012Z
LAST-MODIFIED:20220708T085012Z
UID:10030269-1657704600-1657708200@fravm.org
SUMMARY:Asistencia a Reunión de la Comisión de Calidad del Paisaje Urbano
DESCRIPTION:
URL:https://fravm.org/evento/asistencia-a-reunion-de-la-comision-de-calidad-del-paisaje-urbano/
LOCATION:Palacio de Cibeles\, C/ Montalbán\, 1 28014 Madrid\, España
CATEGORIES:Pública
END:VEVENT
BEGIN:VEVENT
DTSTART;TZID=Europe/Madrid:20220713T093000
DTEND;TZID=Europe/Madrid:20220713T103000
DTSTAMP:20260423T201839
CREATED:20220708T085011Z
LAST-MODIFIED:20220708T085011Z
UID:10030268-1657704600-1657708200@fravm.org
SUMMARY:Asistencia a Reunión de la Mesa Técnica sectorial Cultura y Deporte SURES
DESCRIPTION:
URL:https://fravm.org/evento/asistencia-a-reunion-de-la-mesa-tecnica-sectorial-cultura-y-deporte-sures/
LOCATION:Online
CATEGORIES:Pública
END:VEVENT
BEGIN:VEVENT
DTSTART;TZID=Europe/Madrid:20220712T100000
DTEND;TZID=Europe/Madrid:20220712T113000
DTSTAMP:20260423T201839
CREATED:20220708T084011Z
LAST-MODIFIED:20220708T084011Z
UID:10030266-1657620000-1657625400@fravm.org
SUMMARY:Asistencia a Reunión de la Comisión Técnica de Medio Ambiente y Movilidad. Consejo Social de la Ciudad.
DESCRIPTION:
URL:https://fravm.org/evento/asistencia-a-reunion-de-la-comision-tecnica-de-medio-ambiente-y-movilidad-consejo-social-de-la-ciudad-2/
LOCATION:Online
CATEGORIES:Pública
END:VEVENT
BEGIN:VEVENT
DTSTART;TZID=Europe/Madrid:20220711T130000
DTEND;TZID=Europe/Madrid:20220711T140000
DTSTAMP:20260423T201839
CREATED:20220708T084011Z
LAST-MODIFIED:20220708T084011Z
UID:10030265-1657544400-1657548000@fravm.org
SUMMARY:Asistencia a reunión con Secretario de Estado para la Agenda 2030 en representación de CEAV
DESCRIPTION:Tema: Agenda 2030
URL:https://fravm.org/evento/asistencia-a-reunion-con-secretario-de-estado-para-la-agenda-2030-en-representacion-de-ceav/
CATEGORIES:Pública
END:VEVENT
BEGIN:VEVENT
DTSTART;TZID=Europe/Madrid:20220711T093000
DTEND;TZID=Europe/Madrid:20220711T103000
DTSTAMP:20260423T201839
CREATED:20220711T101011Z
LAST-MODIFIED:20220711T101011Z
UID:10030271-1657531800-1657535400@fravm.org
SUMMARY:Asistencia al Acto “Nuevo Sistema Público de Servicios Sociales de la ciudad de Madrid”
DESCRIPTION:
URL:https://fravm.org/evento/asistencia-al-acto-nuevo-sistema-publico-de-servicios-sociales-de-la-ciudad-de-madrid/
LOCATION:Pl. de la Villa\, 5\, 28005 Madrid\, España
CATEGORIES:Pública
END:VEVENT
BEGIN:VEVENT
DTSTART;TZID=Europe/Madrid:20220711T093000
DTEND;TZID=Europe/Madrid:20220711T103000
DTSTAMP:20260423T201839
CREATED:20220707T111011Z
LAST-MODIFIED:20220707T111011Z
UID:10030263-1657531800-1657535400@fravm.org
SUMMARY:Asistencia a la Comisión de Pleno de Medio Ambiente y Movilidad del Ayuntamiento de Madrid
DESCRIPTION:
URL:https://fravm.org/evento/asistencia-a-la-comision-de-pleno-de-medio-ambiente-y-movilidad-del-ayuntamiento-de-madrid-2/
LOCATION:Online
CATEGORIES:Pública
END:VEVENT
BEGIN:VEVENT
DTSTART;TZID=Europe/Madrid:20220708T100000
DTEND;TZID=Europe/Madrid:20220708T140000
DTSTAMP:20260423T201839
CREATED:20220613T112010Z
LAST-MODIFIED:20220613T112010Z
UID:10039209-1657274400-1657288800@fravm.org
SUMMARY:Asistencia a las vistas de las Juntas Arbitrales de Consumo de la Comunidad de Madrid
DESCRIPTION:
URL:https://fravm.org/evento/asistencia-a-las-vistas-de-las-juntas-arbitrales-de-consumo-de-la-comunidad-de-madrid-11/
LOCATION:Junta Arbitral de Consumo de la Comunidad Autónoma de Madrid\, C. de Ramírez de Prado\, 5 bis\, 28045 Madrid\, España
CATEGORIES:Pública
END:VEVENT
BEGIN:VEVENT
DTSTART;TZID=Europe/Madrid:20220706T120000
DTEND;TZID=Europe/Madrid:20220706T130000
DTSTAMP:20260423T201839
CREATED:20220705T074011Z
LAST-MODIFIED:20220705T074011Z
UID:10030250-1657108800-1657112400@fravm.org
SUMMARY:Asistencia al Pleno del Consejo Sectorial de Personas Mayores de la Ciudad de Madrid
DESCRIPTION:
URL:https://fravm.org/evento/asistencia-al-pleno-del-consejo-sectorial-de-personas-mayores-de-la-ciudad-de-madrid-2/
LOCATION:Online
CATEGORIES:Pública
END:VEVENT
BEGIN:VEVENT
DTSTART;TZID=Europe/Madrid:20220706T093000
DTEND;TZID=Europe/Madrid:20220706T103000
DTSTAMP:20260423T201839
CREATED:20220705T074011Z
LAST-MODIFIED:20220705T074011Z
UID:10030249-1657099800-1657103400@fravm.org
SUMMARY:Asistencia a Sesión monográfica 'Parque Lineal del Manzanares'. Mesa Técnica Sectorial Regeneración Ambiental. SURES
DESCRIPTION:
URL:https://fravm.org/evento/asistencia-a-sesion-monografica-parque-lineal-del-manzanares-mesa-tecnica-sectorial-regeneracion-ambiental-sures/
LOCATION:Online
CATEGORIES:Pública
END:VEVENT
BEGIN:VEVENT
DTSTART;TZID=Europe/Madrid:20220705T170000
DTEND;TZID=Europe/Madrid:20220705T180000
DTSTAMP:20260423T201839
CREATED:20220705T075011Z
LAST-MODIFIED:20220705T075011Z
UID:10030252-1657040400-1657044000@fravm.org
SUMMARY:Reunión Comisión Soledad no deseada
DESCRIPTION:
URL:https://fravm.org/evento/reunion-comision-soledad-no-deseada/
LOCATION:Online
CATEGORIES:Pública
END:VEVENT
BEGIN:VEVENT
DTSTART;TZID=Europe/Madrid:20220705T110000
DTEND;TZID=Europe/Madrid:20220705T120000
DTSTAMP:20260423T201839
CREATED:20220603T115009Z
LAST-MODIFIED:20220603T115009Z
UID:10030202-1657018800-1657022400@fravm.org
SUMMARY:Reunión del grupo motor de la comisión de mayores de la FRAVM
DESCRIPTION:
URL:https://fravm.org/evento/reunion-del-grupo-motor-de-la-comision-de-mayores-de-la-fravm-3/
LOCATION:Online
CATEGORIES:Pública
END:VEVENT
BEGIN:VEVENT
DTSTART;TZID=Europe/Madrid:20220705T091500
DTEND;TZID=Europe/Madrid:20220705T101500
DTSTAMP:20260423T201839
CREATED:20220705T074011Z
LAST-MODIFIED:20220705T074011Z
UID:10030247-1657012500-1657016100@fravm.org
SUMMARY:Asistencia al Debate del estado de la Ciudad
DESCRIPTION:
URL:https://fravm.org/evento/asistencia-al-debate-del-estado-de-la-ciudad/
LOCATION:Palacio de Cibeles\, Plaza Cibeles\, 1A\, 28014 Madrid\, España
CATEGORIES:Pública
END:VEVENT
BEGIN:VEVENT
DTSTART;TZID=Europe/Madrid:20220704T123000
DTEND;TZID=Europe/Madrid:20220704T133000
DTSTAMP:20260423T201839
CREATED:20220701T104010Z
LAST-MODIFIED:20220701T104010Z
UID:10039239-1656937800-1656941400@fravm.org
SUMMARY:Reunión con Dirección General de Cultura del Ayuntamiento de Madrid
DESCRIPTION:Tema: Vivero de artistas Polígono ISO\nAsiste AV Carabanchel Distrito Cultural
URL:https://fravm.org/evento/reunion-con-direccion-general-de-cultura-del-ayuntamiento-de-madrid/
LOCATION:Online
CATEGORIES:Pública
END:VEVENT
BEGIN:VEVENT
DTSTART;TZID=Europe/Madrid:20220704T100000
DTEND;TZID=Europe/Madrid:20220704T110000
DTSTAMP:20260423T201839
CREATED:20220704T075011Z
LAST-MODIFIED:20220704T075011Z
UID:10030244-1656928800-1656932400@fravm.org
SUMMARY:Reunión con FACUA
DESCRIPTION:Tema: formación y acciones conjuntas
URL:https://fravm.org/evento/reunion-con-facua-5/
LOCATION:Online
CATEGORIES:Pública
END:VEVENT
BEGIN:VEVENT
DTSTART;TZID=Europe/Madrid:20220703T120000
DTEND;TZID=Europe/Madrid:20220703T130000
DTSTAMP:20260423T201839
CREATED:20220704T075011Z
LAST-MODIFIED:20220704T075011Z
UID:10030242-1656849600-1656853200@fravm.org
SUMMARY:Asistencia a Clausura VII Conferencia UJCE
DESCRIPTION:
URL:https://fravm.org/evento/asistencia-a-clausura-vii-conferencia-ujce/
LOCATION:Centro Cultural El Pozo del Tío Raimundo\, Av. de las Glorietas\, 19\, 21\, 28053 Madrid\, España
CATEGORIES:Pública
END:VEVENT
BEGIN:VEVENT
DTSTART;TZID=Europe/Madrid:20220702T170000
DTEND;TZID=Europe/Madrid:20220702T190000
DTSTAMP:20260423T201839
CREATED:20220704T080011Z
LAST-MODIFIED:20220704T080011Z
UID:10030245-1656781200-1656788400@fravm.org
SUMMARY:Asistencia a convención municipal agrupación socialista de Madrid
DESCRIPTION:
URL:https://fravm.org/evento/asistencia-a-convencion-municipal-agrupacion-socialista-de-madrid/
LOCATION:CentroCentro\, Plaza Cibeles\, 1A\, 28014 Madrid\, España
CATEGORIES:Pública
END:VEVENT
BEGIN:VEVENT
DTSTART;TZID=Europe/Madrid:20220701T183000
DTEND;TZID=Europe/Madrid:20220701T193000
DTSTAMP:20260423T201839
CREATED:20220704T075010Z
LAST-MODIFIED:20220704T075010Z
UID:10030240-1656700200-1656703800@fravm.org
SUMMARY:Reunión plataforma defensa de las Lagunas de Ambroz
DESCRIPTION:
URL:https://fravm.org/evento/reunion-plataforma-defensa-de-las-lagunas-de-ambroz/
LOCATION:Online
CATEGORIES:Pública
END:VEVENT
BEGIN:VEVENT
DTSTART;TZID=Europe/Madrid:20220701T100000
DTEND;TZID=Europe/Madrid:20220701T110000
DTSTAMP:20260423T201839
CREATED:20220630T092010Z
LAST-MODIFIED:20220630T092010Z
UID:10039238-1656669600-1656673200@fravm.org
SUMMARY:Reunión con Secretaría de Política Sectorial e Industrial de Unión Sindical Madrid Región CCOO
DESCRIPTION:
URL:https://fravm.org/evento/reunion-con-secretaria-de-politica-sectorial-e-industrial-de-union-sindical-madrid-region-ccoo/
LOCATION:Online
CATEGORIES:Pública
END:VEVENT
BEGIN:VEVENT
DTSTART;TZID=Europe/Madrid:20220630T123000
DTEND;TZID=Europe/Madrid:20220630T133000
DTSTAMP:20260423T201839
CREATED:20220629T143012Z
LAST-MODIFIED:20220629T143012Z
UID:10039237-1656592200-1656595800@fravm.org
SUMMARY:Asistencia a Comisión de Adjudicación EMVS
DESCRIPTION:
URL:https://fravm.org/evento/asistencia-a-comision-de-adjudicacion-emvs/
LOCATION:Online
CATEGORIES:Pública
END:VEVENT
BEGIN:VEVENT
DTSTART;TZID=Europe/Madrid:20220630T103000
DTEND;TZID=Europe/Madrid:20220630T113000
DTSTAMP:20260423T201839
CREATED:20220629T143011Z
LAST-MODIFIED:20220629T143011Z
UID:10039236-1656585000-1656588600@fravm.org
SUMMARY:Asistencia a Reunión de concertación PIBA 2023 y seguimiento PIBA 2022 Ventilla - Almenara
DESCRIPTION:
URL:https://fravm.org/evento/asistencia-a-reunion-de-concertacion-piba-2023-y-seguimiento-piba-2022-ventilla-almenara/
LOCATION:Online
CATEGORIES:Pública
END:VEVENT
BEGIN:VEVENT
DTSTART;TZID=Europe/Madrid:20220629T190000
DTEND;TZID=Europe/Madrid:20220629T200000
DTSTAMP:20260423T201839
CREATED:20220629T143011Z
LAST-MODIFIED:20220629T143011Z
UID:10039235-1656529200-1656532800@fravm.org
SUMMARY:Asistencia a la Presentación del Mapa de los horrores
DESCRIPTION:
URL:https://fravm.org/evento/asistencia-a-la-presentacion-del-mapa-de-los-horrores/
LOCATION:Ateneo La Maliciosa\, Calle de las Peñuelas\, 12\, 28005 Madrid\, España
CATEGORIES:Pública
END:VEVENT
BEGIN:VEVENT
DTSTART;TZID=Europe/Madrid:20220629T183000
DTEND;TZID=Europe/Madrid:20220629T210000
DTSTAMP:20260423T201839
CREATED:20220624T102012Z
LAST-MODIFIED:20220624T102012Z
UID:10039231-1656527400-1656536400@fravm.org
SUMMARY:Reunión Comisión de Sanidad
DESCRIPTION:
URL:https://fravm.org/evento/reunion-comision-de-sanidad/
LOCATION:Online
CATEGORIES:Pública
END:VEVENT
BEGIN:VEVENT
DTSTART;TZID=Europe/Madrid:20220629T170000
DTEND;TZID=Europe/Madrid:20220629T180000
DTSTAMP:20260423T201839
CREATED:20220629T143011Z
LAST-MODIFIED:20220629T143011Z
UID:10039234-1656522000-1656525600@fravm.org
SUMMARY:Asistencia a Reunión Red Estatal de Mayores Vecinales de CEAV
DESCRIPTION:
URL:https://fravm.org/evento/asistencia-a-reunion-red-estatal-de-mayores-vecinales-de-ceav/
LOCATION:Online
CATEGORIES:Pública
END:VEVENT
END:VCALENDAR