BEGIN:VCALENDAR
VERSION:2.0
PRODID:-//FRAVM - ECPv6.15.20//NONSGML v1.0//EN
CALSCALE:GREGORIAN
METHOD:PUBLISH
X-WR-CALNAME:FRAVM
X-ORIGINAL-URL:https://fravm.org
X-WR-CALDESC:Eventos para FRAVM
REFRESH-INTERVAL;VALUE=DURATION:PT1H
X-Robots-Tag:noindex
X-PUBLISHED-TTL:PT1H
BEGIN:VTIMEZONE
TZID:Europe/Madrid
BEGIN:DAYLIGHT
TZOFFSETFROM:+0100
TZOFFSETTO:+0200
TZNAME:CEST
DTSTART:20210328T010000
END:DAYLIGHT
BEGIN:STANDARD
TZOFFSETFROM:+0200
TZOFFSETTO:+0100
TZNAME:CET
DTSTART:20211031T010000
END:STANDARD
BEGIN:DAYLIGHT
TZOFFSETFROM:+0100
TZOFFSETTO:+0200
TZNAME:CEST
DTSTART:20220327T010000
END:DAYLIGHT
BEGIN:STANDARD
TZOFFSETFROM:+0200
TZOFFSETTO:+0100
TZNAME:CET
DTSTART:20221030T010000
END:STANDARD
BEGIN:DAYLIGHT
TZOFFSETFROM:+0100
TZOFFSETTO:+0200
TZNAME:CEST
DTSTART:20230326T010000
END:DAYLIGHT
BEGIN:STANDARD
TZOFFSETFROM:+0200
TZOFFSETTO:+0100
TZNAME:CET
DTSTART:20231029T010000
END:STANDARD
END:VTIMEZONE
BEGIN:VEVENT
DTSTART;TZID=Europe/Madrid:20220704T123000
DTEND;TZID=Europe/Madrid:20220704T133000
DTSTAMP:20260423T215348
CREATED:20220701T104010Z
LAST-MODIFIED:20220701T104010Z
UID:10039239-1656937800-1656941400@fravm.org
SUMMARY:Reunión con Dirección General de Cultura del Ayuntamiento de Madrid
DESCRIPTION:Tema: Vivero de artistas Polígono ISO\nAsiste AV Carabanchel Distrito Cultural
URL:https://fravm.org/evento/reunion-con-direccion-general-de-cultura-del-ayuntamiento-de-madrid/
LOCATION:Online
CATEGORIES:Pública
END:VEVENT
BEGIN:VEVENT
DTSTART;TZID=Europe/Madrid:20220704T100000
DTEND;TZID=Europe/Madrid:20220704T110000
DTSTAMP:20260423T215348
CREATED:20220704T075011Z
LAST-MODIFIED:20220704T075011Z
UID:10030244-1656928800-1656932400@fravm.org
SUMMARY:Reunión con FACUA
DESCRIPTION:Tema: formación y acciones conjuntas
URL:https://fravm.org/evento/reunion-con-facua-5/
LOCATION:Online
CATEGORIES:Pública
END:VEVENT
BEGIN:VEVENT
DTSTART;TZID=Europe/Madrid:20220703T120000
DTEND;TZID=Europe/Madrid:20220703T130000
DTSTAMP:20260423T215348
CREATED:20220704T075011Z
LAST-MODIFIED:20220704T075011Z
UID:10030242-1656849600-1656853200@fravm.org
SUMMARY:Asistencia a Clausura VII Conferencia UJCE
DESCRIPTION:
URL:https://fravm.org/evento/asistencia-a-clausura-vii-conferencia-ujce/
LOCATION:Centro Cultural El Pozo del Tío Raimundo\, Av. de las Glorietas\, 19\, 21\, 28053 Madrid\, España
CATEGORIES:Pública
END:VEVENT
BEGIN:VEVENT
DTSTART;TZID=Europe/Madrid:20220702T170000
DTEND;TZID=Europe/Madrid:20220702T190000
DTSTAMP:20260423T215348
CREATED:20220704T080011Z
LAST-MODIFIED:20220704T080011Z
UID:10030245-1656781200-1656788400@fravm.org
SUMMARY:Asistencia a convención municipal agrupación socialista de Madrid
DESCRIPTION:
URL:https://fravm.org/evento/asistencia-a-convencion-municipal-agrupacion-socialista-de-madrid/
LOCATION:CentroCentro\, Plaza Cibeles\, 1A\, 28014 Madrid\, España
CATEGORIES:Pública
END:VEVENT
BEGIN:VEVENT
DTSTART;TZID=Europe/Madrid:20220701T183000
DTEND;TZID=Europe/Madrid:20220701T193000
DTSTAMP:20260423T215348
CREATED:20220704T075010Z
LAST-MODIFIED:20220704T075010Z
UID:10030240-1656700200-1656703800@fravm.org
SUMMARY:Reunión plataforma defensa de las Lagunas de Ambroz
DESCRIPTION:
URL:https://fravm.org/evento/reunion-plataforma-defensa-de-las-lagunas-de-ambroz/
LOCATION:Online
CATEGORIES:Pública
END:VEVENT
BEGIN:VEVENT
DTSTART;TZID=Europe/Madrid:20220701T100000
DTEND;TZID=Europe/Madrid:20220701T110000
DTSTAMP:20260423T215348
CREATED:20220630T092010Z
LAST-MODIFIED:20220630T092010Z
UID:10039238-1656669600-1656673200@fravm.org
SUMMARY:Reunión con Secretaría de Política Sectorial e Industrial de Unión Sindical Madrid Región CCOO
DESCRIPTION:
URL:https://fravm.org/evento/reunion-con-secretaria-de-politica-sectorial-e-industrial-de-union-sindical-madrid-region-ccoo/
LOCATION:Online
CATEGORIES:Pública
END:VEVENT
BEGIN:VEVENT
DTSTART;TZID=Europe/Madrid:20220630T123000
DTEND;TZID=Europe/Madrid:20220630T133000
DTSTAMP:20260423T215348
CREATED:20220629T143012Z
LAST-MODIFIED:20220629T143012Z
UID:10039237-1656592200-1656595800@fravm.org
SUMMARY:Asistencia a Comisión de Adjudicación EMVS
DESCRIPTION:
URL:https://fravm.org/evento/asistencia-a-comision-de-adjudicacion-emvs/
LOCATION:Online
CATEGORIES:Pública
END:VEVENT
BEGIN:VEVENT
DTSTART;TZID=Europe/Madrid:20220630T103000
DTEND;TZID=Europe/Madrid:20220630T113000
DTSTAMP:20260423T215348
CREATED:20220629T143011Z
LAST-MODIFIED:20220629T143011Z
UID:10039236-1656585000-1656588600@fravm.org
SUMMARY:Asistencia a Reunión de concertación PIBA 2023 y seguimiento PIBA 2022 Ventilla - Almenara
DESCRIPTION:
URL:https://fravm.org/evento/asistencia-a-reunion-de-concertacion-piba-2023-y-seguimiento-piba-2022-ventilla-almenara/
LOCATION:Online
CATEGORIES:Pública
END:VEVENT
BEGIN:VEVENT
DTSTART;TZID=Europe/Madrid:20220629T190000
DTEND;TZID=Europe/Madrid:20220629T200000
DTSTAMP:20260423T215348
CREATED:20220629T143011Z
LAST-MODIFIED:20220629T143011Z
UID:10039235-1656529200-1656532800@fravm.org
SUMMARY:Asistencia a la Presentación del Mapa de los horrores
DESCRIPTION:
URL:https://fravm.org/evento/asistencia-a-la-presentacion-del-mapa-de-los-horrores/
LOCATION:Ateneo La Maliciosa\, Calle de las Peñuelas\, 12\, 28005 Madrid\, España
CATEGORIES:Pública
END:VEVENT
BEGIN:VEVENT
DTSTART;TZID=Europe/Madrid:20220629T183000
DTEND;TZID=Europe/Madrid:20220629T210000
DTSTAMP:20260423T215348
CREATED:20220624T102012Z
LAST-MODIFIED:20220624T102012Z
UID:10039231-1656527400-1656536400@fravm.org
SUMMARY:Reunión Comisión de Sanidad
DESCRIPTION:
URL:https://fravm.org/evento/reunion-comision-de-sanidad/
LOCATION:Online
CATEGORIES:Pública
END:VEVENT
BEGIN:VEVENT
DTSTART;TZID=Europe/Madrid:20220629T170000
DTEND;TZID=Europe/Madrid:20220629T180000
DTSTAMP:20260423T215348
CREATED:20220629T143011Z
LAST-MODIFIED:20220629T143011Z
UID:10039234-1656522000-1656525600@fravm.org
SUMMARY:Asistencia a Reunión Red Estatal de Mayores Vecinales de CEAV
DESCRIPTION:
URL:https://fravm.org/evento/asistencia-a-reunion-red-estatal-de-mayores-vecinales-de-ceav/
LOCATION:Online
CATEGORIES:Pública
END:VEVENT
BEGIN:VEVENT
DTSTART;TZID=Europe/Madrid:20220629T093000
DTEND;TZID=Europe/Madrid:20220629T103000
DTSTAMP:20260423T215348
CREATED:20220629T142010Z
LAST-MODIFIED:20220629T142010Z
UID:10039232-1656495000-1656498600@fravm.org
SUMMARY:Asistencia a reunión de la Mesa Técnica Sectorial Recuperación Económica y Ambiental
DESCRIPTION:
URL:https://fravm.org/evento/asistencia-a-reunion-de-la-mesa-tecnica-sectorial-recuperacion-economica-y-ambiental/
LOCATION:Online
CATEGORIES:Pública
END:VEVENT
BEGIN:VEVENT
DTSTART;TZID=Europe/Madrid:20220628T190000
DTEND;TZID=Europe/Madrid:20220628T200000
DTSTAMP:20260423T215348
CREATED:20220629T143011Z
LAST-MODIFIED:20220629T143011Z
UID:10039233-1656442800-1656446400@fravm.org
SUMMARY:Reunión con AAVV de Usera sobre PIBAS
DESCRIPTION:
URL:https://fravm.org/evento/reunion-con-aavv-de-usera-sobre-pibas/
LOCATION:Centro Cultural Mariano Muñoz.\, C. Cristo de Lepanto\, 11\, 28026 Madrid\, España
CATEGORIES:Pública
END:VEVENT
BEGIN:VEVENT
DTSTART;TZID=Europe/Madrid:20220628T110000
DTEND;TZID=Europe/Madrid:20220628T123000
DTSTAMP:20260423T215348
CREATED:20220623T074010Z
LAST-MODIFIED:20220623T074010Z
UID:10039225-1656414000-1656419400@fravm.org
SUMMARY:Asistencia a las vistas de las Juntas Arbitrales de Consumo del Ayuntamiento de Madrid
DESCRIPTION:
URL:https://fravm.org/evento/asistencia-a-las-vistas-de-las-juntas-arbitrales-de-consumo-del-ayuntamiento-de-madrid-5/
LOCATION:Telefónica
CATEGORIES:Pública
END:VEVENT
BEGIN:VEVENT
DTSTART;TZID=Europe/Madrid:20220627T093000
DTEND;TZID=Europe/Madrid:20220627T120000
DTSTAMP:20260423T215348
CREATED:20220624T102011Z
LAST-MODIFIED:20220624T102011Z
UID:10039230-1656322200-1656331200@fravm.org
SUMMARY:Mesa Técnica Agenda Urbana CSC
DESCRIPTION:
URL:https://fravm.org/evento/mesa-tecnica-agenda-urbana-csc/
LOCATION:Online
CATEGORIES:Pública
END:VEVENT
BEGIN:VEVENT
DTSTART;TZID=Europe/Madrid:20220626T180000
DTEND;TZID=Europe/Madrid:20220626T190000
DTSTAMP:20260423T215348
CREATED:20220624T101011Z
LAST-MODIFIED:20220624T101011Z
UID:10039228-1656266400-1656270000@fravm.org
SUMMARY:Asistencia a Gala 25 Aniversario AV Las Provincias
DESCRIPTION:
URL:https://fravm.org/evento/asistencia-a-gala-25-aniversario-av-las-provincias/
LOCATION:Centro Cívico Municipal La Serna\, Avda. de las Comarcas\, 2 Bis\, 28941 Fuenlabrada\, Madrid\, España
CATEGORIES:Pública
END:VEVENT
BEGIN:VEVENT
DTSTART;TZID=Europe/Madrid:20220625T100000
DTEND;TZID=Europe/Madrid:20220625T140000
DTSTAMP:20260423T215348
CREATED:20220622T124011Z
LAST-MODIFIED:20220622T124011Z
UID:10039224-1656151200-1656165600@fravm.org
SUMMARY:Intervención en la I Escuela Municipalista de Verano organizada por Red de Municipios por el Cambio  (Federación de Municipios de Madrid)
DESCRIPTION:
URL:https://fravm.org/evento/intervencion-en-la-i-escuela-municipalista-de-verano-organizada-por-red-de-municipios-por-el-cambio-federacion-de-municipios-de-madrid/
LOCATION:Centro Cultural de Pedrezuela\, Avenida del Polideportivo\, 10\, 28723 Pedrezuela\, Madrid\, España
CATEGORIES:Pública
END:VEVENT
BEGIN:VEVENT
DTSTART;TZID=Europe/Madrid:20220624T120000
DTEND;TZID=Europe/Madrid:20220624T130000
DTSTAMP:20260423T215348
CREATED:20220624T101010Z
LAST-MODIFIED:20220624T101010Z
UID:10039227-1656072000-1656075600@fravm.org
SUMMARY:Reunión concertación PIBA Pueblo Nuevo
DESCRIPTION:
URL:https://fravm.org/evento/reunion-concertacion-piba-pueblo-nuevo/
LOCATION:Online
CATEGORIES:Pública
END:VEVENT
BEGIN:VEVENT
DTSTART;TZID=Europe/Madrid:20220624T103000
DTEND;TZID=Europe/Madrid:20220624T113000
DTSTAMP:20260423T215348
CREATED:20220622T124010Z
LAST-MODIFIED:20220622T124010Z
UID:10039223-1656066600-1656070200@fravm.org
SUMMARY:Reunión con Área Económica de la Agencia de Vivienda Social sobre Huerto urbano de Ventilla
DESCRIPTION:
URL:https://fravm.org/evento/reunion-con-area-economica-de-la-agencia-de-vivienda-social-sobre-huerto-urbano-de-ventilla/
LOCATION:Agencia de Vivienda Social c/ Emilia\, 12
CATEGORIES:Pública
END:VEVENT
BEGIN:VEVENT
DTSTART;TZID=Europe/Madrid:20220623T180000
DTEND;TZID=Europe/Madrid:20220623T200000
DTSTAMP:20260423T215348
CREATED:20220624T102011Z
LAST-MODIFIED:20220624T102011Z
UID:10039229-1656007200-1656014400@fravm.org
SUMMARY:Reunión GT Soledad no deseada
DESCRIPTION:
URL:https://fravm.org/evento/reunion-gt-soledad-no-deseada/
LOCATION:Online
CATEGORIES:Pública
END:VEVENT
BEGIN:VEVENT
DTSTART;TZID=Europe/Madrid:20220623T170000
DTEND;TZID=Europe/Madrid:20220623T180000
DTSTAMP:20260423T215348
CREATED:20220624T101010Z
LAST-MODIFIED:20220624T101010Z
UID:10039226-1656003600-1656007200@fravm.org
SUMMARY:Reunión dirección con el personal laboral
DESCRIPTION:
URL:https://fravm.org/evento/reunion-direccion-con-el-personal-laboral/
LOCATION:EV Paco Caño
CATEGORIES:Pública
END:VEVENT
BEGIN:VEVENT
DTSTART;TZID=Europe/Madrid:20220622T180000
DTEND;TZID=Europe/Madrid:20220622T203000
DTSTAMP:20260423T215348
CREATED:20220616T101013Z
LAST-MODIFIED:20220616T101013Z
UID:10030227-1655920800-1655929800@fravm.org
SUMMARY:Asambleas generales Ordinaria y Extraordinaria de la FRAVM
DESCRIPTION:
URL:https://fravm.org/evento/asambleas-generales-ordinaria-y-extraordinaria-de-la-fravm/
LOCATION:Federación Regional de Asociaciones Vecinales de Madrid (FRAVM)\, C. del Camino de los Vinateros\, 53\, 28030 Madrid\, España
CATEGORIES:Pública
END:VEVENT
BEGIN:VEVENT
DTSTART;TZID=Europe/Madrid:20220622T130000
DTEND;TZID=Europe/Madrid:20220622T140000
DTSTAMP:20260423T215348
CREATED:20220926T054051Z
LAST-MODIFIED:20220926T054051Z
UID:10039387-1655902800-1655906400@fravm.org
SUMMARY:Asistencia a reunión de la mesa técnica sectorial de Regeneración Ambiental SURES
DESCRIPTION:
URL:https://fravm.org/evento/asistencia-a-reunion-de-la-mesa-tecnica-sectorial-de-regeneracion-ambiental-sures-2/
LOCATION:Online
CATEGORIES:Pública
END:VEVENT
BEGIN:VEVENT
DTSTART;TZID=Europe/Madrid:20220622T123000
DTEND;TZID=Europe/Madrid:20220622T133000
DTSTAMP:20260423T215348
CREATED:20220621T134011Z
LAST-MODIFIED:20220621T134011Z
UID:10030237-1655901000-1655904600@fravm.org
SUMMARY:Asistencia a Comisión de pleno Portavoz\, Seguridad y Emergencias
DESCRIPTION:
URL:https://fravm.org/evento/asistencia-a-comision-de-pleno-portavoz-seguridad-y-emergencias/
LOCATION:Casa de Cisneros\, plaza de la Villa\, n.º 4
CATEGORIES:Pública
END:VEVENT
BEGIN:VEVENT
DTSTART;TZID=Europe/Madrid:20220622T120000
DTEND;TZID=Europe/Madrid:20220622T130000
DTSTAMP:20260423T215348
CREATED:20220621T134011Z
LAST-MODIFIED:20220621T134011Z
UID:10039222-1655899200-1655902800@fravm.org
SUMMARY:Asistencia a reunión de la mesa técnica sectorial de Regeneración Ambiental SURES
DESCRIPTION:
URL:https://fravm.org/evento/asistencia-a-reunion-de-la-mesa-tecnica-sectorial-de-regeneracion-ambiental-sures/
LOCATION:Online
CATEGORIES:Pública
END:VEVENT
BEGIN:VEVENT
DTSTART;TZID=Europe/Madrid:20220622T100000
DTEND;TZID=Europe/Madrid:20220622T110000
DTSTAMP:20260423T215348
CREATED:20220621T134010Z
LAST-MODIFIED:20220621T134010Z
UID:10030235-1655892000-1655895600@fravm.org
SUMMARY:Asistencia al Pleno del Consejo Social de la Ciudad de Madrid
DESCRIPTION:
URL:https://fravm.org/evento/asistencia-al-pleno-del-consejo-social-de-la-ciudad-de-madrid/
LOCATION:Palacio de Cibeles\, Plaza Cibeles\, 1\, Sexta Planta\, 28014 Madrid\, España
CATEGORIES:Pública
END:VEVENT
BEGIN:VEVENT
DTSTART;TZID=Europe/Madrid:20220622T100000
DTEND;TZID=Europe/Madrid:20220622T110000
DTSTAMP:20260423T215348
CREATED:20220616T101012Z
LAST-MODIFIED:20220616T101012Z
UID:10030226-1655892000-1655895600@fravm.org
SUMMARY:Asistencia a la Reunión del Pleno del Consejo Social de la Ciudad de Madrid
DESCRIPTION:
URL:https://fravm.org/evento/asistencia-a-la-reunion-del-pleno-del-consejo-social-de-la-ciudad-de-madrid/
LOCATION:Palacio de Cibeles\, Plaza Cibeles\, 1\, Sexta Planta\, 28014 Madrid\, España
CATEGORIES:Pública
END:VEVENT
BEGIN:VEVENT
DTSTART;TZID=Europe/Madrid:20220622T093000
DTEND;TZID=Europe/Madrid:20220622T103000
DTSTAMP:20260423T215348
CREATED:20220621T134010Z
LAST-MODIFIED:20220621T134010Z
UID:10030234-1655890200-1655893800@fravm.org
SUMMARY:Asistencia a reunión de la Comisión de Pleno de Desarrollo Urbano
DESCRIPTION:
URL:https://fravm.org/evento/asistencia-a-reunion-de-la-comision-de-pleno-de-desarrollo-urbano/
CATEGORIES:Pública
END:VEVENT
BEGIN:VEVENT
DTSTART;TZID=Europe/Madrid:20220621T183000
DTEND;TZID=Europe/Madrid:20220621T193000
DTSTAMP:20260423T215348
CREATED:20220621T132011Z
LAST-MODIFIED:20220621T132011Z
UID:10030232-1655836200-1655839800@fravm.org
SUMMARY:Reunión extraordinaria de la Junta Directiva de la FRAVM
DESCRIPTION:
URL:https://fravm.org/evento/reunion-extraordinaria-de-la-junta-directiva-de-la-fravm-2/
CATEGORIES:Pública
END:VEVENT
BEGIN:VEVENT
DTSTART;TZID=Europe/Madrid:20220621T173000
DTEND;TZID=Europe/Madrid:20220621T183000
DTSTAMP:20260423T215348
CREATED:20220621T132011Z
LAST-MODIFIED:20220621T132011Z
UID:10030230-1655832600-1655836200@fravm.org
SUMMARY:Asistencia a reunión de la Plataforma Justa Freire
DESCRIPTION:
URL:https://fravm.org/evento/asistencia-a-reunion-de-la-plataforma-justa-freire-2/
LOCATION:Online
CATEGORIES:Pública
END:VEVENT
END:VCALENDAR