BEGIN:VCALENDAR
VERSION:2.0
PRODID:-//FRAVM - ECPv6.15.20//NONSGML v1.0//EN
CALSCALE:GREGORIAN
METHOD:PUBLISH
X-WR-CALNAME:FRAVM
X-ORIGINAL-URL:https://fravm.org
X-WR-CALDESC:Eventos para FRAVM
REFRESH-INTERVAL;VALUE=DURATION:PT1H
X-Robots-Tag:noindex
X-PUBLISHED-TTL:PT1H
BEGIN:VTIMEZONE
TZID:Europe/Madrid
BEGIN:DAYLIGHT
TZOFFSETFROM:+0100
TZOFFSETTO:+0200
TZNAME:CEST
DTSTART:20210328T010000
END:DAYLIGHT
BEGIN:STANDARD
TZOFFSETFROM:+0200
TZOFFSETTO:+0100
TZNAME:CET
DTSTART:20211031T010000
END:STANDARD
BEGIN:DAYLIGHT
TZOFFSETFROM:+0100
TZOFFSETTO:+0200
TZNAME:CEST
DTSTART:20220327T010000
END:DAYLIGHT
BEGIN:STANDARD
TZOFFSETFROM:+0200
TZOFFSETTO:+0100
TZNAME:CET
DTSTART:20221030T010000
END:STANDARD
BEGIN:DAYLIGHT
TZOFFSETFROM:+0100
TZOFFSETTO:+0200
TZNAME:CEST
DTSTART:20230326T010000
END:DAYLIGHT
BEGIN:STANDARD
TZOFFSETFROM:+0200
TZOFFSETTO:+0100
TZNAME:CET
DTSTART:20231029T010000
END:STANDARD
END:VTIMEZONE
BEGIN:VEVENT
DTSTART;TZID=Europe/Madrid:20220623T170000
DTEND;TZID=Europe/Madrid:20220623T180000
DTSTAMP:20260423T232556
CREATED:20220624T101010Z
LAST-MODIFIED:20220624T101010Z
UID:10039226-1656003600-1656007200@fravm.org
SUMMARY:Reunión dirección con el personal laboral
DESCRIPTION:
URL:https://fravm.org/evento/reunion-direccion-con-el-personal-laboral/
LOCATION:EV Paco Caño
CATEGORIES:Pública
END:VEVENT
BEGIN:VEVENT
DTSTART;TZID=Europe/Madrid:20220622T180000
DTEND;TZID=Europe/Madrid:20220622T203000
DTSTAMP:20260423T232556
CREATED:20220616T101013Z
LAST-MODIFIED:20220616T101013Z
UID:10030227-1655920800-1655929800@fravm.org
SUMMARY:Asambleas generales Ordinaria y Extraordinaria de la FRAVM
DESCRIPTION:
URL:https://fravm.org/evento/asambleas-generales-ordinaria-y-extraordinaria-de-la-fravm/
LOCATION:Federación Regional de Asociaciones Vecinales de Madrid (FRAVM)\, C. del Camino de los Vinateros\, 53\, 28030 Madrid\, España
CATEGORIES:Pública
END:VEVENT
BEGIN:VEVENT
DTSTART;TZID=Europe/Madrid:20220622T130000
DTEND;TZID=Europe/Madrid:20220622T140000
DTSTAMP:20260423T232556
CREATED:20220926T054051Z
LAST-MODIFIED:20220926T054051Z
UID:10039387-1655902800-1655906400@fravm.org
SUMMARY:Asistencia a reunión de la mesa técnica sectorial de Regeneración Ambiental SURES
DESCRIPTION:
URL:https://fravm.org/evento/asistencia-a-reunion-de-la-mesa-tecnica-sectorial-de-regeneracion-ambiental-sures-2/
LOCATION:Online
CATEGORIES:Pública
END:VEVENT
BEGIN:VEVENT
DTSTART;TZID=Europe/Madrid:20220622T123000
DTEND;TZID=Europe/Madrid:20220622T133000
DTSTAMP:20260423T232556
CREATED:20220621T134011Z
LAST-MODIFIED:20220621T134011Z
UID:10030237-1655901000-1655904600@fravm.org
SUMMARY:Asistencia a Comisión de pleno Portavoz\, Seguridad y Emergencias
DESCRIPTION:
URL:https://fravm.org/evento/asistencia-a-comision-de-pleno-portavoz-seguridad-y-emergencias/
LOCATION:Casa de Cisneros\, plaza de la Villa\, n.º 4
CATEGORIES:Pública
END:VEVENT
BEGIN:VEVENT
DTSTART;TZID=Europe/Madrid:20220622T120000
DTEND;TZID=Europe/Madrid:20220622T130000
DTSTAMP:20260423T232556
CREATED:20220621T134011Z
LAST-MODIFIED:20220621T134011Z
UID:10039222-1655899200-1655902800@fravm.org
SUMMARY:Asistencia a reunión de la mesa técnica sectorial de Regeneración Ambiental SURES
DESCRIPTION:
URL:https://fravm.org/evento/asistencia-a-reunion-de-la-mesa-tecnica-sectorial-de-regeneracion-ambiental-sures/
LOCATION:Online
CATEGORIES:Pública
END:VEVENT
BEGIN:VEVENT
DTSTART;TZID=Europe/Madrid:20220622T100000
DTEND;TZID=Europe/Madrid:20220622T110000
DTSTAMP:20260423T232556
CREATED:20220621T134010Z
LAST-MODIFIED:20220621T134010Z
UID:10030235-1655892000-1655895600@fravm.org
SUMMARY:Asistencia al Pleno del Consejo Social de la Ciudad de Madrid
DESCRIPTION:
URL:https://fravm.org/evento/asistencia-al-pleno-del-consejo-social-de-la-ciudad-de-madrid/
LOCATION:Palacio de Cibeles\, Plaza Cibeles\, 1\, Sexta Planta\, 28014 Madrid\, España
CATEGORIES:Pública
END:VEVENT
BEGIN:VEVENT
DTSTART;TZID=Europe/Madrid:20220622T100000
DTEND;TZID=Europe/Madrid:20220622T110000
DTSTAMP:20260423T232556
CREATED:20220616T101012Z
LAST-MODIFIED:20220616T101012Z
UID:10030226-1655892000-1655895600@fravm.org
SUMMARY:Asistencia a la Reunión del Pleno del Consejo Social de la Ciudad de Madrid
DESCRIPTION:
URL:https://fravm.org/evento/asistencia-a-la-reunion-del-pleno-del-consejo-social-de-la-ciudad-de-madrid/
LOCATION:Palacio de Cibeles\, Plaza Cibeles\, 1\, Sexta Planta\, 28014 Madrid\, España
CATEGORIES:Pública
END:VEVENT
BEGIN:VEVENT
DTSTART;TZID=Europe/Madrid:20220622T093000
DTEND;TZID=Europe/Madrid:20220622T103000
DTSTAMP:20260423T232556
CREATED:20220621T134010Z
LAST-MODIFIED:20220621T134010Z
UID:10030234-1655890200-1655893800@fravm.org
SUMMARY:Asistencia a reunión de la Comisión de Pleno de Desarrollo Urbano
DESCRIPTION:
URL:https://fravm.org/evento/asistencia-a-reunion-de-la-comision-de-pleno-de-desarrollo-urbano/
CATEGORIES:Pública
END:VEVENT
BEGIN:VEVENT
DTSTART;TZID=Europe/Madrid:20220621T183000
DTEND;TZID=Europe/Madrid:20220621T193000
DTSTAMP:20260423T232556
CREATED:20220621T132011Z
LAST-MODIFIED:20220621T132011Z
UID:10030232-1655836200-1655839800@fravm.org
SUMMARY:Reunión extraordinaria de la Junta Directiva de la FRAVM
DESCRIPTION:
URL:https://fravm.org/evento/reunion-extraordinaria-de-la-junta-directiva-de-la-fravm-2/
CATEGORIES:Pública
END:VEVENT
BEGIN:VEVENT
DTSTART;TZID=Europe/Madrid:20220621T173000
DTEND;TZID=Europe/Madrid:20220621T183000
DTSTAMP:20260423T232556
CREATED:20220621T132011Z
LAST-MODIFIED:20220621T132011Z
UID:10030230-1655832600-1655836200@fravm.org
SUMMARY:Asistencia a reunión de la Plataforma Justa Freire
DESCRIPTION:
URL:https://fravm.org/evento/asistencia-a-reunion-de-la-plataforma-justa-freire-2/
LOCATION:Online
CATEGORIES:Pública
END:VEVENT
BEGIN:VEVENT
DTSTART;TZID=Europe/Madrid:20220621T133000
DTEND;TZID=Europe/Madrid:20220621T143000
DTSTAMP:20260423T232556
CREATED:20220621T132010Z
LAST-MODIFIED:20220621T132010Z
UID:10030229-1655818200-1655821800@fravm.org
SUMMARY:Reunión Concertación 2022 PIBAS Zofio
DESCRIPTION:
URL:https://fravm.org/evento/reunion-concertacion-2022-pibas-zofio/
LOCATION:Online
CATEGORIES:Pública
END:VEVENT
BEGIN:VEVENT
DTSTART;TZID=Europe/Madrid:20220621T130000
DTEND;TZID=Europe/Madrid:20220621T140000
DTSTAMP:20260423T232556
CREATED:20220616T001010Z
LAST-MODIFIED:20220616T001010Z
UID:10039219-1655816400-1655820000@fravm.org
SUMMARY:Reunión con Director General de Espacio Público\,  obras e infraestructuras
DESCRIPTION:Tema Valdecarros
URL:https://fravm.org/evento/reunion-con-director-general-de-espacio-publico-obras-e-infraestructuras/
LOCATION:C. de Alcalá\, 45\, 28014 Madrid\, España
CATEGORIES:Pública
END:VEVENT
BEGIN:VEVENT
DTSTART;TZID=Europe/Madrid:20220621T120000
DTEND;TZID=Europe/Madrid:20220621T130000
DTSTAMP:20260423T232556
CREATED:20220616T101012Z
LAST-MODIFIED:20220616T101012Z
UID:10030224-1655812800-1655816400@fravm.org
SUMMARY:Asistencia a Reunión de la comisión permanente del Consejo de las Personas Mayores de la ciudad de Madrid
DESCRIPTION:
URL:https://fravm.org/evento/asistencia-a-reunion-de-la-comision-permanente-del-consejo-de-las-personas-mayores-de-la-ciudad-de-madrid/
LOCATION:Online
CATEGORIES:Pública
END:VEVENT
BEGIN:VEVENT
DTSTART;TZID=Europe/Madrid:20220621T100000
DTEND;TZID=Europe/Madrid:20220621T140000
DTSTAMP:20260423T232556
CREATED:20220530T082011Z
LAST-MODIFIED:20220530T082011Z
UID:10039178-1655805600-1655820000@fravm.org
SUMMARY:Asistencia a las vistas de las Juntas Arbitrales de Consumo de la Comunidad de Madrid
DESCRIPTION:
URL:https://fravm.org/evento/asistencia-a-las-vistas-de-las-juntas-arbitrales-de-consumo-de-la-comunidad-de-madrid-10/
LOCATION:Junta Arbitral de Consumo de la Comunidad Autónoma de Madrid\, C. de Ramírez de Prado\, 5 bis\, 28045 Madrid\, España
CATEGORIES:Pública
END:VEVENT
BEGIN:VEVENT
DTSTART;TZID=Europe/Madrid:20220620T163000
DTEND;TZID=Europe/Madrid:20220620T173000
DTSTAMP:20260423T232556
CREATED:20220616T101012Z
LAST-MODIFIED:20220616T101012Z
UID:10030223-1655742600-1655746200@fravm.org
SUMMARY:Asistencia a Reunión Concertación 2023 PIBAS Puente de Vallecas
DESCRIPTION:
URL:https://fravm.org/evento/asistencia-a-reunion-concertacion-2023-pibas-puente-de-vallecas/
LOCATION:Junta Municipal Puente De Vallecas\, 28038 Madrid\, España
CATEGORIES:Pública
END:VEVENT
BEGIN:VEVENT
DTSTART;TZID=Europe/Madrid:20220620T123000
DTEND;TZID=Europe/Madrid:20220620T133000
DTSTAMP:20260423T232556
CREATED:20220616T101011Z
LAST-MODIFIED:20220616T101011Z
UID:10039221-1655728200-1655731800@fravm.org
SUMMARY:Asistencia a la Comisión Permanente Ordinaria del Pleno Hacienda y Personal y de Economía\, Innovación y Empleo
DESCRIPTION:
URL:https://fravm.org/evento/asistencia-a-la-comision-permanente-ordinaria-del-pleno-hacienda-y-personal-y-de-economia-innovacion-y-empleo/
LOCATION:Online
CATEGORIES:Pública
END:VEVENT
BEGIN:VEVENT
DTSTART;TZID=Europe/Madrid:20220618T091500
DTEND;TZID=Europe/Madrid:20220618T140000
DTSTAMP:20260423T232556
CREATED:20220616T073011Z
LAST-MODIFIED:20220616T073011Z
UID:10039220-1655543700-1655560800@fravm.org
SUMMARY:Asistencia a la Reunión del Consejo Confederal de CEAV
DESCRIPTION:
URL:https://fravm.org/evento/asistencia-a-la-reunion-del-consejo-confederal-de-ceav/
LOCATION:Espacio Vecinal Paco Caño\, Calle San Cosme y San Damián\, 24\, 1º dcha.\, Madrid\, Madrid\, España
CATEGORIES:Pública
GEO:40.4088411;-3.6987862
X-APPLE-STRUCTURED-LOCATION;VALUE=URI;X-ADDRESS=Espacio Vecinal Paco Caño Calle San Cosme y San Damián 24 1º dcha. Madrid Madrid España;X-APPLE-RADIUS=500;X-TITLE=Calle San Cosme y San Damián\, 24\, 1º dcha.:geo:-3.6987862,40.4088411
END:VEVENT
BEGIN:VEVENT
DTSTART;TZID=Europe/Madrid:20220617T190000
DTEND;TZID=Europe/Madrid:20220617T200000
DTSTAMP:20260423T232556
CREATED:20220616T001010Z
LAST-MODIFIED:20220616T001010Z
UID:10039218-1655492400-1655496000@fravm.org
SUMMARY:Intervención en Mesa sobre Vivienda
DESCRIPTION:
URL:https://fravm.org/evento/intervencion-en-mesa-sobre-vivienda/
LOCATION:Centro Pastoral San Carlos Borromeo\, C. del Conde Rodríguez San Pedro\, 1\, 28053 Madrid\, España
CATEGORIES:Pública
END:VEVENT
BEGIN:VEVENT
DTSTART;TZID=Europe/Madrid:20220617T123000
DTEND;TZID=Europe/Madrid:20220617T133000
DTSTAMP:20260423T232556
CREATED:20220616T001009Z
LAST-MODIFIED:20220616T001009Z
UID:10039217-1655469000-1655472600@fravm.org
SUMMARY:Reunión con Concejal JMD Hortaleza
DESCRIPTION:Asiste AV Manoteras\nTema Plaza del Encuentro (PIBAS)
URL:https://fravm.org/evento/reunion-con-concejal-jmd-hortaleza/
LOCATION:Online
CATEGORIES:Pública
END:VEVENT
BEGIN:VEVENT
DTSTART;TZID=Europe/Madrid:20220617T100000
DTEND;TZID=Europe/Madrid:20220617T110000
DTSTAMP:20260423T232556
CREATED:20220613T100011Z
LAST-MODIFIED:20220613T100011Z
UID:10039207-1655460000-1655463600@fravm.org
SUMMARY:Asistencia al Acto de Presentación del Plan Rehabilita 2022
DESCRIPTION:
URL:https://fravm.org/evento/asistencia-al-acto-de-presentacion-del-plan-rehabilita-2022/
LOCATION:Palacio de Cibeles. Plaza de Cibeles
CATEGORIES:Pública
END:VEVENT
BEGIN:VEVENT
DTSTART;TZID=Europe/Madrid:20220616T200000
DTEND;TZID=Europe/Madrid:20220616T210000
DTSTAMP:20260423T232556
CREATED:20220616T001009Z
LAST-MODIFIED:20220616T001009Z
UID:10039216-1655409600-1655413200@fravm.org
SUMMARY:Intervención en Acto Conmemorativo de la Plataforma Contra la Impunidad del Franquismo
DESCRIPTION:
URL:https://fravm.org/evento/intervencion-en-acto-conmemorativo-de-la-plataforma-contra-la-impunidad-del-franquismo/
LOCATION:Puerta del Sol\, Madrid\, España
CATEGORIES:Pública
END:VEVENT
BEGIN:VEVENT
DTSTART;TZID=Europe/Madrid:20220616T180000
DTEND;TZID=Europe/Madrid:20220616T190000
DTSTAMP:20260423T232556
CREATED:20220616T001008Z
LAST-MODIFIED:20220616T001008Z
UID:10039215-1655402400-1655406000@fravm.org
SUMMARY:Reunión con representantes del grupo municipal socialista sobre cocinas fantasmas
DESCRIPTION:
URL:https://fravm.org/evento/reunion-con-representantes-del-grupo-municipal-socialista-sobre-cocinas-fantasmas/
CATEGORIES:Pública
END:VEVENT
BEGIN:VEVENT
DTSTART;TZID=Europe/Madrid:20220616T170000
DTEND;TZID=Europe/Madrid:20220616T180000
DTSTAMP:20260423T232556
CREATED:20220616T001008Z
LAST-MODIFIED:20220616T001008Z
UID:10039214-1655398800-1655402400@fravm.org
SUMMARY:Reunión con representantes del Grupo Municipal Más Madrid sobre cocinas industriales
DESCRIPTION:
URL:https://fravm.org/evento/reunion-con-representantes-del-grupo-municipal-mas-madrid-sobre-cocinas-industriales/
CATEGORIES:Pública
END:VEVENT
BEGIN:VEVENT
DTSTART;TZID=Europe/Madrid:20220616T100000
DTEND;TZID=Europe/Madrid:20220616T110000
DTSTAMP:20260423T232556
CREATED:20220615T144011Z
LAST-MODIFIED:20220615T144011Z
UID:10039213-1655373600-1655377200@fravm.org
SUMMARY:Asistencia a la Reunión de la Mesa Técnica Agenda Urbana CSC
DESCRIPTION:
URL:https://fravm.org/evento/asistencia-a-la-reunion-de-la-mesa-tecnica-agenda-urbana-csc/
LOCATION:Online
CATEGORIES:Pública
END:VEVENT
BEGIN:VEVENT
DTSTART;TZID=Europe/Madrid:20220615T193000
DTEND;TZID=Europe/Madrid:20220615T203000
DTSTAMP:20260423T232556
CREATED:20220615T144011Z
LAST-MODIFIED:20220615T144011Z
UID:10039212-1655321400-1655325000@fravm.org
SUMMARY:Reunión de la Comisión de Feminismos de la FRAVM
DESCRIPTION:
URL:https://fravm.org/evento/reunion-de-la-comision-de-feminismos-de-la-fravm/
LOCATION:Online
CATEGORIES:Pública
END:VEVENT
BEGIN:VEVENT
DTSTART;TZID=Europe/Madrid:20220615T183000
DTEND;TZID=Europe/Madrid:20220615T203000
DTSTAMP:20260423T232556
CREATED:20220926T054046Z
LAST-MODIFIED:20220926T054046Z
UID:10039384-1655317800-1655325000@fravm.org
SUMMARY:Reunión presentación Comisión Diversidad funcional y accesibilidad
DESCRIPTION:
URL:https://fravm.org/evento/reunion-presentacion-comision-diversidad-funcional-y-accesibilidad/
LOCATION:c/ Meléndez Valdés\, 24 y online
CATEGORIES:Pública
END:VEVENT
BEGIN:VEVENT
DTSTART;TZID=Europe/Madrid:20220615T183000
DTEND;TZID=Europe/Madrid:20220615T203000
DTSTAMP:20260423T232556
CREATED:20220613T111010Z
LAST-MODIFIED:20220613T111010Z
UID:10039208-1655317800-1655325000@fravm.org
SUMMARY:Reunión presentación Comisión Diversidad funcional
DESCRIPTION:
URL:https://fravm.org/evento/reunion-presentacion-comision-diversidad-funcional/
LOCATION:c/ Meléndez Valdés\, 24 y online
CATEGORIES:Pública
END:VEVENT
BEGIN:VEVENT
DTSTART;TZID=Europe/Madrid:20220615T093000
DTEND;TZID=Europe/Madrid:20220615T103000
DTSTAMP:20260423T232556
CREATED:20220615T101010Z
LAST-MODIFIED:20220615T101010Z
UID:10039211-1655285400-1655289000@fravm.org
SUMMARY:Asistencia a la Reunión de la Mesa Técnica Sectorial Movilidad y Transporte Público
DESCRIPTION:
URL:https://fravm.org/evento/asistencia-a-la-reunion-de-la-mesa-tecnica-sectorial-movilidad-y-transporte-publico-2/
LOCATION:Online
CATEGORIES:Pública
END:VEVENT
BEGIN:VEVENT
DTSTART;TZID=Europe/Madrid:20220614T183000
DTEND;TZID=Europe/Madrid:20220614T193000
DTSTAMP:20260423T232556
CREATED:20220613T134011Z
LAST-MODIFIED:20220613T134011Z
UID:10039210-1655231400-1655235000@fravm.org
SUMMARY:Asistencia a la presentación de “Cuidar Madrid” del Grupo Municipal Más Madrid
DESCRIPTION:
URL:https://fravm.org/evento/asistencia-a-la-presentacion-de-cuidar-madrid-del-grupo-municipal-mas-madrid/
LOCATION:Círculo de Bellas Artes\, C. de Alcalá\, 42\, 28014 Madrid\, España
CATEGORIES:Pública
END:VEVENT
BEGIN:VEVENT
DTSTART;TZID=Europe/Madrid:20220614T173000
DTEND;TZID=Europe/Madrid:20220614T193000
DTSTAMP:20260423T232556
CREATED:20220609T001012Z
LAST-MODIFIED:20220609T001012Z
UID:10039204-1655227800-1655235000@fravm.org
SUMMARY:Asistencia a Jornadas: ¿Qué ley de Servicios Sociales necesitamos?
DESCRIPTION:
URL:https://fravm.org/evento/asistencia-a-jornadas-que-ley-de-servicios-sociales-necesitamos/
CATEGORIES:Pública
END:VEVENT
END:VCALENDAR